Workbook
Name annee1: Configuration!$B$1
Name annee2: Configuration!$C$1
Name aout: Calendrier!$BP$6:$BT$36
Name avril: Calendrier!$AR$6:$AV$35
Name base: Configuration!$B$8
Name debutVacEte: Configuration!$F$16
Name debutVacHiverA: Configuration!$F$10
Name debutVacHiverB: Configuration!$F$11
Name debutVacHiverC: Configuration!$F$12
Name debutVacNoel: Configuration!$F$9
Name debutVacPrintempsA: Configuration!$F$13
Name debutVacPrintempsB: Configuration!$F$14
Name debutVacPrintempsC: Configuration!$F$15
Name debutVacToussaint: Configuration!$F$8
Name decembre: Calendrier!$T$6:$X$36
Name du: Configuration!$B$11
Name fevrier: Calendrier!$AF$6:$AJ$34
Name finVacEte: Configuration!$G$16
Name finVacHiverA: Configuration!$G$10
Name finVacHiverB: Configuration!$G$11
Name finVacHiverC: Configuration!$G$12
Name finVacNoel: Configuration!$G$9
Name finVacPrintempsA: Configuration!$G$13
Name finVacPrintempsB: Configuration!$G$14
Name finVacPrintempsC: Configuration!$G$15
Name finVacToussaint: Configuration!$G$8
Name fractionnement: Configuration!$B$9
Name janvier: Calendrier!$Z$6:$AD$36
Name joursFeries: Configuration!$F$22:$F$34
Name joursFeriesAvantApresDureeZero: Configuration!$G$22:$G$34
Name joursVacancesTravailles: Configuration!$I$23:$M$60
Name juillet: Calendrier!$BJ$6:$BN$36
Name juin: Calendrier!$BD$6:$BH$35
Name listeDuree: Paramétrage!$K$2:$K$367
Name listeHebdoDebut: Configuration!$K$8:$K$14
Name listeHebdoDurees: Configuration!$M$8:$M$14
Name listeHebdoFin: Configuration!$L$8:$L$14
Name listeHebdoJours: Configuration!$H$8:$H$14
Name listeHebdoRepas: Configuration!$J$8:$J$14
Name listeJours: Paramétrage!$A$2:$A$367
Name listeJoursDebut: Paramétrage!$D$2:$D$367
Name listeJoursFeries: Paramétrage!$P$2:$P$367
Name listeJoursFin: Paramétrage!$E$2:$E$367
Name listeJoursParticliers: Configuration!$I$22:$M$122
Name listeJoursRepas: Paramétrage!$C$2:$C$367
Name listeJoursTravailles: Paramétrage!$M$2:$M$367
Name listeJoursVacancesZone: Paramétrage!$S$2:$S$367
Name listeNumeroJour: Paramétrage!$B$2:$B$367
Name listeWeekEnds: Paramétrage!$Q$2:$Q$367
Name mai: Calendrier!$AX$6:$BB$36
Name mars: Calendrier!$AL$6:$AP$36
Name novembre: Calendrier!$O$6:$R$35
Name octobre: Calendrier!$H$6:$L$36
Name paques: Configuration!$F$26
Name quotite: Configuration!$B$10
Name septembre: Calendrier!$B$6:$F$35
Name zone: Configuration!$B$2

Sheet Indications
A1: #VALUE! | B1: Configuration du calcul du temps de travail des personnels administratives et ITRF
B2: Pour fonctionner correctement, il faut obligatoirement modifier un paramètre pour excel : Il faut autoriser le calcul iteratif, cela se fait on général depuis le menu d'excel : Fichier -> Options -> Formules et : cocher la case Activer le calcul iteratif. vérifier que calcul automatique est sélectionner Si une modification n'est pas immédiatemment prise en compte, il peut être nécessairede faire une sauvegarde du fichier.
B3: Pour éviter des erreurs de manipulations les feuilles sont protégée. Cependant il n'y a pas de mos de passe, donc il est possible de désactiver la protection… avec prudence. Une feuille, nommé "Paramétrage" est masquée (attentention à ne pas la supprimer) | E3: Saisie : Saisir les dates sous le format : jj/mm/aa Saisir les heures sous le format : hh:mm
B4: Une fois la configuration faites sur la feuille "Configuration". Il faut consulter la feuille "Calendrier" pour avoir les informations sur le temps de travail.
B6: Élements à préciser dans l'onglet Configuration
B7: Année scolaire : | C7: Indiquer la première année de l'année scolaire. Le calendrier se construit automatiquement du 1er septembre de la 1re année, jusqu'au 31 août de la deuxième année. Les jours fériés sont calculés automatiquement.
B8: Zone : | C8: Indique la zone scolaire | E8: Légende pour les cellules de l'onglet "Configuration"
B9: Nombre d'heures à effectuer : | C9: Les temps de travail est calculé sur la base de 1607 h Il y a deux jours de fractionnement à prendre en compte si les congés ne sont pas tous pris entre le 1er mai et le 31 octobre. Il faut préciser la quotité de travail | F9: Le contenu peut être modifieé
B10: Période de vacances scolaires : | C10: A remplir à chaque nouvelle année scolaire . Il suffit d'entrer la date de début (comme dans le calendrier officiel) | F10: Le contenu de la cellule est calculé automatique, mais peut être modifié exceptionnellement
B11: Semaine type de travail : | C11: Préciser les horaires d'une semaine type de travail. La durée est calculée à partir de la plage indiquée (fin - début) à laquelle est soustraite la durée du repas. Si cette durée atteint 6 h ou plus par jour, les 20 minutes de temps de pause sont automatiquement ajoutées.
B12: Jours à horaires particuliers : | C12: Il est possible d'indiquer des jours particuliers comme : - Les jours travaillés pendant les vacances scolaires - indiquer des horaires différents pour un jour qui est habituellement travaillé (on peut modifier les horaires pour ce jour, mettre à zero les heures pour ce jour, indiquer que ce jour est travaillé alors quand dans le semaine type il ne l'est pas).
B14: Méthode de calcul concernant les jours fériés : | C14: Si je jour férié tombe un samedi ou un dimanche il est considéré comme non travaillé. Si le jour férié tombe un jour habituellement non travaillé (dans la semaine type), il est considéré comme non travaillé. Si le jour précédent et le jour suivant ne sont pas travaillés (durée nulle pour les 2 jours), alors le jour férié est considéré comme non travaillé.

Sheet Configuration
A1: Année scolaire | B1: 2026 | C1: =annee1+1 -> 2027
A2: Zone de vacances | B2: A
A5: Nombre d'heures à effectuer Sur une base de 1607 h jours de franctionnement : OUI si tous les congés ne sont pas pris entre le 1er mai et le 31 octobre | D5: Périodes de vacances scolaires La date de début est à indiquer comme dans le calendrier officiel (les vacances débute à la fin des cours de cette journée). Les date de fin sont calculées automatiquement (au jour de reprise des cours) | I5: Semaine de travail type La durée se calcule automatiquement (ajout de 20 min travaillé si supérieur à 6h). Ces valeurs sont reportées automatiquement dans le calendrier. Pour des cas particuliers les valeurs durée repas, début et fin peuvent être modifiées directement dans le calendrier (onglet calendrier).
D7: Période | E7: Zone | F7: Début | G7: Fin | I7: Jour | J7: Durée repas | K7: Début | L7: fin | M7: durée
A8: Temps de travail annuel | B8: 1607 | D8: Toussaint | F8: 46312 | G8: =F8+16 -> 46328 | H8: 1 | I8: lundi | J8: 0.03125 | K8: 0.33333333 | L8: 0.70833333 | M8: =(L8-K8)-J8+IF((L8-K8)-J8>=TIME(6,0,0),TIME(0,20,0),TIME(0,0,0)) -> 0.35763889
A9: 2 Jours de fractionnement | B9: Oui | D9: Noël | F9: 46375 | G9: =F9+16 -> 46391 | H9: 2 | I9: mardi | J9: 0.03125 | K9: 0.33333333 | L9: 0.75 | M9: =(L9-K9)-J9+IF((L9-K9)-J9>=TIME(6,0,0),TIME(0,20,0),TIME(0,0,0)) -> 0.39930556
A10: Quotité de travail (%) | B10: 1 | D10: Hiver | E10: A | F10: 46431 | G10: =F10+16 -> 46447 | H10: 3 | I10: mercredi | J10: 0 | K10: 0.33333333 | L10: 0.54166667 | M10: =(L10-K10)-J10+IF((L10-K10)-J10>=TIME(6,0,0),TIME(0,20,0),TIME(0,0,0)) -> 0.20833333
A11: Temps de travail à effectuer | B11: =(B8+IF(B9="Oui",-14))*B10 -> 1593 | E11: B | F11: 46438 | G11: =F11+16 -> 46454 | H11: 4 | I11: jeudi | J11: 0.03125 | K11: 0.33333333 | L11: 0.70833333 | M11: =(L11-K11)-J11+IF((L11-K11)-J11>=TIME(6,0,0),TIME(0,20,0),TIME(0,0,0)) -> 0.35763889
E12: C | F12: 46424 | G12: =F12+16 -> 46440 | H12: 5 | I12: vendredi | J12: 0 | K12: 0.33333333 | L12: 0.70833333 | M12: =(L12-K12)-J12+IF((L12-K12)-J12>=TIME(6,0,0),TIME(0,20,0),TIME(0,0,0)) -> 0.38888889
D13: Printemps | E13: A | F13: 46487 | G13: =F13+16 -> 46503 | H13: 6 | I13: samedi | M13: =(L13-K13)-J13+IF((L13-K13)-J13>=TIME(6,0,0),TIME(0,20,0),TIME(0,0,0)) -> 0
E14: B | F14: 46494 | G14: =F14+16 -> 46510 | H14: 7 | I14: dimanche | M14: =(L14-K14)-J14+IF((L14-K14)-J14>=TIME(6,0,0),TIME(0,20,0),TIME(0,0,0)) -> 0
E15: C | F15: 46480 | G15: =F15+16 -> 46496 | L15: Total hebdomadaire : | M15: =SUM(M8:M14) -> 1.7118056
D16: Été | F16: 46570 | G16: =DATE(annee2,9,1) -> 46631
E19: Jours fériés : Ils sont calculé automatique à partir de l'année scolaire en cours. | I19: Tableau des jours particuliers (à rentrer sous la forme jj/mm/aa) : Ici on peut indiquer les jours depermanences qui seront travaillés pendant les périodes de vacances élèves, ou changer pour une ou plusieurs dates précises les horaires (mettre à zero, ou modifier). Pour chaque date il faut préciser la durée du repas, le début et la fin du travail. Sur le côté de ce tableau apparaissent des pictogrammes pour alerter l'utilisateur. Quand on efface une date, il faut penser à effacer les horaires. Il n'est pas obligatoire de mettre les date dans l'ordre chronologique. Cependant il es possible par la suite de le trier.
E21: Jour | F21: Date | G21: J-1 et J+1 non travaillés | I21: Jour | J21: Durée repas | K21: Début | L21: Fin | M21: Durée | O21: durée négative | P21: Hors calendrier scolaire | Q21: Dimanche | R21: Jour férié | S21: Vacances Scolaire | T21: Jour de la semaine habituellement non travaillé | U21: Samedi | V21: Durée nulle
E22: Toussaint | F22: =DATE(annee1,11,1) -> 46327 | G22: =AND(_xlfn.XLOOKUP(F22-1,listeJours,listeDuree)=0,_xlfn.XLOOKUP(F22+1,listeJours,listeDuree)=0) -> FALSE | O22: =IF(I22="","",IF(M22<0,1,0)) | P22: =IF(I22="","",IF(OR(I22<DATE(annee1,9,1),I22>DATE(annee2,8,31)),1,0)) | Q22: =IF(I22="","",IF(WEEKDAY(I22,2)=7,1,0)) | R22: =IFERROR(IF(AND(I22,_xlfn.XLOOKUP(I22,listeJours,listeJoursFeries)),1,0),"") | S22: =IFERROR(IF(AND(I22,_xlfn.XLOOKUP(I22,listeJours,listeJoursVacancesZone)),1,0),"") | T22: =IF(I22="","",IF(NOT(_xlfn.XLOOKUP(WEEKDAY(I22,2),listeHebdoJours,listeHebdoDurees)),1,0)) | U22: =IF(I22="","",IF(WEEKDAY(I22,2)=6,1,0)) | V22: =IF(I22="","",IF(M22=0,1,0))
E23: Armistice | F23: =DATE(annee1,11,11) -> 46337 | G23: =AND(_xlfn.XLOOKUP(F23-1,listeJours,listeDuree)=0,_xlfn.XLOOKUP(F23+1,listeJours,listeDuree)=0) -> FALSE | O23: =IF(I23="","",IF(M23<0,1,0)) | P23: =IF(I23="","",IF(OR(I23<DATE(annee1,9,1),I23>DATE(annee2,8,31)),1,0)) | Q23: =IF(I23="","",IF(WEEKDAY(I23,2)=7,1,0)) | R23: =IFERROR(IF(AND(I23,_xlfn.XLOOKUP(I23,listeJours,listeJoursFeries)),1,0),"") | S23: =IFERROR(IF(AND(I23,_xlfn.XLOOKUP(I23,listeJours,listeJoursVacancesZone)),1,0),"") | T23: =IF(I23="","",IF(NOT(_xlfn.XLOOKUP(WEEKDAY(I23,2),listeHebdoJours,listeHebdoDurees)),1,0)) | U23: =IF(I23="","",IF(WEEKDAY(I23,2)=6,1,0)) | V23: =IF(I23="","",IF(M23=0,1,0))
E24: Noël | F24: =DATE(annee1,12,25) -> 46381 | G24: =AND(_xlfn.XLOOKUP(F24-1,listeJours,listeDuree)=0,_xlfn.XLOOKUP(F24+1,listeJours,listeDuree)=0) -> TRUE | O24: =IF(I24="","",IF(M24<0,1,0)) | P24: =IF(I24="","",IF(OR(I24<DATE(annee1,9,1),I24>DATE(annee2,8,31)),1,0)) | Q24: =IF(I24="","",IF(WEEKDAY(I24,2)=7,1,0)) | R24: =IFERROR(IF(AND(I24,_xlfn.XLOOKUP(I24,listeJours,listeJoursFeries)),1,0),"") | S24: =IFERROR(IF(AND(I24,_xlfn.XLOOKUP(I24,listeJours,listeJoursVacancesZone)),1,0),"") | T24: =IF(I24="","",IF(NOT(_xlfn.XLOOKUP(WEEKDAY(I24,2),listeHebdoJours,listeHebdoDurees)),1,0)) | U24: =IF(I24="","",IF(WEEKDAY(I24,2)=6,1,0)) | V24: =IF(I24="","",IF(M24=0,1,0))
E25: Nouvel an | F25: =DATE(annee2,1,1) -> 46388 | G25: =AND(_xlfn.XLOOKUP(F25-1,listeJours,listeDuree)=0,_xlfn.XLOOKUP(F25+1,listeJours,listeDuree)=0) -> TRUE | O25: =IF(I25="","",IF(M25<0,1,0)) | P25: =IF(I25="","",IF(OR(I25<DATE(annee1,9,1),I25>DATE(annee2,8,31)),1,0)) | Q25: =IF(I25="","",IF(WEEKDAY(I25,2)=7,1,0)) | R25: =IFERROR(IF(AND(I25,_xlfn.XLOOKUP(I25,listeJours,listeJoursFeries)),1,0),"") | S25: =IFERROR(IF(AND(I25,_xlfn.XLOOKUP(I25,listeJours,listeJoursVacancesZone)),1,0),"") | T25: =IF(I25="","",IF(NOT(_xlfn.XLOOKUP(WEEKDAY(I25,2),listeHebdoJours,listeHebdoDurees)),1,0)) | U25: =IF(I25="","",IF(WEEKDAY(I25,2)=6,1,0)) | V25: =IF(I25="","",IF(M25=0,1,0))
E26: Pâques | F26: =ROUND(DATE(annee2,4,MOD(234-11*MOD(annee2,19),30))/7,0)*7-6 -> 46474 | G26: =AND(_xlfn.XLOOKUP(F26-1,listeJours,listeDuree)=0,_xlfn.XLOOKUP(F26+1,listeJours,listeDuree)=0) -> FALSE | O26: =IF(I26="","",IF(M26<0,1,0)) | P26: =IF(I26="","",IF(OR(I26<DATE(annee1,9,1),I26>DATE(annee2,8,31)),1,0)) | Q26: =IF(I26="","",IF(WEEKDAY(I26,2)=7,1,0)) | R26: =IFERROR(IF(AND(I26,_xlfn.XLOOKUP(I26,listeJours,listeJoursFeries)),1,0),"") | S26: =IFERROR(IF(AND(I26,_xlfn.XLOOKUP(I26,listeJours,listeJoursVacancesZone)),1,0),"") | T26: =IF(I26="","",IF(NOT(_xlfn.XLOOKUP(WEEKDAY(I26,2),listeHebdoJours,listeHebdoDurees)),1,0)) | U26: =IF(I26="","",IF(WEEKDAY(I26,2)=6,1,0)) | V26: =IF(I26="","",IF(M26=0,1,0))
E27: Lundi de Pâques | F27: =paques+1 -> 46475 | G27: =AND(_xlfn.XLOOKUP(F27-1,listeJours,listeDuree)=0,_xlfn.XLOOKUP(F27+1,listeJours,listeDuree)=0) -> FALSE | O27: =IF(I27="","",IF(M27<0,1,0)) | P27: =IF(I27="","",IF(OR(I27<DATE(annee1,9,1),I27>DATE(annee2,8,31)),1,0)) | Q27: =IF(I27="","",IF(WEEKDAY(I27,2)=7,1,0)) | R27: =IFERROR(IF(AND(I27,_xlfn.XLOOKUP(I27,listeJours,listeJoursFeries)),1,0),"") | S27: =IFERROR(IF(AND(I27,_xlfn.XLOOKUP(I27,listeJours,listeJoursVacancesZone)),1,0),"") | T27: =IF(I27="","",IF(NOT(_xlfn.XLOOKUP(WEEKDAY(I27,2),listeHebdoJours,listeHebdoDurees)),1,0)) | U27: =IF(I27="","",IF(WEEKDAY(I27,2)=6,1,0)) | V27: =IF(I27="","",IF(M27=0,1,0))
E28: Fête du travail | F28: =DATE(annee2,5,1) -> 46508 | G28: =AND(_xlfn.XLOOKUP(F28-1,listeJours,listeDuree)=0,_xlfn.XLOOKUP(F28+1,listeJours,listeDuree)=0) -> FALSE | O28: =IF(I28="","",IF(M28<0,1,0)) | P28: =IF(I28="","",IF(OR(I28<DATE(annee1,9,1),I28>DATE(annee2,8,31)),1,0)) | Q28: =IF(I28="","",IF(WEEKDAY(I28,2)=7,1,0)) | R28: =IFERROR(IF(AND(I28,_xlfn.XLOOKUP(I28,listeJours,listeJoursFeries)),1,0),"") | S28: =IFERROR(IF(AND(I28,_xlfn.XLOOKUP(I28,listeJours,listeJoursVacancesZone)),1,0),"") | T28: =IF(I28="","",IF(NOT(_xlfn.XLOOKUP(WEEKDAY(I28,2),listeHebdoJours,listeHebdoDurees)),1,0)) | U28: =IF(I28="","",IF(WEEKDAY(I28,2)=6,1,0)) | V28: =IF(I28="","",IF(M28=0,1,0))
E29: Jeudi de l'ascencion | F29: =paques+39 -> 46513 | G29: =AND(_xlfn.XLOOKUP(F29-1,listeJours,listeDuree)=0,_xlfn.XLOOKUP(F29+1,listeJours,listeDuree)=0) -> FALSE | O29: =IF(I29="","",IF(M29<0,1,0)) | P29: =IF(I29="","",IF(OR(I29<DATE(annee1,9,1),I29>DATE(annee2,8,31)),1,0)) | Q29: =IF(I29="","",IF(WEEKDAY(I29,2)=7,1,0)) | R29: =IFERROR(IF(AND(I29,_xlfn.XLOOKUP(I29,listeJours,listeJoursFeries)),1,0),"") | S29: =IFERROR(IF(AND(I29,_xlfn.XLOOKUP(I29,listeJours,listeJoursVacancesZone)),1,0),"") | T29: =IF(I29="","",IF(NOT(_xlfn.XLOOKUP(WEEKDAY(I29,2),listeHebdoJours,listeHebdoDurees)),1,0)) | U29: =IF(I29="","",IF(WEEKDAY(I29,2)=6,1,0)) | V29: =IF(I29="","",IF(M29=0,1,0))
E30: Pont de l'ascension | F30: =paques+40 -> 46514 | G30: =TRUE() -> TRUE | O30: =IF(I30="","",IF(M30<0,1,0)) | P30: =IF(I30="","",IF(OR(I30<DATE(annee1,9,1),I30>DATE(annee2,8,31)),1,0)) | Q30: =IF(I30="","",IF(WEEKDAY(I30,2)=7,1,0)) | R30: =IFERROR(IF(AND(I30,_xlfn.XLOOKUP(I30,listeJours,listeJoursFeries)),1,0),"") | S30: =IFERROR(IF(AND(I30,_xlfn.XLOOKUP(I30,listeJours,listeJoursVacancesZone)),1,0),"") | T30: =IF(I30="","",IF(NOT(_xlfn.XLOOKUP(WEEKDAY(I30,2),listeHebdoJours,listeHebdoDurees)),1,0)) | U30: =IF(I30="","",IF(WEEKDAY(I30,2)=6,1,0)) | V30: =IF(I30="","",IF(M30=0,1,0))
E31: 53090 | F31: =DATE(annee2,5,8) -> 46515 | G31: =AND(_xlfn.XLOOKUP(F31-1,listeJours,listeDuree)=0,_xlfn.XLOOKUP(F31+1,listeJours,listeDuree)=0) -> TRUE | O31: =IF(I31="","",IF(M31<0,1,0)) | P31: =IF(I31="","",IF(OR(I31<DATE(annee1,9,1),I31>DATE(annee2,8,31)),1,0)) | Q31: =IF(I31="","",IF(WEEKDAY(I31,2)=7,1,0)) | R31: =IFERROR(IF(AND(I31,_xlfn.XLOOKUP(I31,listeJours,listeJoursFeries)),1,0),"") | S31: =IFERROR(IF(AND(I31,_xlfn.XLOOKUP(I31,listeJours,listeJoursVacancesZone)),1,0),"") | T31: =IF(I31="","",IF(NOT(_xlfn.XLOOKUP(WEEKDAY(I31,2),listeHebdoJours,listeHebdoDurees)),1,0)) | U31: =IF(I31="","",IF(WEEKDAY(I31,2)=6,1,0)) | V31: =IF(I31="","",IF(M31=0,1,0))
E32: Lundi de Pentecôte | F32: =paques+50 -> 46524 | G32: =AND(_xlfn.XLOOKUP(F32-1,listeJours,listeDuree)=0,_xlfn.XLOOKUP(F32+1,listeJours,listeDuree)=0) -> FALSE | O32: =IF(I32="","",IF(M32<0,1,0)) | P32: =IF(I32="","",IF(OR(I32<DATE(annee1,9,1),I32>DATE(annee2,8,31)),1,0)) | Q32: =IF(I32="","",IF(WEEKDAY(I32,2)=7,1,0)) | R32: =IFERROR(IF(AND(I32,_xlfn.XLOOKUP(I32,listeJours,listeJoursFeries)),1,0),"") | S32: =IFERROR(IF(AND(I32,_xlfn.XLOOKUP(I32,listeJours,listeJoursVacancesZone)),1,0),"") | T32: =IF(I32="","",IF(NOT(_xlfn.XLOOKUP(WEEKDAY(I32,2),listeHebdoJours,listeHebdoDurees)),1,0)) | U32: =IF(I32="","",IF(WEEKDAY(I32,2)=6,1,0)) | V32: =IF(I32="","",IF(M32=0,1,0))
E33: 46217 | F33: =DATE(annee2,7,14) -> 46582 | G33: =AND(_xlfn.XLOOKUP(F33-1,listeJours,listeDuree)=0,_xlfn.XLOOKUP(F33+1,listeJours,listeDuree)=0) -> TRUE | O33: =IF(I33="","",IF(M33<0,1,0)) | P33: =IF(I33="","",IF(OR(I33<DATE(annee1,9,1),I33>DATE(annee2,8,31)),1,0)) | Q33: =IF(I33="","",IF(WEEKDAY(I33,2)=7,1,0)) | R33: =IFERROR(IF(AND(I33,_xlfn.XLOOKUP(I33,listeJours,listeJoursFeries)),1,0),"") | S33: =IFERROR(IF(AND(I33,_xlfn.XLOOKUP(I33,listeJours,listeJoursVacancesZone)),1,0),"") | T33: =IF(I33="","",IF(NOT(_xlfn.XLOOKUP(WEEKDAY(I33,2),listeHebdoJours,listeHebdoDurees)),1,0)) | U33: =IF(I33="","",IF(WEEKDAY(I33,2)=6,1,0)) | V33: =IF(I33="","",IF(M33=0,1,0))
E34: 46249 | F34: =DATE(annee2,8,15) -> 46614 | G34: =AND(_xlfn.XLOOKUP(F34-1,listeJours,listeDuree)=0,_xlfn.XLOOKUP(F34+1,listeJours,listeDuree)=0) -> TRUE | O34: =IF(I34="","",IF(M34<0,1,0)) | P34: =IF(I34="","",IF(OR(I34<DATE(annee1,9,1),I34>DATE(annee2,8,31)),1,0)) | Q34: =IF(I34="","",IF(WEEKDAY(I34,2)=7,1,0)) | R34: =IFERROR(IF(AND(I34,_xlfn.XLOOKUP(I34,listeJours,listeJoursFeries)),1,0),"") | S34: =IFERROR(IF(AND(I34,_xlfn.XLOOKUP(I34,listeJours,listeJoursVacancesZone)),1,0),"") | T34: =IF(I34="","",IF(NOT(_xlfn.XLOOKUP(WEEKDAY(I34,2),listeHebdoJours,listeHebdoDurees)),1,0)) | U34: =IF(I34="","",IF(WEEKDAY(I34,2)=6,1,0)) | V34: =IF(I34="","",IF(M34=0,1,0))
O35: =IF(I35="","",IF(M35<0,1,0)) | P35: =IF(I35="","",IF(OR(I35<DATE(annee1,9,1),I35>DATE(annee2,8,31)),1,0)) | Q35: =IF(I35="","",IF(WEEKDAY(I35,2)=7,1,0)) | R35: =IFERROR(IF(AND(I35,_xlfn.XLOOKUP(I35,listeJours,listeJoursFeries)),1,0),"") | S35: =IFERROR(IF(AND(I35,_xlfn.XLOOKUP(I35,listeJours,listeJoursVacancesZone)),1,0),"") | T35: =IF(I35="","",IF(NOT(_xlfn.XLOOKUP(WEEKDAY(I35,2),listeHebdoJours,listeHebdoDurees)),1,0)) | U35: =IF(I35="","",IF(WEEKDAY(I35,2)=6,1,0)) | V35: =IF(I35="","",IF(M35=0,1,0))
O36: =IF(I36="","",IF(M36<0,1,0)) | P36: =IF(I36="","",IF(OR(I36<DATE(annee1,9,1),I36>DATE(annee2,8,31)),1,0)) | Q36: =IF(I36="","",IF(WEEKDAY(I36,2)=7,1,0)) | R36: =IFERROR(IF(AND(I36,_xlfn.XLOOKUP(I36,listeJours,listeJoursFeries)),1,0),"") | S36: =IFERROR(IF(AND(I36,_xlfn.XLOOKUP(I36,listeJours,listeJoursVacancesZone)),1,0),"") | T36: =IF(I36="","",IF(NOT(_xlfn.XLOOKUP(WEEKDAY(I36,2),listeHebdoJours,listeHebdoDurees)),1,0)) | U36: =IF(I36="","",IF(WEEKDAY(I36,2)=6,1,0)) | V36: =IF(I36="","",IF(M36=0,1,0))
O37: =IF(I37="","",IF(M37<0,1,0)) | P37: =IF(I37="","",IF(OR(I37<DATE(annee1,9,1),I37>DATE(annee2,8,31)),1,0)) | Q37: =IF(I37="","",IF(WEEKDAY(I37,2)=7,1,0)) | R37: =IFERROR(IF(AND(I37,_xlfn.XLOOKUP(I37,listeJours,listeJoursFeries)),1,0),"") | S37: =IFERROR(IF(AND(I37,_xlfn.XLOOKUP(I37,listeJours,listeJoursVacancesZone)),1,0),"") | T37: =IF(I37="","",IF(NOT(_xlfn.XLOOKUP(WEEKDAY(I37,2),listeHebdoJours,listeHebdoDurees)),1,0)) | U37: =IF(I37="","",IF(WEEKDAY(I37,2)=6,1,0)) | V37: =IF(I37="","",IF(M37=0,1,0))
O38: =IF(I38="","",IF(M38<0,1,0)) | P38: =IF(I38="","",IF(OR(I38<DATE(annee1,9,1),I38>DATE(annee2,8,31)),1,0)) | Q38: =IF(I38="","",IF(WEEKDAY(I38,2)=7,1,0)) | R38: =IFERROR(IF(AND(I38,_xlfn.XLOOKUP(I38,listeJours,listeJoursFeries)),1,0),"") | S38: =IFERROR(IF(AND(I38,_xlfn.XLOOKUP(I38,listeJours,listeJoursVacancesZone)),1,0),"") | T38: =IF(I38="","",IF(NOT(_xlfn.XLOOKUP(WEEKDAY(I38,2),listeHebdoJours,listeHebdoDurees)),1,0)) | U38: =IF(I38="","",IF(WEEKDAY(I38,2)=6,1,0)) | V38: =IF(I38="","",IF(M38=0,1,0))
O39: =IF(I39="","",IF(M39<0,1,0)) | P39: =IF(I39="","",IF(OR(I39<DATE(annee1,9,1),I39>DATE(annee2,8,31)),1,0)) | Q39: =IF(I39="","",IF(WEEKDAY(I39,2)=7,1,0)) | R39: =IFERROR(IF(AND(I39,_xlfn.XLOOKUP(I39,listeJours,listeJoursFeries)),1,0),"") | S39: =IFERROR(IF(AND(I39,_xlfn.XLOOKUP(I39,listeJours,listeJoursVacancesZone)),1,0),"") | T39: =IF(I39="","",IF(NOT(_xlfn.XLOOKUP(WEEKDAY(I39,2),listeHebdoJours,listeHebdoDurees)),1,0)) | U39: =IF(I39="","",IF(WEEKDAY(I39,2)=6,1,0)) | V39: =IF(I39="","",IF(M39=0,1,0))
O40: =IF(I40="","",IF(M40<0,1,0)) | P40: =IF(I40="","",IF(OR(I40<DATE(annee1,9,1),I40>DATE(annee2,8,31)),1,0)) | Q40: =IF(I40="","",IF(WEEKDAY(I40,2)=7,1,0)) | R40: =IFERROR(IF(AND(I40,_xlfn.XLOOKUP(I40,listeJours,listeJoursFeries)),1,0),"") | S40: =IFERROR(IF(AND(I40,_xlfn.XLOOKUP(I40,listeJours,listeJoursVacancesZone)),1,0),"") | T40: =IF(I40="","",IF(NOT(_xlfn.XLOOKUP(WEEKDAY(I40,2),listeHebdoJours,listeHebdoDurees)),1,0)) | U40: =IF(I40="","",IF(WEEKDAY(I40,2)=6,1,0)) | V40: =IF(I40="","",IF(M40=0,1,0))
O41: =IF(I41="","",IF(M41<0,1,0)) | P41: =IF(I41="","",IF(OR(I41<DATE(annee1,9,1),I41>DATE(annee2,8,31)),1,0)) | Q41: =IF(I41="","",IF(WEEKDAY(I41,2)=7,1,0)) | R41: =IFERROR(IF(AND(I41,_xlfn.XLOOKUP(I41,listeJours,listeJoursFeries)),1,0),"") | S41: =IFERROR(IF(AND(I41,_xlfn.XLOOKUP(I41,listeJours,listeJoursVacancesZone)),1,0),"") | T41: =IF(I41="","",IF(NOT(_xlfn.XLOOKUP(WEEKDAY(I41,2),listeHebdoJours,listeHebdoDurees)),1,0)) | U41: =IF(I41="","",IF(WEEKDAY(I41,2)=6,1,0)) | V41: =IF(I41="","",IF(M41=0,1,0))
O42: =IF(I42="","",IF(M42<0,1,0)) | P42: =IF(I42="","",IF(OR(I42<DATE(annee1,9,1),I42>DATE(annee2,8,31)),1,0)) | Q42: =IF(I42="","",IF(WEEKDAY(I42,2)=7,1,0)) | R42: =IFERROR(IF(AND(I42,_xlfn.XLOOKUP(I42,listeJours,listeJoursFeries)),1,0),"") | S42: =IFERROR(IF(AND(I42,_xlfn.XLOOKUP(I42,listeJours,listeJoursVacancesZone)),1,0),"") | T42: =IF(I42="","",IF(NOT(_xlfn.XLOOKUP(WEEKDAY(I42,2),listeHebdoJours,listeHebdoDurees)),1,0)) | U42: =IF(I42="","",IF(WEEKDAY(I42,2)=6,1,0)) | V42: =IF(I42="","",IF(M42=0,1,0))
O43: =IF(I43="","",IF(M43<0,1,0)) | P43: =IF(I43="","",IF(OR(I43<DATE(annee1,9,1),I43>DATE(annee2,8,31)),1,0)) | Q43: =IF(I43="","",IF(WEEKDAY(I43,2)=7,1,0)) | R43: =IFERROR(IF(AND(I43,_xlfn.XLOOKUP(I43,listeJours,listeJoursFeries)),1,0),"") | S43: =IFERROR(IF(AND(I43,_xlfn.XLOOKUP(I43,listeJours,listeJoursVacancesZone)),1,0),"") | T43: =IF(I43="","",IF(NOT(_xlfn.XLOOKUP(WEEKDAY(I43,2),listeHebdoJours,listeHebdoDurees)),1,0)) | U43: =IF(I43="","",IF(WEEKDAY(I43,2)=6,1,0)) | V43: =IF(I43="","",IF(M43=0,1,0))
M44: =IF(I44="","",(L44-K44)-J44+IF((L44-K44)-J44>=TIME(6,0,0),TIME(0,20,0),TIME(0,0,0))) | O44: =IF(I44="","",IF(M44<0,1,0)) | P44: =IF(I44="","",IF(OR(I44<DATE(annee1,9,1),I44>DATE(annee2,8,31)),1,0)) | Q44: =IF(I44="","",IF(WEEKDAY(I44,2)=7,1,0)) | R44: =IFERROR(IF(AND(I44,_xlfn.XLOOKUP(I44,listeJours,listeJoursFeries)),1,0),"") | S44: =IFERROR(IF(AND(I44,_xlfn.XLOOKUP(I44,listeJours,listeJoursVacancesZone)),1,0),"") | T44: =IF(I44="","",IF(NOT(_xlfn.XLOOKUP(WEEKDAY(I44,2),listeHebdoJours,listeHebdoDurees)),1,0)) | U44: =IF(I44="","",IF(WEEKDAY(I44,2)=6,1,0)) | V44: =IF(I44="","",IF(M44=0,1,0))
M45: =IF(I45="","",(L45-K45)-J45+IF((L45-K45)-J45>=TIME(6,0,0),TIME(0,20,0),TIME(0,0,0))) | O45: =IF(I45="","",IF(M45<0,1,0)) | P45: =IF(I45="","",IF(OR(I45<DATE(annee1,9,1),I45>DATE(annee2,8,31)),1,0)) | Q45: =IF(I45="","",IF(WEEKDAY(I45,2)=7,1,0)) | R45: =IFERROR(IF(AND(I45,_xlfn.XLOOKUP(I45,listeJours,listeJoursFeries)),1,0),"") | S45: =IFERROR(IF(AND(I45,_xlfn.XLOOKUP(I45,listeJours,listeJoursVacancesZone)),1,0),"") | T45: =IF(I45="","",IF(NOT(_xlfn.XLOOKUP(WEEKDAY(I45,2),listeHebdoJours,listeHebdoDurees)),1,0)) | U45: =IF(I45="","",IF(WEEKDAY(I45,2)=6,1,0)) | V45: =IF(I45="","",IF(M45=0,1,0))
M46: =IF(I46="","",(L46-K46)-J46+IF((L46-K46)-J46>=TIME(6,0,0),TIME(0,20,0),TIME(0,0,0))) | O46: =IF(I46="","",IF(M46<0,1,0)) | P46: =IF(I46="","",IF(OR(I46<DATE(annee1,9,1),I46>DATE(annee2,8,31)),1,0)) | Q46: =IF(I46="","",IF(WEEKDAY(I46,2)=7,1,0)) | R46: =IFERROR(IF(AND(I46,_xlfn.XLOOKUP(I46,listeJours,listeJoursFeries)),1,0),"") | S46: =IFERROR(IF(AND(I46,_xlfn.XLOOKUP(I46,listeJours,listeJoursVacancesZone)),1,0),"") | T46: =IF(I46="","",IF(NOT(_xlfn.XLOOKUP(WEEKDAY(I46,2),listeHebdoJours,listeHebdoDurees)),1,0)) | U46: =IF(I46="","",IF(WEEKDAY(I46,2)=6,1,0)) | V46: =IF(I46="","",IF(M46=0,1,0))
...

Sheet Calendrier
B2: #VALUE! | C2: ="Année scolaire "&annee1&" - "&annee2&" Zone "&zone -> Année scolaire 2026 - 2027 Zone A
B4: =DATE(annee1,9,1) -> 46266 | H4: =EDATE(B4,1) -> 46296 | N4: =EDATE(H4,1) -> 46327 | T4: =EDATE(N4,1) -> 46357 | Z4: =EDATE(T4,1) -> 46388 | AF4: =EDATE(Z4,1) -> 46419 | AL4: =EDATE(AF4,1) -> 46447 | AR4: =EDATE(AL4,1) -> 46478 | AX4: =EDATE(AR4,1) -> 46508 | BD4: =EDATE(AX4,1) -> 46539 | BJ4: =EDATE(BD4,1) -> 46569 | BP4: =EDATE(BJ4,1) -> 46600
C5: repas | D5: debut | E5: fin | F5: duree | I5: repas | J5: debut | K5: fin | L5: duree | O5: repas | P5: debut | Q5: fin | R5: duree | U5: repas | V5: debut | W5: fin | X5: duree | AA5: repas | AB5: debut | AC5: fin | AD5: duree | AG5: repas | AH5: debut | AI5: fin | AJ5: duree | AM5: repas | AN5: debut | AO5: fin | AP5: duree | AS5: repas | AT5: debut | AU5: fin | AV5: duree | AY5: repas | AZ5: debut | BA5: fin | BB5: duree | BE5: repas | BF5: debut | BG5: fin | BH5: duree | BK5: repas | BL5: debut | BM5: fin | BN5: duree | BQ5: repas | BR5: debut | BS5: fin | BT5: duree
B6: =B4 -> 46266 | C6: =_xlfn.XLOOKUP(B6,listeJours,listeJoursRepas) -> 0.03125 | D6: =_xlfn.XLOOKUP(B6,listeJours,listeJoursDebut) -> 0.33333333 | E6: =_xlfn.XLOOKUP(B6,listeJours,listeJoursFin) -> 0.75 | F6: =(E6-D6)-C6+IF((E6-D6)-C6>=TIME(6,0,0),TIME(0,20,0),TIME(0,0,0)) -> 0.39930556 | H6: =H4 -> 46296 | I6: =_xlfn.XLOOKUP(H6,listeJours,listeJoursRepas) -> 0.03125 | J6: =_xlfn.XLOOKUP(H6,listeJours,listeJoursDebut) -> 0.33333333 | K6: =_xlfn.XLOOKUP(H6,listeJours,listeJoursFin) -> 0.70833333 | L6: =(K6-J6)-I6+IF((K6-J6)-I6>=TIME(6,0,0),TIME(0,20,0),TIME(0,0,0)) -> 0.35763889 | N6: =N4 -> 46327 | O6: =_xlfn.XLOOKUP(N6,listeJours,listeJoursRepas) -> 0 | P6: =_xlfn.XLOOKUP(N6,listeJours,listeJoursDebut) -> 0 | Q6: =_xlfn.XLOOKUP(N6,listeJours,listeJoursFin) -> 0 | R6: =(Q6-P6)-O6+IF((Q6-P6)-O6>=TIME(6,0,0),TIME(0,20,0),TIME(0,0,0)) -> 0 | T6: =T4 -> 46357 | U6: =_xlfn.XLOOKUP(T6,listeJours,listeJoursRepas) -> 0.03125 | V6: =_xlfn.XLOOKUP(T6,listeJours,listeJoursDebut) -> 0.33333333 | W6: =_xlfn.XLOOKUP(T6,listeJours,listeJoursFin) -> 0.75 | X6: =(W6-V6)-U6+IF((W6-V6)-U6>=TIME(6,0,0),TIME(0,20,0),TIME(0,0,0)) -> 0.39930556 | Z6: =Z4 -> 46388 | AA6: =_xlfn.XLOOKUP(Z6,listeJours,listeJoursRepas) -> 0 | AB6: =_xlfn.XLOOKUP(Z6,listeJours,listeJoursDebut) -> 0 | AC6: =_xlfn.XLOOKUP(Z6,listeJours,listeJoursFin) -> 0 | AD6: =(AC6-AB6)-AA6+IF((AC6-AB6)-AA6>=TIME(6,0,0),TIME(0,20,0),TIME(0,0,0)) -> 0 | AF6: =AF4 -> 46419 | AG6: =_xlfn.XLOOKUP(AF6,listeJours,listeJoursRepas) -> 0.03125 | AH6: =_xlfn.XLOOKUP(AF6,listeJours,listeJoursDebut) -> 0.33333333 | AI6: =_xlfn.XLOOKUP(AF6,listeJours,listeJoursFin) -> 0.70833333 | AJ6: =(AI6-AH6)-AG6+IF((AI6-AH6)-AG6>=TIME(6,0,0),TIME(0,20,0),TIME(0,0,0)) -> 0.35763889 | AL6: =AL4 -> 46447 | AM6: =_xlfn.XLOOKUP(AL6,listeJours,listeJoursRepas) -> 0.03125 | AN6: =_xlfn.XLOOKUP(AL6,listeJours,listeJoursDebut) -> 0.33333333 | AO6: =_xlfn.XLOOKUP(AL6,listeJours,listeJoursFin) -> 0.70833333 | AP6: =(AO6-AN6)-AM6+IF((AO6-AN6)-AM6>=TIME(6,0,0),TIME(0,20,0),TIME(0,0,0)) -> 0.35763889 | AR6: =AR4 -> 46478 | AS6: =_xlfn.XLOOKUP(AR6,listeJours,listeJoursRepas) -> 0.03125 | AT6: =_xlfn.XLOOKUP(AR6,listeJours,listeJoursDebut) -> 0.33333333 | AU6: =_xlfn.XLOOKUP(AR6,listeJours,listeJoursFin) -> 0.70833333 | AV6: =(AU6-AT6)-AS6+IF((AU6-AT6)-AS6>=TIME(6,0,0),TIME(0,20,0),TIME(0,0,0)) -> 0.35763889 | AX6: =AX4 -> 46508 | AY6: =_xlfn.XLOOKUP(AX6,listeJours,listeJoursRepas) -> 0 | AZ6: =_xlfn.XLOOKUP(AX6,listeJours,listeJoursDebut) -> 0 | BA6: =_xlfn.XLOOKUP(AX6,listeJours,listeJoursFin) -> 0 | BB6: =(BA6-AZ6)-AY6+IF((BA6-AZ6)-AY6>=TIME(6,0,0),TIME(0,20,0),TIME(0,0,0)) -> 0 | BD6: =BD4 -> 46539 | BE6: =_xlfn.XLOOKUP(BD6,listeJours,listeJoursRepas) -> 0.03125 | BF6: =_xlfn.XLOOKUP(BD6,listeJours,listeJoursDebut) -> 0.33333333 | BG6: =_xlfn.XLOOKUP(BD6,listeJours,listeJoursFin) -> 0.75 | BH6: =(BG6-BF6)-BE6+IF((BG6-BF6)-BE6>=TIME(6,0,0),TIME(0,20,0),TIME(0,0,0)) -> 0.39930556 | BJ6: =BJ4 -> 46569 | BK6: =_xlfn.XLOOKUP(BJ6,listeJours,listeJoursRepas) -> 0.03125 | BL6: =_xlfn.XLOOKUP(BJ6,listeJours,listeJoursDebut) -> 0.33333333 | BM6: =_xlfn.XLOOKUP(BJ6,listeJours,listeJoursFin) -> 0.70833333 | BN6: =(BM6-BL6)-BK6+IF((BM6-BL6)-BK6>=TIME(6,0,0),TIME(0,20,0),TIME(0,0,0)) -> 0.35763889 | BP6: =BP4 -> 46600 | BQ6: =_xlfn.XLOOKUP(BP6,listeJours,listeJoursRepas) -> 0 | BR6: =_xlfn.XLOOKUP(BP6,listeJours,listeJoursDebut) -> 0 | BS6: =_xlfn.XLOOKUP(BP6,listeJours,listeJoursFin) -> 0 | BT6: =(BS6-BR6)-BQ6+IF((BS6-BR6)-BQ6>=TIME(6,0,0),TIME(0,20,0),TIME(0,0,0)) -> 0
B7: =B6+1 -> 46267 | C7: =_xlfn.XLOOKUP(B7,listeJours,listeJoursRepas) -> 0 | D7: =_xlfn.XLOOKUP(B7,listeJours,listeJoursDebut) -> 0.33333333 | E7: =_xlfn.XLOOKUP(B7,listeJours,listeJoursFin) -> 0.54166667 | F7: =(E7-D7)-C7+IF((E7-D7)-C7>=TIME(6,0,0),TIME(0,20,0),TIME(0,0,0)) -> 0.20833333 | H7: =H6+1 -> 46297 | I7: =_xlfn.XLOOKUP(H7,listeJours,listeJoursRepas) -> 0 | J7: =_xlfn.XLOOKUP(H7,listeJours,listeJoursDebut) -> 0.33333333 | K7: =_xlfn.XLOOKUP(H7,listeJours,listeJoursFin) -> 0.70833333 | L7: =(K7-J7)-I7+IF((K7-J7)-I7>=TIME(6,0,0),TIME(0,20,0),TIME(0,0,0)) -> 0.38888889 | N7: =N6+1 -> 46328 | O7: =_xlfn.XLOOKUP(N7,listeJours,listeJoursRepas) -> 0.03125 | P7: =_xlfn.XLOOKUP(N7,listeJours,listeJoursDebut) -> 0.33333333 | Q7: =_xlfn.XLOOKUP(N7,listeJours,listeJoursFin) -> 0.70833333 | R7: =(Q7-P7)-O7+IF((Q7-P7)-O7>=TIME(6,0,0),TIME(0,20,0),TIME(0,0,0)) -> 0.35763889 | T7: =T6+1 -> 46358 | U7: =_xlfn.XLOOKUP(T7,listeJours,listeJoursRepas) -> 0 | V7: =_xlfn.XLOOKUP(T7,listeJours,listeJoursDebut) -> 0.33333333 | W7: =_xlfn.XLOOKUP(T7,listeJours,listeJoursFin) -> 0.54166667 | X7: =(W7-V7)-U7+IF((W7-V7)-U7>=TIME(6,0,0),TIME(0,20,0),TIME(0,0,0)) -> 0.20833333 | Z7: =Z6+1 -> 46389 | AA7: =_xlfn.XLOOKUP(Z7,listeJours,listeJoursRepas) -> 0 | AB7: =_xlfn.XLOOKUP(Z7,listeJours,listeJoursDebut) -> 0 | AC7: =_xlfn.XLOOKUP(Z7,listeJours,listeJoursFin) -> 0 | AD7: =(AC7-AB7)-AA7+IF((AC7-AB7)-AA7>=TIME(6,0,0),TIME(0,20,0),TIME(0,0,0)) -> 0 | AF7: =AF6+1 -> 46420 | AG7: =_xlfn.XLOOKUP(AF7,listeJours,listeJoursRepas) -> 0.03125 | AH7: =_xlfn.XLOOKUP(AF7,listeJours,listeJoursDebut) -> 0.33333333 | AI7: =_xlfn.XLOOKUP(AF7,listeJours,listeJoursFin) -> 0.75 | AJ7: =(AI7-AH7)-AG7+IF((AI7-AH7)-AG7>=TIME(6,0,0),TIME(0,20,0),TIME(0,0,0)) -> 0.39930556 | AL7: =AL6+1 -> 46448 | AM7: =_xlfn.XLOOKUP(AL7,listeJours,listeJoursRepas) -> 0.03125 | AN7: =_xlfn.XLOOKUP(AL7,listeJours,listeJoursDebut) -> 0.33333333 | AO7: =_xlfn.XLOOKUP(AL7,listeJours,listeJoursFin) -> 0.75 | AP7: =(AO7-AN7)-AM7+IF((AO7-AN7)-AM7>=TIME(6,0,0),TIME(0,20,0),TIME(0,0,0)) -> 0.39930556 | AR7: =AR6+1 -> 46479 | AS7: =_xlfn.XLOOKUP(AR7,listeJours,listeJoursRepas) -> 0 | AT7: =_xlfn.XLOOKUP(AR7,listeJours,listeJoursDebut) -> 0.33333333 | AU7: =_xlfn.XLOOKUP(AR7,listeJours,listeJoursFin) -> 0.70833333 | AV7: =(AU7-AT7)-AS7+IF((AU7-AT7)-AS7>=TIME(6,0,0),TIME(0,20,0),TIME(0,0,0)) -> 0.38888889 | AX7: =AX6+1 -> 46509 | AY7: =_xlfn.XLOOKUP(AX7,listeJours,listeJoursRepas) -> 0 | AZ7: =_xlfn.XLOOKUP(AX7,listeJours,listeJoursDebut) -> 0 | BA7: =_xlfn.XLOOKUP(AX7,listeJours,listeJoursFin) -> 0 | BB7: =(BA7-AZ7)-AY7+IF((BA7-AZ7)-AY7>=TIME(6,0,0),TIME(0,20,0),TIME(0,0,0)) -> 0 | BD7: =BD6+1 -> 46540 | BE7: =_xlfn.XLOOKUP(BD7,listeJours,listeJoursRepas) -> 0 | BF7: =_xlfn.XLOOKUP(BD7,listeJours,listeJoursDebut) -> 0.33333333 | BG7: =_xlfn.XLOOKUP(BD7,listeJours,listeJoursFin) -> 0.54166667 | BH7: =(BG7-BF7)-BE7+IF((BG7-BF7)-BE7>=TIME(6,0,0),TIME(0,20,0),TIME(0,0,0)) -> 0.20833333 | BJ7: =BJ6+1 -> 46570 | BK7: =_xlfn.XLOOKUP(BJ7,listeJours,listeJoursRepas) -> 0 | BL7: =_xlfn.XLOOKUP(BJ7,listeJours,listeJoursDebut) -> 0.33333333 | BM7: =_xlfn.XLOOKUP(BJ7,listeJours,listeJoursFin) -> 0.70833333 | BN7: =(BM7-BL7)-BK7+IF((BM7-BL7)-BK7>=TIME(6,0,0),TIME(0,20,0),TIME(0,0,0)) -> 0.38888889 | BP7: =BP6+1 -> 46601 | BQ7: =_xlfn.XLOOKUP(BP7,listeJours,listeJoursRepas) -> 0 | BR7: =_xlfn.XLOOKUP(BP7,listeJours,listeJoursDebut) -> 0 | BS7: =_xlfn.XLOOKUP(BP7,listeJours,listeJoursFin) -> 0 | BT7: =(BS7-BR7)-BQ7+IF((BS7-BR7)-BQ7>=TIME(6,0,0),TIME(0,20,0),TIME(0,0,0)) -> 0
B8: =B7+1 -> 46268 | C8: =_xlfn.XLOOKUP(B8,listeJours,listeJoursRepas) -> 0.03125 | D8: =_xlfn.XLOOKUP(B8,listeJours,listeJoursDebut) -> 0.33333333 | E8: =_xlfn.XLOOKUP(B8,listeJours,listeJoursFin) -> 0.70833333 | F8: =(E8-D8)-C8+IF((E8-D8)-C8>=TIME(6,0,0),TIME(0,20,0),TIME(0,0,0)) -> 0.35763889 | H8: =H7+1 -> 46298 | I8: =_xlfn.XLOOKUP(H8,listeJours,listeJoursRepas) -> 0 | J8: =_xlfn.XLOOKUP(H8,listeJours,listeJoursDebut) -> 0 | K8: =_xlfn.XLOOKUP(H8,listeJours,listeJoursFin) -> 0 | L8: =(K8-J8)-I8+IF((K8-J8)-I8>=TIME(6,0,0),TIME(0,20,0),TIME(0,0,0)) -> 0 | N8: =N7+1 -> 46329 | O8: =_xlfn.XLOOKUP(N8,listeJours,listeJoursRepas) -> 0.03125 | P8: =_xlfn.XLOOKUP(N8,listeJours,listeJoursDebut) -> 0.33333333 | Q8: =_xlfn.XLOOKUP(N8,listeJours,listeJoursFin) -> 0.75 | R8: =(Q8-P8)-O8+IF((Q8-P8)-O8>=TIME(6,0,0),TIME(0,20,0),TIME(0,0,0)) -> 0.39930556 | T8: =T7+1 -> 46359 | U8: =_xlfn.XLOOKUP(T8,listeJours,listeJoursRepas) -> 0.03125 | V8: =_xlfn.XLOOKUP(T8,listeJours,listeJoursDebut) -> 0.33333333 | W8: =_xlfn.XLOOKUP(T8,listeJours,listeJoursFin) -> 0.70833333 | X8: =(W8-V8)-U8+IF((W8-V8)-U8>=TIME(6,0,0),TIME(0,20,0),TIME(0,0,0)) -> 0.35763889 | Z8: =Z7+1 -> 46390 | AA8: =_xlfn.XLOOKUP(Z8,listeJours,listeJoursRepas) -> 0 | AB8: =_xlfn.XLOOKUP(Z8,listeJours,listeJoursDebut) -> 0 | AC8: =_xlfn.XLOOKUP(Z8,listeJours,listeJoursFin) -> 0 | AD8: =(AC8-AB8)-AA8+IF((AC8-AB8)-AA8>=TIME(6,0,0),TIME(0,20,0),TIME(0,0,0)) -> 0 | AF8: =AF7+1 -> 46421 | AG8: =_xlfn.XLOOKUP(AF8,listeJours,listeJoursRepas) -> 0 | AH8: =_xlfn.XLOOKUP(AF8,listeJours,listeJoursDebut) -> 0.33333333 | AI8: =_xlfn.XLOOKUP(AF8,listeJours,listeJoursFin) -> 0.54166667 | AJ8: =(AI8-AH8)-AG8+IF((AI8-AH8)-AG8>=TIME(6,0,0),TIME(0,20,0),TIME(0,0,0)) -> 0.20833333 | AL8: =AL7+1 -> 46449 | AM8: =_xlfn.XLOOKUP(AL8,listeJours,listeJoursRepas) -> 0 | AN8: =_xlfn.XLOOKUP(AL8,listeJours,listeJoursDebut) -> 0.33333333 | AO8: =_xlfn.XLOOKUP(AL8,listeJours,listeJoursFin) -> 0.54166667 | AP8: =(AO8-AN8)-AM8+IF((AO8-AN8)-AM8>=TIME(6,0,0),TIME(0,20,0),TIME(0,0,0)) -> 0.20833333 | AR8: =AR7+1 -> 46480 | AS8: =_xlfn.XLOOKUP(AR8,listeJours,listeJoursRepas) -> 0 | AT8: =_xlfn.XLOOKUP(AR8,listeJours,listeJoursDebut) -> 0 | AU8: =_xlfn.XLOOKUP(AR8,listeJours,listeJoursFin) -> 0 | AV8: =(AU8-AT8)-AS8+IF((AU8-AT8)-AS8>=TIME(6,0,0),TIME(0,20,0),TIME(0,0,0)) -> 0 | AX8: =AX7+1 -> 46510 | AY8: =_xlfn.XLOOKUP(AX8,listeJours,listeJoursRepas) -> 0.03125 | AZ8: =_xlfn.XLOOKUP(AX8,listeJours,listeJoursDebut) -> 0.33333333 | BA8: =_xlfn.XLOOKUP(AX8,listeJours,listeJoursFin) -> 0.70833333 | BB8: =(BA8-AZ8)-AY8+IF((BA8-AZ8)-AY8>=TIME(6,0,0),TIME(0,20,0),TIME(0,0,0)) -> 0.35763889 | BD8: =BD7+1 -> 46541 | BE8: =_xlfn.XLOOKUP(BD8,listeJours,listeJoursRepas) -> 0.03125 | BF8: =_xlfn.XLOOKUP(BD8,listeJours,listeJoursDebut) -> 0.33333333 | BG8: =_xlfn.XLOOKUP(BD8,listeJours,listeJoursFin) -> 0.70833333 | BH8: =(BG8-BF8)-BE8+IF((BG8-BF8)-BE8>=TIME(6,0,0),TIME(0,20,0),TIME(0,0,0)) -> 0.35763889 | BJ8: =BJ7+1 -> 46571 | BK8: =_xlfn.XLOOKUP(BJ8,listeJours,listeJoursRepas) -> 0 | BL8: =_xlfn.XLOOKUP(BJ8,listeJours,listeJoursDebut) -> 0 | BM8: =_xlfn.XLOOKUP(BJ8,listeJours,listeJoursFin) -> 0 | BN8: =(BM8-BL8)-BK8+IF((BM8-BL8)-BK8>=TIME(6,0,0),TIME(0,20,0),TIME(0,0,0)) -> 0 | BP8: =BP7+1 -> 46602 | BQ8: =_xlfn.XLOOKUP(BP8,listeJours,listeJoursRepas) -> 0 | BR8: =_xlfn.XLOOKUP(BP8,listeJours,listeJoursDebut) -> 0 | BS8: =_xlfn.XLOOKUP(BP8,listeJours,listeJoursFin) -> 0 | BT8: =(BS8-BR8)-BQ8+IF((BS8-BR8)-BQ8>=TIME(6,0,0),TIME(0,20,0),TIME(0,0,0)) -> 0
B9: =B8+1 -> 46269 | C9: =_xlfn.XLOOKUP(B9,listeJours,listeJoursRepas) -> 0 | D9: =_xlfn.XLOOKUP(B9,listeJours,listeJoursDebut) -> 0.33333333 | E9: =_xlfn.XLOOKUP(B9,listeJours,listeJoursFin) -> 0.70833333 | F9: =(E9-D9)-C9+IF((E9-D9)-C9>=TIME(6,0,0),TIME(0,20,0),TIME(0,0,0)) -> 0.38888889 | H9: =H8+1 -> 46299 | I9: =_xlfn.XLOOKUP(H9,listeJours,listeJoursRepas) -> 0 | J9: =_xlfn.XLOOKUP(H9,listeJours,listeJoursDebut) -> 0 | K9: =_xlfn.XLOOKUP(H9,listeJours,listeJoursFin) -> 0 | L9: =(K9-J9)-I9+IF((K9-J9)-I9>=TIME(6,0,0),TIME(0,20,0),TIME(0,0,0)) -> 0 | N9: =N8+1 -> 46330 | O9: =_xlfn.XLOOKUP(N9,listeJours,listeJoursRepas) -> 0 | P9: =_xlfn.XLOOKUP(N9,listeJours,listeJoursDebut) -> 0.33333333 | Q9: =_xlfn.XLOOKUP(N9,listeJours,listeJoursFin) -> 0.54166667 | R9: =(Q9-P9)-O9+IF((Q9-P9)-O9>=TIME(6,0,0),TIME(0,20,0),TIME(0,0,0)) -> 0.20833333 | T9: =T8+1 -> 46360 | U9: =_xlfn.XLOOKUP(T9,listeJours,listeJoursRepas) -> 0 | V9: =_xlfn.XLOOKUP(T9,listeJours,listeJoursDebut) -> 0.33333333 | W9: =_xlfn.XLOOKUP(T9,listeJours,listeJoursFin) -> 0.70833333 | X9: =(W9-V9)-U9+IF((W9-V9)-U9>=TIME(6,0,0),TIME(0,20,0),TIME(0,0,0)) -> 0.38888889 | Z9: =Z8+1 -> 46391 | AA9: =_xlfn.XLOOKUP(Z9,listeJours,listeJoursRepas) -> 0.03125 | AB9: =_xlfn.XLOOKUP(Z9,listeJours,listeJoursDebut) -> 0.33333333 | AC9: =_xlfn.XLOOKUP(Z9,listeJours,listeJoursFin) -> 0.70833333 | AD9: =(AC9-AB9)-AA9+IF((AC9-AB9)-AA9>=TIME(6,0,0),TIME(0,20,0),TIME(0,0,0)) -> 0.35763889 | AF9: =AF8+1 -> 46422 | AG9: =_xlfn.XLOOKUP(AF9,listeJours,listeJoursRepas) -> 0.03125 | AH9: =_xlfn.XLOOKUP(AF9,listeJours,listeJoursDebut) -> 0.33333333 | AI9: =_xlfn.XLOOKUP(AF9,listeJours,listeJoursFin) -> 0.70833333 | AJ9: =(AI9-AH9)-AG9+IF((AI9-AH9)-AG9>=TIME(6,0,0),TIME(0,20,0),TIME(0,0,0)) -> 0.35763889 | AL9: =AL8+1 -> 46450 | AM9: =_xlfn.XLOOKUP(AL9,listeJours,listeJoursRepas) -> 0.03125 | AN9: =_xlfn.XLOOKUP(AL9,listeJours,listeJoursDebut) -> 0.33333333 | AO9: =_xlfn.XLOOKUP(AL9,listeJours,listeJoursFin) -> 0.70833333 | AP9: =(AO9-AN9)-AM9+IF((AO9-AN9)-AM9>=TIME(6,0,0),TIME(0,20,0),TIME(0,0,0)) -> 0.35763889 | AR9: =AR8+1 -> 46481 | AS9: =_xlfn.XLOOKUP(AR9,listeJours,listeJoursRepas) -> 0 | AT9: =_xlfn.XLOOKUP(AR9,listeJours,listeJoursDebut) -> 0 | AU9: =_xlfn.XLOOKUP(AR9,listeJours,listeJoursFin) -> 0 | AV9: =(AU9-AT9)-AS9+IF((AU9-AT9)-AS9>=TIME(6,0,0),TIME(0,20,0),TIME(0,0,0)) -> 0 | AX9: =AX8+1 -> 46511 | AY9: =_xlfn.XLOOKUP(AX9,listeJours,listeJoursRepas) -> 0.03125 | AZ9: =_xlfn.XLOOKUP(AX9,listeJours,listeJoursDebut) -> 0.33333333 | BA9: =_xlfn.XLOOKUP(AX9,listeJours,listeJoursFin) -> 0.75 | BB9: =(BA9-AZ9)-AY9+IF((BA9-AZ9)-AY9>=TIME(6,0,0),TIME(0,20,0),TIME(0,0,0)) -> 0.39930556 | BD9: =BD8+1 -> 46542 | BE9: =_xlfn.XLOOKUP(BD9,listeJours,listeJoursRepas) -> 0 | BF9: =_xlfn.XLOOKUP(BD9,listeJours,listeJoursDebut) -> 0.33333333 | BG9: =_xlfn.XLOOKUP(BD9,listeJours,listeJoursFin) -> 0.70833333 | BH9: =(BG9-BF9)-BE9+IF((BG9-BF9)-BE9>=TIME(6,0,0),TIME(0,20,0),TIME(0,0,0)) -> 0.38888889 | BJ9: =BJ8+1 -> 46572 | BK9: =_xlfn.XLOOKUP(BJ9,listeJours,listeJoursRepas) -> 0 | BL9: =_xlfn.XLOOKUP(BJ9,listeJours,listeJoursDebut) -> 0 | BM9: =_xlfn.XLOOKUP(BJ9,listeJours,listeJoursFin) -> 0 | BN9: =(BM9-BL9)-BK9+IF((BM9-BL9)-BK9>=TIME(6,0,0),TIME(0,20,0),TIME(0,0,0)) -> 0 | BP9: =BP8+1 -> 46603 | BQ9: =_xlfn.XLOOKUP(BP9,listeJours,listeJoursRepas) -> 0 | BR9: =_xlfn.XLOOKUP(BP9,listeJours,listeJoursDebut) -> 0 | BS9: =_xlfn.XLOOKUP(BP9,listeJours,listeJoursFin) -> 0 | BT9: =(BS9-BR9)-BQ9+IF((BS9-BR9)-BQ9>=TIME(6,0,0),TIME(0,20,0),TIME(0,0,0)) -> 0
B10: =B9+1 -> 46270 | C10: =_xlfn.XLOOKUP(B10,listeJours,listeJoursRepas) -> 0 | D10: =_xlfn.XLOOKUP(B10,listeJours,listeJoursDebut) -> 0 | E10: =_xlfn.XLOOKUP(B10,listeJours,listeJoursFin) -> 0 | F10: =(E10-D10)-C10+IF((E10-D10)-C10>=TIME(6,0,0),TIME(0,20,0),TIME(0,0,0)) -> 0 | H10: =H9+1 -> 46300 | I10: =_xlfn.XLOOKUP(H10,listeJours,listeJoursRepas) -> 0.03125 | J10: =_xlfn.XLOOKUP(H10,listeJours,listeJoursDebut) -> 0.33333333 | K10: =_xlfn.XLOOKUP(H10,listeJours,listeJoursFin) -> 0.70833333 | L10: =(K10-J10)-I10+IF((K10-J10)-I10>=TIME(6,0,0),TIME(0,20,0),TIME(0,0,0)) -> 0.35763889 | N10: =N9+1 -> 46331 | O10: =_xlfn.XLOOKUP(N10,listeJours,listeJoursRepas) -> 0.03125 | P10: =_xlfn.XLOOKUP(N10,listeJours,listeJoursDebut) -> 0.33333333 | Q10: =_xlfn.XLOOKUP(N10,listeJours,listeJoursFin) -> 0.70833333 | R10: =(Q10-P10)-O10+IF((Q10-P10)-O10>=TIME(6,0,0),TIME(0,20,0),TIME(0,0,0)) -> 0.35763889 | T10: =T9+1 -> 46361 | U10: =_xlfn.XLOOKUP(T10,listeJours,listeJoursRepas) -> 0 | V10: =_xlfn.XLOOKUP(T10,listeJours,listeJoursDebut) -> 0 | W10: =_xlfn.XLOOKUP(T10,listeJours,listeJoursFin) -> 0 | X10: =(W10-V10)-U10+IF((W10-V10)-U10>=TIME(6,0,0),TIME(0,20,0),TIME(0,0,0)) -> 0 | Z10: =Z9+1 -> 46392 | AA10: =_xlfn.XLOOKUP(Z10,listeJours,listeJoursRepas) -> 0.03125 | AB10: =_xlfn.XLOOKUP(Z10,listeJours,listeJoursDebut) -> 0.33333333 | AC10: =_xlfn.XLOOKUP(Z10,listeJours,listeJoursFin) -> 0.75 | AD10: =(AC10-AB10)-AA10+IF((AC10-AB10)-AA10>=TIME(6,0,0),TIME(0,20,0),TIME(0,0,0)) -> 0.39930556 | AF10: =AF9+1 -> 46423 | AG10: =_xlfn.XLOOKUP(AF10,listeJours,listeJoursRepas) -> 0 | AH10: =_xlfn.XLOOKUP(AF10,listeJours,listeJoursDebut) -> 0.33333333 | AI10: =_xlfn.XLOOKUP(AF10,listeJours,listeJoursFin) -> 0.70833333 | AJ10: =(AI10-AH10)-AG10+IF((AI10-AH10)-AG10>=TIME(6,0,0),TIME(0,20,0),TIME(0,0,0)) -> 0.38888889 | AL10: =AL9+1 -> 46451 | AM10: =_xlfn.XLOOKUP(AL10,listeJours,listeJoursRepas) -> 0 | AN10: =_xlfn.XLOOKUP(AL10,listeJours,listeJoursDebut) -> 0.33333333 | AO10: =_xlfn.XLOOKUP(AL10,listeJours,listeJoursFin) -> 0.70833333 | AP10: =(AO10-AN10)-AM10+IF((AO10-AN10)-AM10>=TIME(6,0,0),TIME(0,20,0),TIME(0,0,0)) -> 0.38888889 | AR10: =AR9+1 -> 46482 | AS10: =_xlfn.XLOOKUP(AR10,listeJours,listeJoursRepas) -> 0.03125 | AT10: =_xlfn.XLOOKUP(AR10,listeJours,listeJoursDebut) -> 0.33333333 | AU10: =_xlfn.XLOOKUP(AR10,listeJours,listeJoursFin) -> 0.70833333 | AV10: =(AU10-AT10)-AS10+IF((AU10-AT10)-AS10>=TIME(6,0,0),TIME(0,20,0),TIME(0,0,0)) -> 0.35763889 | AX10: =AX9+1 -> 46512 | AY10: =_xlfn.XLOOKUP(AX10,listeJours,listeJoursRepas) -> 0 | AZ10: =_xlfn.XLOOKUP(AX10,listeJours,listeJoursDebut) -> 0.33333333 | BA10: =_xlfn.XLOOKUP(AX10,listeJours,listeJoursFin) -> 0.54166667 | BB10: =(BA10-AZ10)-AY10+IF((BA10-AZ10)-AY10>=TIME(6,0,0),TIME(0,20,0),TIME(0,0,0)) -> 0.20833333 | BD10: =BD9+1 -> 46543 | BE10: =_xlfn.XLOOKUP(BD10,listeJours,listeJoursRepas) -> 0 | BF10: =_xlfn.XLOOKUP(BD10,listeJours,listeJoursDebut) -> 0 | BG10: =_xlfn.XLOOKUP(BD10,listeJours,listeJoursFin) -> 0 | BH10: =(BG10-BF10)-BE10+IF((BG10-BF10)-BE10>=TIME(6,0,0),TIME(0,20,0),TIME(0,0,0)) -> 0 | BJ10: =BJ9+1 -> 46573 | BK10: =_xlfn.XLOOKUP(BJ10,listeJours,listeJoursRepas) -> 0 | BL10: =_xlfn.XLOOKUP(BJ10,listeJours,listeJoursDebut) -> 0 | BM10: =_xlfn.XLOOKUP(BJ10,listeJours,listeJoursFin) -> 0 | BN10: =(BM10-BL10)-BK10+IF((BM10-BL10)-BK10>=TIME(6,0,0),TIME(0,20,0),TIME(0,0,0)) -> 0 | BP10: =BP9+1 -> 46604 | BQ10: =_xlfn.XLOOKUP(BP10,listeJours,listeJoursRepas) -> 0 | BR10: =_xlfn.XLOOKUP(BP10,listeJours,listeJoursDebut) -> 0 | BS10: =_xlfn.XLOOKUP(BP10,listeJours,listeJoursFin) -> 0 | BT10: =(BS10-BR10)-BQ10+IF((BS10-BR10)-BQ10>=TIME(6,0,0),TIME(0,20,0),TIME(0,0,0)) -> 0
B11: =B10+1 -> 46271 | C11: =_xlfn.XLOOKUP(B11,listeJours,listeJoursRepas) -> 0 | D11: =_xlfn.XLOOKUP(B11,listeJours,listeJoursDebut) -> 0 | E11: =_xlfn.XLOOKUP(B11,listeJours,listeJoursFin) -> 0 | F11: =(E11-D11)-C11+IF((E11-D11)-C11>=TIME(6,0,0),TIME(0,20,0),TIME(0,0,0)) -> 0 | H11: =H10+1 -> 46301 | I11: =_xlfn.XLOOKUP(H11,listeJours,listeJoursRepas) -> 0.03125 | J11: =_xlfn.XLOOKUP(H11,listeJours,listeJoursDebut) -> 0.33333333 | K11: =_xlfn.XLOOKUP(H11,listeJours,listeJoursFin) -> 0.75 | L11: =(K11-J11)-I11+IF((K11-J11)-I11>=TIME(6,0,0),TIME(0,20,0),TIME(0,0,0)) -> 0.39930556 | N11: =N10+1 -> 46332 | O11: =_xlfn.XLOOKUP(N11,listeJours,listeJoursRepas) -> 0 | P11: =_xlfn.XLOOKUP(N11,listeJours,listeJoursDebut) -> 0.33333333 | Q11: =_xlfn.XLOOKUP(N11,listeJours,listeJoursFin) -> 0.70833333 | R11: =(Q11-P11)-O11+IF((Q11-P11)-O11>=TIME(6,0,0),TIME(0,20,0),TIME(0,0,0)) -> 0.38888889 | T11: =T10+1 -> 46362 | U11: =_xlfn.XLOOKUP(T11,listeJours,listeJoursRepas) -> 0 | V11: =_xlfn.XLOOKUP(T11,listeJours,listeJoursDebut) -> 0 | W11: =_xlfn.XLOOKUP(T11,listeJours,listeJoursFin) -> 0 | X11: =(W11-V11)-U11+IF((W11-V11)-U11>=TIME(6,0,0),TIME(0,20,0),TIME(0,0,0)) -> 0 | Z11: =Z10+1 -> 46393 | AA11: =_xlfn.XLOOKUP(Z11,listeJours,listeJoursRepas) -> 0 | AB11: =_xlfn.XLOOKUP(Z11,listeJours,listeJoursDebut) -> 0.33333333 | AC11: =_xlfn.XLOOKUP(Z11,listeJours,listeJoursFin) -> 0.54166667 | AD11: =(AC11-AB11)-AA11+IF((AC11-AB11)-AA11>=TIME(6,0,0),TIME(0,20,0),TIME(0,0,0)) -> 0.20833333 | AF11: =AF10+1 -> 46424 | AG11: =_xlfn.XLOOKUP(AF11,listeJours,listeJoursRepas) -> 0 | AH11: =_xlfn.XLOOKUP(AF11,listeJours,listeJoursDebut) -> 0 | AI11: =_xlfn.XLOOKUP(AF11,listeJours,listeJoursFin) -> 0 | AJ11: =(AI11-AH11)-AG11+IF((AI11-AH11)-AG11>=TIME(6,0,0),TIME(0,20,0),TIME(0,0,0)) -> 0 | AL11: =AL10+1 -> 46452 | AM11: =_xlfn.XLOOKUP(AL11,listeJours,listeJoursRepas) -> 0 | AN11: =_xlfn.XLOOKUP(AL11,listeJours,listeJoursDebut) -> 0 | AO11: =_xlfn.XLOOKUP(AL11,listeJours,listeJoursFin) -> 0 | AP11: =(AO11-AN11)-AM11+IF((AO11-AN11)-AM11>=TIME(6,0,0),TIME(0,20,0),TIME(0,0,0)) -> 0 | AR11: =AR10+1 -> 46483 | AS11: =_xlfn.XLOOKUP(AR11,listeJours,listeJoursRepas) -> 0.03125 | AT11: =_xlfn.XLOOKUP(AR11,listeJours,listeJoursDebut) -> 0.33333333 | AU11: =_xlfn.XLOOKUP(AR11,listeJours,listeJoursFin) -> 0.75 | AV11: =(AU11-AT11)-AS11+IF((AU11-AT11)-AS11>=TIME(6,0,0),TIME(0,20,0),TIME(0,0,0)) -> 0.39930556 | AX11: =AX10+1 -> 46513 | AY11: =_xlfn.XLOOKUP(AX11,listeJours,listeJoursRepas) -> 0.03125 | AZ11: =_xlfn.XLOOKUP(AX11,listeJours,listeJoursDebut) -> 0.33333333 | BA11: =_xlfn.XLOOKUP(AX11,listeJours,listeJoursFin) -> 0.70833333 | BB11: =(BA11-AZ11)-AY11+IF((BA11-AZ11)-AY11>=TIME(6,0,0),TIME(0,20,0),TIME(0,0,0)) -> 0.35763889 | BD11: =BD10+1 -> 46544 | BE11: =_xlfn.XLOOKUP(BD11,listeJours,listeJoursRepas) -> 0 | BF11: =_xlfn.XLOOKUP(BD11,listeJours,listeJoursDebut) -> 0 | BG11: =_xlfn.XLOOKUP(BD11,listeJours,listeJoursFin) -> 0 | BH11: =(BG11-BF11)-BE11+IF((BG11-BF11)-BE11>=TIME(6,0,0),TIME(0,20,0),TIME(0,0,0)) -> 0 | BJ11: =BJ10+1 -> 46574 | BK11: =_xlfn.XLOOKUP(BJ11,listeJours,listeJoursRepas) -> 0 | BL11: =_xlfn.XLOOKUP(BJ11,listeJours,listeJoursDebut) -> 0 | BM11: =_xlfn.XLOOKUP(BJ11,listeJours,listeJoursFin) -> 0 | BN11: =(BM11-BL11)-BK11+IF((BM11-BL11)-BK11>=TIME(6,0,0),TIME(0,20,0),TIME(0,0,0)) -> 0 | BP11: =BP10+1 -> 46605 | BQ11: =_xlfn.XLOOKUP(BP11,listeJours,listeJoursRepas) -> 0 | BR11: =_xlfn.XLOOKUP(BP11,listeJours,listeJoursDebut) -> 0 | BS11: =_xlfn.XLOOKUP(BP11,listeJours,listeJoursFin) -> 0 | BT11: =(BS11-BR11)-BQ11+IF((BS11-BR11)-BQ11>=TIME(6,0,0),TIME(0,20,0),TIME(0,0,0)) -> 0
B12: =B11+1 -> 46272 | C12: =_xlfn.XLOOKUP(B12,listeJours,listeJoursRepas) -> 0.03125 | D12: =_xlfn.XLOOKUP(B12,listeJours,listeJoursDebut) -> 0.33333333 | E12: =_xlfn.XLOOKUP(B12,listeJours,listeJoursFin) -> 0.70833333 | F12: =(E12-D12)-C12+IF((E12-D12)-C12>=TIME(6,0,0),TIME(0,20,0),TIME(0,0,0)) -> 0.35763889 | H12: =H11+1 -> 46302 | I12: =_xlfn.XLOOKUP(H12,listeJours,listeJoursRepas) -> 0 | J12: =_xlfn.XLOOKUP(H12,listeJours,listeJoursDebut) -> 0.33333333 | K12: =_xlfn.XLOOKUP(H12,listeJours,listeJoursFin) -> 0.54166667 | L12: =(K12-J12)-I12+IF((K12-J12)-I12>=TIME(6,0,0),TIME(0,20,0),TIME(0,0,0)) -> 0.20833333 | N12: =N11+1 -> 46333 | O12: =_xlfn.XLOOKUP(N12,listeJours,listeJoursRepas) -> 0 | P12: =_xlfn.XLOOKUP(N12,listeJours,listeJoursDebut) -> 0 | Q12: =_xlfn.XLOOKUP(N12,listeJours,listeJoursFin) -> 0 | R12: =(Q12-P12)-O12+IF((Q12-P12)-O12>=TIME(6,0,0),TIME(0,20,0),TIME(0,0,0)) -> 0 | T12: =T11+1 -> 46363 | U12: =_xlfn.XLOOKUP(T12,listeJours,listeJoursRepas) -> 0.03125 | V12: =_xlfn.XLOOKUP(T12,listeJours,listeJoursDebut) -> 0.33333333 | W12: =_xlfn.XLOOKUP(T12,listeJours,listeJoursFin) -> 0.70833333 | X12: =(W12-V12)-U12+IF((W12-V12)-U12>=TIME(6,0,0),TIME(0,20,0),TIME(0,0,0)) -> 0.35763889 | Z12: =Z11+1 -> 46394 | AA12: =_xlfn.XLOOKUP(Z12,listeJours,listeJoursRepas) -> 0.03125 | AB12: =_xlfn.XLOOKUP(Z12,listeJours,listeJoursDebut) -> 0.33333333 | AC12: =_xlfn.XLOOKUP(Z12,listeJours,listeJoursFin) -> 0.70833333 | AD12: =(AC12-AB12)-AA12+IF((AC12-AB12)-AA12>=TIME(6,0,0),TIME(0,20,0),TIME(0,0,0)) -> 0.35763889 | AF12: =AF11+1 -> 46425 | AG12: =_xlfn.XLOOKUP(AF12,listeJours,listeJoursRepas) -> 0 | AH12: =_xlfn.XLOOKUP(AF12,listeJours,listeJoursDebut) -> 0 | AI12: =_xlfn.XLOOKUP(AF12,listeJours,listeJoursFin) -> 0 | AJ12: =(AI12-AH12)-AG12+IF((AI12-AH12)-AG12>=TIME(6,0,0),TIME(0,20,0),TIME(0,0,0)) -> 0 | AL12: =AL11+1 -> 46453 | AM12: =_xlfn.XLOOKUP(AL12,listeJours,listeJoursRepas) -> 0 | AN12: =_xlfn.XLOOKUP(AL12,listeJours,listeJoursDebut) -> 0 | AO12: =_xlfn.XLOOKUP(AL12,listeJours,listeJoursFin) -> 0 | AP12: =(AO12-AN12)-AM12+IF((AO12-AN12)-AM12>=TIME(6,0,0),TIME(0,20,0),TIME(0,0,0)) -> 0 | AR12: =AR11+1 -> 46484 | AS12: =_xlfn.XLOOKUP(AR12,listeJours,listeJoursRepas) -> 0 | AT12: =_xlfn.XLOOKUP(AR12,listeJours,listeJoursDebut) -> 0.33333333 | AU12: =_xlfn.XLOOKUP(AR12,listeJours,listeJoursFin) -> 0.54166667 | AV12: =(AU12-AT12)-AS12+IF((AU12-AT12)-AS12>=TIME(6,0,0),TIME(0,20,0),TIME(0,0,0)) -> 0.20833333 | AX12: =AX11+1 -> 46514 | AY12: =_xlfn.XLOOKUP(AX12,listeJours,listeJoursRepas) -> 0 | AZ12: =_xlfn.XLOOKUP(AX12,listeJours,listeJoursDebut) -> 0 | BA12: =_xlfn.XLOOKUP(AX12,listeJours,listeJoursFin) -> 0 | BB12: =(BA12-AZ12)-AY12+IF((BA12-AZ12)-AY12>=TIME(6,0,0),TIME(0,20,0),TIME(0,0,0)) -> 0 | BD12: =BD11+1 -> 46545 | BE12: =_xlfn.XLOOKUP(BD12,listeJours,listeJoursRepas) -> 0.03125 | BF12: =_xlfn.XLOOKUP(BD12,listeJours,listeJoursDebut) -> 0.33333333 | BG12: =_xlfn.XLOOKUP(BD12,listeJours,listeJoursFin) -> 0.70833333 | BH12: =(BG12-BF12)-BE12+IF((BG12-BF12)-BE12>=TIME(6,0,0),TIME(0,20,0),TIME(0,0,0)) -> 0.35763889 | BJ12: =BJ11+1 -> 46575 | BK12: =_xlfn.XLOOKUP(BJ12,listeJours,listeJoursRepas) -> 0 | BL12: =_xlfn.XLOOKUP(BJ12,listeJours,listeJoursDebut) -> 0 | BM12: =_xlfn.XLOOKUP(BJ12,listeJours,listeJoursFin) -> 0 | BN12: =(BM12-BL12)-BK12+IF((BM12-BL12)-BK12>=TIME(6,0,0),TIME(0,20,0),TIME(0,0,0)) -> 0 | BP12: =BP11+1 -> 46606 | BQ12: =_xlfn.XLOOKUP(BP12,listeJours,listeJoursRepas) -> 0 | BR12: =_xlfn.XLOOKUP(BP12,listeJours,listeJoursDebut) -> 0 | BS12: =_xlfn.XLOOKUP(BP12,listeJours,listeJoursFin) -> 0 | BT12: =(BS12-BR12)-BQ12+IF((BS12-BR12)-BQ12>=TIME(6,0,0),TIME(0,20,0),TIME(0,0,0)) -> 0
B13: =B12+1 -> 46273 | C13: =_xlfn.XLOOKUP(B13,listeJours,listeJoursRepas) -> 0.03125 | D13: =_xlfn.XLOOKUP(B13,listeJours,listeJoursDebut) -> 0.33333333 | E13: =_xlfn.XLOOKUP(B13,listeJours,listeJoursFin) -> 0.75 | F13: =(E13-D13)-C13+IF((E13-D13)-C13>=TIME(6,0,0),TIME(0,20,0),TIME(0,0,0)) -> 0.39930556 | H13: =H12+1 -> 46303 | I13: =_xlfn.XLOOKUP(H13,listeJours,listeJoursRepas) -> 0.03125 | J13: =_xlfn.XLOOKUP(H13,listeJours,listeJoursDebut) -> 0.33333333 | K13: =_xlfn.XLOOKUP(H13,listeJours,listeJoursFin) -> 0.70833333 | L13: =(K13-J13)-I13+IF((K13-J13)-I13>=TIME(6,0,0),TIME(0,20,0),TIME(0,0,0)) -> 0.35763889 | N13: =N12+1 -> 46334 | O13: =_xlfn.XLOOKUP(N13,listeJours,listeJoursRepas) -> 0 | P13: =_xlfn.XLOOKUP(N13,listeJours,listeJoursDebut) -> 0 | Q13: =_xlfn.XLOOKUP(N13,listeJours,listeJoursFin) -> 0 | R13: =(Q13-P13)-O13+IF((Q13-P13)-O13>=TIME(6,0,0),TIME(0,20,0),TIME(0,0,0)) -> 0 | T13: =T12+1 -> 46364 | U13: =_xlfn.XLOOKUP(T13,listeJours,listeJoursRepas) -> 0.03125 | V13: =_xlfn.XLOOKUP(T13,listeJours,listeJoursDebut) -> 0.33333333 | W13: =_xlfn.XLOOKUP(T13,listeJours,listeJoursFin) -> 0.75 | X13: =(W13-V13)-U13+IF((W13-V13)-U13>=TIME(6,0,0),TIME(0,20,0),TIME(0,0,0)) -> 0.39930556 | Z13: =Z12+1 -> 46395 | AA13: =_xlfn.XLOOKUP(Z13,listeJours,listeJoursRepas) -> 0 | AB13: =_xlfn.XLOOKUP(Z13,listeJours,listeJoursDebut) -> 0.33333333 | AC13: =_xlfn.XLOOKUP(Z13,listeJours,listeJoursFin) -> 0.70833333 | AD13: =(AC13-AB13)-AA13+IF((AC13-AB13)-AA13>=TIME(6,0,0),TIME(0,20,0),TIME(0,0,0)) -> 0.38888889 | AF13: =AF12+1 -> 46426 | AG13: =_xlfn.XLOOKUP(AF13,listeJours,listeJoursRepas) -> 0.03125 | AH13: =_xlfn.XLOOKUP(AF13,listeJours,listeJoursDebut) -> 0.33333333 | AI13: =_xlfn.XLOOKUP(AF13,listeJours,listeJoursFin) -> 0.70833333 | AJ13: =(AI13-AH13)-AG13+IF((AI13-AH13)-AG13>=TIME(6,0,0),TIME(0,20,0),TIME(0,0,0)) -> 0.35763889 | AL13: =AL12+1 -> 46454 | AM13: =_xlfn.XLOOKUP(AL13,listeJours,listeJoursRepas) -> 0.03125 | AN13: =_xlfn.XLOOKUP(AL13,listeJours,listeJoursDebut) -> 0.33333333 | AO13: =_xlfn.XLOOKUP(AL13,listeJours,listeJoursFin) -> 0.70833333 | AP13: =(AO13-AN13)-AM13+IF((AO13-AN13)-AM13>=TIME(6,0,0),TIME(0,20,0),TIME(0,0,0)) -> 0.35763889 | AR13: =AR12+1 -> 46485 | AS13: =_xlfn.XLOOKUP(AR13,listeJours,listeJoursRepas) -> 0.03125 | AT13: =_xlfn.XLOOKUP(AR13,listeJours,listeJoursDebut) -> 0.33333333 | AU13: =_xlfn.XLOOKUP(AR13,listeJours,listeJoursFin) -> 0.70833333 | AV13: =(AU13-AT13)-AS13+IF((AU13-AT13)-AS13>=TIME(6,0,0),TIME(0,20,0),TIME(0,0,0)) -> 0.35763889 | AX13: =AX12+1 -> 46515 | AY13: =_xlfn.XLOOKUP(AX13,listeJours,listeJoursRepas) -> 0 | AZ13: =_xlfn.XLOOKUP(AX13,listeJours,listeJoursDebut) -> 0 | BA13: =_xlfn.XLOOKUP(AX13,listeJours,listeJoursFin) -> 0 | BB13: =(BA13-AZ13)-AY13+IF((BA13-AZ13)-AY13>=TIME(6,0,0),TIME(0,20,0),TIME(0,0,0)) -> 0 | BD13: =BD12+1 -> 46546 | BE13: =_xlfn.XLOOKUP(BD13,listeJours,listeJoursRepas) -> 0.03125 | BF13: =_xlfn.XLOOKUP(BD13,listeJours,listeJoursDebut) -> 0.33333333 | BG13: =_xlfn.XLOOKUP(BD13,listeJours,listeJoursFin) -> 0.75 | BH13: =(BG13-BF13)-BE13+IF((BG13-BF13)-BE13>=TIME(6,0,0),TIME(0,20,0),TIME(0,0,0)) -> 0.39930556 | BJ13: =BJ12+1 -> 46576 | BK13: =_xlfn.XLOOKUP(BJ13,listeJours,listeJoursRepas) -> 0 | BL13: =_xlfn.XLOOKUP(BJ13,listeJours,listeJoursDebut) -> 0 | BM13: =_xlfn.XLOOKUP(BJ13,listeJours,listeJoursFin) -> 0 | BN13: =(BM13-BL13)-BK13+IF((BM13-BL13)-BK13>=TIME(6,0,0),TIME(0,20,0),TIME(0,0,0)) -> 0 | BP13: =BP12+1 -> 46607 | BQ13: =_xlfn.XLOOKUP(BP13,listeJours,listeJoursRepas) -> 0 | BR13: =_xlfn.XLOOKUP(BP13,listeJours,listeJoursDebut) -> 0 | BS13: =_xlfn.XLOOKUP(BP13,listeJours,listeJoursFin) -> 0 | BT13: =(BS13-BR13)-BQ13+IF((BS13-BR13)-BQ13>=TIME(6,0,0),TIME(0,20,0),TIME(0,0,0)) -> 0
B14: =B13+1 -> 46274 | C14: =_xlfn.XLOOKUP(B14,listeJours,listeJoursRepas) -> 0 | D14: =_xlfn.XLOOKUP(B14,listeJours,listeJoursDebut) -> 0.33333333 | E14: =_xlfn.XLOOKUP(B14,listeJours,listeJoursFin) -> 0.54166667 | F14: =(E14-D14)-C14+IF((E14-D14)-C14>=TIME(6,0,0),TIME(0,20,0),TIME(0,0,0)) -> 0.20833333 | H14: =H13+1 -> 46304 | I14: =_xlfn.XLOOKUP(H14,listeJours,listeJoursRepas) -> 0 | J14: =_xlfn.XLOOKUP(H14,listeJours,listeJoursDebut) -> 0.33333333 | K14: =_xlfn.XLOOKUP(H14,listeJours,listeJoursFin) -> 0.70833333 | L14: =(K14-J14)-I14+IF((K14-J14)-I14>=TIME(6,0,0),TIME(0,20,0),TIME(0,0,0)) -> 0.38888889 | N14: =N13+1 -> 46335 | O14: =_xlfn.XLOOKUP(N14,listeJours,listeJoursRepas) -> 0.03125 | P14: =_xlfn.XLOOKUP(N14,listeJours,listeJoursDebut) -> 0.33333333 | Q14: =_xlfn.XLOOKUP(N14,listeJours,listeJoursFin) -> 0.70833333 | R14: =(Q14-P14)-O14+IF((Q14-P14)-O14>=TIME(6,0,0),TIME(0,20,0),TIME(0,0,0)) -> 0.35763889 | T14: =T13+1 -> 46365 | U14: =_xlfn.XLOOKUP(T14,listeJours,listeJoursRepas) -> 0 | V14: =_xlfn.XLOOKUP(T14,listeJours,listeJoursDebut) -> 0.33333333 | W14: =_xlfn.XLOOKUP(T14,listeJours,listeJoursFin) -> 0.54166667 | X14: =(W14-V14)-U14+IF((W14-V14)-U14>=TIME(6,0,0),TIME(0,20,0),TIME(0,0,0)) -> 0.20833333 | Z14: =Z13+1 -> 46396 | AA14: =_xlfn.XLOOKUP(Z14,listeJours,listeJoursRepas) -> 0 | AB14: =_xlfn.XLOOKUP(Z14,listeJours,listeJoursDebut) -> 0 | AC14: =_xlfn.XLOOKUP(Z14,listeJours,listeJoursFin) -> 0 | AD14: =(AC14-AB14)-AA14+IF((AC14-AB14)-AA14>=TIME(6,0,0),TIME(0,20,0),TIME(0,0,0)) -> 0 | AF14: =AF13+1 -> 46427 | AG14: =_xlfn.XLOOKUP(AF14,listeJours,listeJoursRepas) -> 0.03125 | AH14: =_xlfn.XLOOKUP(AF14,listeJours,listeJoursDebut) -> 0.33333333 | AI14: =_xlfn.XLOOKUP(AF14,listeJours,listeJoursFin) -> 0.75 | AJ14: =(AI14-AH14)-AG14+IF((AI14-AH14)-AG14>=TIME(6,0,0),TIME(0,20,0),TIME(0,0,0)) -> 0.39930556 | AL14: =AL13+1 -> 46455 | AM14: =_xlfn.XLOOKUP(AL14,listeJours,listeJoursRepas) -> 0.03125 | AN14: =_xlfn.XLOOKUP(AL14,listeJours,listeJoursDebut) -> 0.33333333 | AO14: =_xlfn.XLOOKUP(AL14,listeJours,listeJoursFin) -> 0.75 | AP14: =(AO14-AN14)-AM14+IF((AO14-AN14)-AM14>=TIME(6,0,0),TIME(0,20,0),TIME(0,0,0)) -> 0.39930556 | AR14: =AR13+1 -> 46486 | AS14: =_xlfn.XLOOKUP(AR14,listeJours,listeJoursRepas) -> 0 | AT14: =_xlfn.XLOOKUP(AR14,listeJours,listeJoursDebut) -> 0.33333333 | AU14: =_xlfn.XLOOKUP(AR14,listeJours,listeJoursFin) -> 0.70833333 | AV14: =(AU14-AT14)-AS14+IF((AU14-AT14)-AS14>=TIME(6,0,0),TIME(0,20,0),TIME(0,0,0)) -> 0.38888889 | AX14: =AX13+1 -> 46516 | AY14: =_xlfn.XLOOKUP(AX14,listeJours,listeJoursRepas) -> 0 | AZ14: =_xlfn.XLOOKUP(AX14,listeJours,listeJoursDebut) -> 0 | BA14: =_xlfn.XLOOKUP(AX14,listeJours,listeJoursFin) -> 0 | BB14: =(BA14-AZ14)-AY14+IF((BA14-AZ14)-AY14>=TIME(6,0,0),TIME(0,20,0),TIME(0,0,0)) -> 0 | BD14: =BD13+1 -> 46547 | BE14: =_xlfn.XLOOKUP(BD14,listeJours,listeJoursRepas) -> 0 | BF14: =_xlfn.XLOOKUP(BD14,listeJours,listeJoursDebut) -> 0.33333333 | BG14: =_xlfn.XLOOKUP(BD14,listeJours,listeJoursFin) -> 0.54166667 | BH14: =(BG14-BF14)-BE14+IF((BG14-BF14)-BE14>=TIME(6,0,0),TIME(0,20,0),TIME(0,0,0)) -> 0.20833333 | BJ14: =BJ13+1 -> 46577 | BK14: =_xlfn.XLOOKUP(BJ14,listeJours,listeJoursRepas) -> 0 | BL14: =_xlfn.XLOOKUP(BJ14,listeJours,listeJoursDebut) -> 0 | BM14: =_xlfn.XLOOKUP(BJ14,listeJours,listeJoursFin) -> 0 | BN14: =(BM14-BL14)-BK14+IF((BM14-BL14)-BK14>=TIME(6,0,0),TIME(0,20,0),TIME(0,0,0)) -> 0 | BP14: =BP13+1 -> 46608 | BQ14: =_xlfn.XLOOKUP(BP14,listeJours,listeJoursRepas) -> 0 | BR14: =_xlfn.XLOOKUP(BP14,listeJours,listeJoursDebut) -> 0 | BS14: =_xlfn.XLOOKUP(BP14,listeJours,listeJoursFin) -> 0 | BT14: =(BS14-BR14)-BQ14+IF((BS14-BR14)-BQ14>=TIME(6,0,0),TIME(0,20,0),TIME(0,0,0)) -> 0
