Workbook
Name annee1: Configuration!$B$1
Name annee2: Configuration!$C$1
Name aout: Calendrier!$BP$6:$BT$36
Name avril: Calendrier!$AR$6:$AV$35
Name base: Configuration!$B$8
Name debutVacEte: Configuration!$F$16
Name debutVacHiverA: Configuration!$F$10
Name debutVacHiverB: Configuration!$F$11
Name debutVacHiverC: Configuration!$F$12
Name debutVacNoel: Configuration!$F$9
Name debutVacPrintempsA: Configuration!$F$13
Name debutVacPrintempsB: Configuration!$F$14
Name debutVacPrintempsC: Configuration!$F$15
Name debutVacToussaint: Configuration!$F$8
Name decembre: Calendrier!$T$6:$X$36
Name du: Configuration!$B$11
Name fevrier: Calendrier!$AF$6:$AJ$34
Name finVacEte: Configuration!$G$16
Name finVacHiverA: Configuration!$G$10
Name finVacHiverB: Configuration!$G$11
Name finVacHiverC: Configuration!$G$12
Name finVacNoel: Configuration!$G$9
Name finVacPrintempsA: Configuration!$G$13
Name finVacPrintempsB: Configuration!$G$14
Name finVacPrintempsC: Configuration!$G$15
Name finVacToussaint: Configuration!$G$8
Name fractionnement: Configuration!$B$9
Name janvier: Calendrier!$Z$6:$AD$36
Name joursFeries: Configuration!$F$22:$F$34
Name joursFeriesAvantApresDureeZero: Configuration!$G$22:$G$34
Name joursVacancesTravailles: Configuration!$I$23:$M$60
Name juillet: Calendrier!$BJ$6:$BN$36
Name juin: Calendrier!$BD$6:$BH$35
Name listeDuree: Paramétrage!$K$2:$K$367
Name listeHebdoDebut: Configuration!$K$8:$K$14
Name listeHebdoDurees: Configuration!$M$8:$M$14
Name listeHebdoFin: Configuration!$L$8:$L$14
Name listeHebdoJours: Configuration!$H$8:$H$14
Name listeHebdoRepas: Configuration!$J$8:$J$14
Name listeJours: Paramétrage!$A$2:$A$367
Name listeJoursDebut: Paramétrage!$D$2:$D$367
Name listeJoursFeries: Paramétrage!$P$2:$P$367
Name listeJoursFin: Paramétrage!$E$2:$E$367
Name listeJoursParticliers: Configuration!$I$22:$M$122
Name listeJoursRepas: Paramétrage!$C$2:$C$367
Name listeJoursTravailles: Paramétrage!$M$2:$M$367
Name listeJoursVacancesZone: Paramétrage!$S$2:$S$367
Name listeNumeroJour: Paramétrage!$B$2:$B$367
Name listeWeekEnds: Paramétrage!$Q$2:$Q$367
Name mai: Calendrier!$AX$6:$BB$36
Name mars: Calendrier!$AL$6:$AP$36
Name novembre: Calendrier!$O$6:$R$35
Name octobre: Calendrier!$H$6:$L$36
Name paques: Configuration!$F$26
Name quotite: Configuration!$B$10
Name septembre: Calendrier!$B$6:$F$35
Name zone: Configuration!$B$2

Sheet Indications
A1: #VALUE! | B1: Configuration du calcul du temps de travail des personnels administratives et ITRF
B2: Pour fonctionner correctement, il faut obligatoirement modifier un paramètre pour excel : Il faut autoriser le calcul iteratif, cela se fait on général depuis le menu d'excel : Fichier -> Options -> Formules et : cocher la case Activer le calcul iteratif. vérifier que calcul automatique est sélectionner Si une modification n'est pas immédiatemment prise en compte, il peut être nécessairede faire une sauvegarde du fichier.
B3: Pour éviter des erreurs de manipulations les feuilles sont protégée. Cependant il n'y a pas de mos de passe, donc il est possible de désactiver la protection… avec prudence. Une feuille, nommé "Paramétrage" est masquée (attentention à ne pas la supprimer) | E3: Saisie : Saisir les dates sous le format : jj/mm/aa Saisir les heures sous le format : hh:mm
B4: Une fois la configuration faites sur la feuille "Configuration". Il faut consulter la feuille "Calendrier" pour avoir les informations sur le temps de travail.
B6: Élements à préciser dans l'onglet Configuration
B7: Année scolaire : | C7: Indiquer la première année de l'année scolaire. Le calendrier se construit automatiquement du 1er septembre de la 1re année, jusqu'au 31 août de la deuxième année. Les jours fériés sont calculés automatiquement.
B8: Zone : | C8: Indique la zone scolaire | E8: Légende pour les cellules de l'onglet "Configuration"
B9: Nombre d'heures à effectuer : | C9: Les temps de travail est calculé sur la base de 1607 h Il y a deux jours de fractionnement à prendre en compte si les congés ne sont pas tous pris entre le 1er mai et le 31 octobre. Il faut préciser la quotité de travail | F9: Le contenu peut être modifieé
B10: Période de vacances scolaires : | C10: A remplir à chaque nouvelle année scolaire . Il suffit d'entrer la date de début (comme dans le calendrier officiel) | F10: Le contenu de la cellule est calculé automatique, mais peut être modifié exceptionnellement
B11: Semaine type de travail : | C11: Préciser les horaires d'une semaine type de travail. La durée est calculée à partir de la plage indiquée (fin - début) à laquelle est soustraite la durée du repas. Si cette durée atteint 6 h ou plus par jour, les 20 minutes de temps de pause sont automatiquement ajoutées.
B12: Jours à horaires particuliers : | C12: Il est possible d'indiquer des jours particuliers comme : - Les jours travaillés pendant les vacances scolaires - indiquer des horaires différents pour un jour qui est habituellement travaillé (on peut modifier les horaires pour ce jour, mettre à zero les heures pour ce jour, indiquer que ce jour est travaillé alors quand dans le semaine type il ne l'est pas).
B14: Méthode de calcul concernant les jours fériés : | C14: Si je jour férié tombe un samedi ou un dimanche il est considéré comme non travaillé. Si le jour férié tombe un jour habituellement non travaillé (dans la semaine type), il est considéré comme non travaillé. Si le jour précédent et le jour suivant ne sont pas travaillés (durée nulle pour les 2 jours), alors le jour férié est considéré comme non travaillé.

Sheet Configuration
A1: Année scolaire | B1: 2026 | C1: =annee1+1 -> 2027
A2: Zone de vacances | B2: A
A5: Nombre d'heures à effectuer Sur une base de 1607 h jours de franctionnement : OUI si tous les congés ne sont pas pris entre le 1er mai et le 31 octobre | D5: Périodes de vacances scolaires La date de début est à indiquer comme dans le calendrier officiel (les vacances débute à la fin des cours de cette journée). Les date de fin sont calculées automatiquement (au jour de reprise des cours) | I5: Semaine de travail type La durée se calcule automatiquement (ajout de 20 min travaillé si supérieur à 6h). Ces valeurs sont reportées automatiquement dans le calendrier. Pour des cas particuliers les valeurs durée repas, début et fin peuvent être modifiées directement dans le calendrier (onglet calendrier).
D7: Période | E7: Zone | F7: Début | G7: Fin | I7: Jour | J7: Durée repas | K7: Début | L7: fin | M7: durée
A8: Temps de travail annuel | B8: 1607 | D8: Toussaint | F8: 46312 | G8: =F8+16 -> 46328 | H8: 1 | I8: lundi | J8: 0.03125 | K8: 0.33333333 | L8: 0.70833333 | M8: =(L8-K8)-J8+IF((L8-K8)-J8>=TIME(6,0,0),TIME(0,20,0),TIME(0,0,0)) -> 0.35763889
A9: 2 Jours de fractionnement | B9: Oui | D9: Noël | F9: 46375 | G9: =F9+16 -> 46391 | H9: 2 | I9: mardi | J9: 0.03125 | K9: 0.33333333 | L9: 0.75 | M9: =(L9-K9)-J9+IF((L9-K9)-J9>=TIME(6,0,0),TIME(0,20,0),TIME(0,0,0)) -> 0.39930556
A10: Quotité de travail (%) | B10: 1 | D10: Hiver | E10: A | F10: 46431 | G10: =F10+16 -> 46447 | H10: 3 | I10: mercredi | J10: 0 | K10: 0.33333333 | L10: 0.54166667 | M10: =(L10-K10)-J10+IF((L10-K10)-J10>=TIME(6,0,0),TIME(0,20,0),TIME(0,0,0)) -> 0.20833333
A11: Temps de travail à effectuer | B11: =(B8+IF(B9="Oui",-14))*B10 -> 1593 | E11: B | F11: 46438 | G11: =F11+16 -> 46454 | H11: 4 | I11: jeudi | J11: 0.03125 | K11: 0.33333333 | L11: 0.70833333 | M11: =(L11-K11)-J11+IF((L11-K11)-J11>=TIME(6,0,0),TIME(0,20,0),TIME(0,0,0)) -> 0.35763889
E12: C | F12: 46424 | G12: =F12+16 -> 46440 | H12: 5 | I12: vendredi | J12: 0 | K12: 0.33333333 | L12: 0.70833333 | M12: =(L12-K12)-J12+IF((L12-K12)-J12>=TIME(6,0,0),TIME(0,20,0),TIME(0,0,0)) -> 0.38888889
D13: Printemps | E13: A | F13: 46487 | G13: =F13+16 -> 46503 | H13: 6 | I13: samedi | M13: =(L13-K13)-J13+IF((L13-K13)-J13>=TIME(6,0,0),TIME(0,20,0),TIME(0,0,0)) -> 0
E14: B | F14: 46494 | G14: =F14+16 -> 46510 | H14: 7 | I14: dimanche | M14: =(L14-K14)-J14+IF((L14-K14)-J14>=TIME(6,0,0),TIME(0,20,0),TIME(0,0,0)) -> 0
E15: C | F15: 46480 | G15: =F15+16 -> 46496 | L15: Total hebdomadaire : | M15: =SUM(M8:M14) -> 1.7118056
D16: Été | F16: 46570 | G16: =DATE(annee2,9,1) -> 46631
E19: Jours fériés : Ils sont calculé automatique à partir de l'année scolaire en cours. | I19: Tableau des jours particuliers (à rentrer sous la forme jj/mm/aa) : Ici on peut indiquer les jours depermanences qui seront travaillés pendant les périodes de vacances élèves, ou changer pour une ou plusieurs dates précises les horaires (mettre à zero, ou modifier). Pour chaque date il faut préciser la durée du repas, le début et la fin du travail. Sur le côté de ce tableau apparaissent des pictogrammes pour alerter l'utilisateur. Quand on efface une date, il faut penser à effacer les horaires. Il n'est pas obligatoire de mettre les date dans l'ordre chronologique. Cependant il es possible par la suite de le trier.
E21: Jour | F21: Date | G21: J-1 et J+1 non travaillés | I21: Jour | J21: Durée repas | K21: Début | L21: Fin | M21: Durée | O21: durée négative | P21: Hors calendrier scolaire | Q21: Dimanche | R21: Jour férié | S21: Vacances Scolaire | T21: Jour de la semaine habituellement non travaillé | U21: Samedi | V21: Durée nulle
E22: Toussaint | F22: =DATE(annee1,11,1) -> 46327 | G22: =AND(_xlfn.XLOOKUP(F22-1,listeJours,listeDuree)=0,_xlfn.XLOOKUP(F22+1,listeJours,listeDuree)=0) -> FALSE | O22: =IF(I22="","",IF(M22<0,1,0)) | P22: =IF(I22="","",IF(OR(I22<DATE(annee1,9,1),I22>DATE(annee2,8,31)),1,0)) | Q22: =IF(I22="","",IF(WEEKDAY(I22,2)=7,1,0)) | R22: =IFERROR(IF(AND(I22,_xlfn.XLOOKUP(I22,listeJours,listeJoursFeries)),1,0),"") | S22: =IFERROR(IF(AND(I22,_xlfn.XLOOKUP(I22,listeJours,listeJoursVacancesZone)),1,0),"") | T22: =IF(I22="","",IF(NOT(_xlfn.XLOOKUP(WEEKDAY(I22,2),listeHebdoJours,listeHebdoDurees)),1,0)) | U22: =IF(I22="","",IF(WEEKDAY(I22,2)=6,1,0)) | V22: =IF(I22="","",IF(M22=0,1,0))
E23: Armistice | F23: =DATE(annee1,11,11) -> 46337 | G23: =AND(_xlfn.XLOOKUP(F23-1,listeJours,listeDuree)=0,_xlfn.XLOOKUP(F23+1,listeJours,listeDuree)=0) -> FALSE | O23: =IF(I23="","",IF(M23<0,1,0)) | P23: =IF(I23="","",IF(OR(I23<DATE(annee1,9,1),I23>DATE(annee2,8,31)),1,0)) | Q23: =IF(I23="","",IF(WEEKDAY(I23,2)=7,1,0)) | R23: =IFERROR(IF(AND(I23,_xlfn.XLOOKUP(I23,listeJours,listeJoursFeries)),1,0),"") | S23: =IFERROR(IF(AND(I23,_xlfn.XLOOKUP(I23,listeJours,listeJoursVacancesZone)),1,0),"") | T23: =IF(I23="","",IF(NOT(_xlfn.XLOOKUP(WEEKDAY(I23,2),listeHebdoJours,listeHebdoDurees)),1,0)) | U23: =IF(I23="","",IF(WEEKDAY(I23,2)=6,1,0)) | V23: =IF(I23="","",IF(M23=0,1,0))
E24: Noël | F24: =DATE(annee1,12,25) -> 46381 | G24: =AND(_xlfn.XLOOKUP(F24-1,listeJours,listeDuree)=0,_xlfn.XLOOKUP(F24+1,listeJours,listeDuree)=0) -> TRUE | O24: =IF(I24="","",IF(M24<0,1,0)) | P24: =IF(I24="","",IF(OR(I24<DATE(annee1,9,1),I24>DATE(annee2,8,31)),1,0)) | Q24: =IF(I24="","",IF(WEEKDAY(I24,2)=7,1,0)) | R24: =IFERROR(IF(AND(I24,_xlfn.XLOOKUP(I24,listeJours,listeJoursFeries)),1,0),"") | S24: =IFERROR(IF(AND(I24,_xlfn.XLOOKUP(I24,listeJours,listeJoursVacancesZone)),1,0),"") | T24: =IF(I24="","",IF(NOT(_xlfn.XLOOKUP(WEEKDAY(I24,2),listeHebdoJours,listeHebdoDurees)),1,0)) | U24: =IF(I24="","",IF(WEEKDAY(I24,2)=6,1,0)) | V24: =IF(I24="","",IF(M24=0,1,0))
E25: Nouvel an | F25: =DATE(annee2,1,1) -> 46388 | G25: =AND(_xlfn.XLOOKUP(F25-1,listeJours,listeDuree)=0,_xlfn.XLOOKUP(F25+1,listeJours,listeDuree)=0) -> TRUE | O25: =IF(I25="","",IF(M25<0,1,0)) | P25: =IF(I25="","",IF(OR(I25<DATE(annee1,9,1),I25>DATE(annee2,8,31)),1,0)) | Q25: =IF(I25="","",IF(WEEKDAY(I25,2)=7,1,0)) | R25: =IFERROR(IF(AND(I25,_xlfn.XLOOKUP(I25,listeJours,listeJoursFeries)),1,0),"") | S25: =IFERROR(IF(AND(I25,_xlfn.XLOOKUP(I25,listeJours,listeJoursVacancesZone)),1,0),"") | T25: =IF(I25="","",IF(NOT(_xlfn.XLOOKUP(WEEKDAY(I25,2),listeHebdoJours,listeHebdoDurees)),1,0)) | U25: =IF(I25="","",IF(WEEKDAY(I25,2)=6,1,0)) | V25: =IF(I25="","",IF(M25=0,1,0))
E26: Pâques | F26: =ROUND(DATE(annee2,4,MOD(234-11*MOD(annee2,19),30))/7,0)*7-6 -> 46474 | G26: =AND(_xlfn.XLOOKUP(F26-1,listeJours,listeDuree)=0,_xlfn.XLOOKUP(F26+1,listeJours,listeDuree)=0) -> FALSE | O26: =IF(I26="","",IF(M26<0,1,0)) | P26: =IF(I26="","",IF(OR(I26<DATE(annee1,9,1),I26>DATE(annee2,8,31)),1,0)) | Q26: =IF(I26="","",IF(WEEKDAY(I26,2)=7,1,0)) | R26: =IFERROR(IF(AND(I26,_xlfn.XLOOKUP(I26,listeJours,listeJoursFeries)),1,0),"") | S26: =IFERROR(IF(AND(I26,_xlfn.XLOOKUP(I26,listeJours,listeJoursVacancesZone)),1,0),"") | T26: =IF(I26="","",IF(NOT(_xlfn.XLOOKUP(WEEKDAY(I26,2),listeHebdoJours,listeHebdoDurees)),1,0)) | U26: =IF(I26="","",IF(WEEKDAY(I26,2)=6,1,0)) | V26: =IF(I26="","",IF(M26=0,1,0))
E27: Lundi de Pâques | F27: =paques+1 -> 46475 | G27: =AND(_xlfn.XLOOKUP(F27-1,listeJours,listeDuree)=0,_xlfn.XLOOKUP(F27+1,listeJours,listeDuree)=0) -> FALSE | O27: =IF(I27="","",IF(M27<0,1,0)) | P27: =IF(I27="","",IF(OR(I27<DATE(annee1,9,1),I27>DATE(annee2,8,31)),1,0)) | Q27: =IF(I27="","",IF(WEEKDAY(I27,2)=7,1,0)) | R27: =IFERROR(IF(AND(I27,_xlfn.XLOOKUP(I27,listeJours,listeJoursFeries)),1,0),"") | S27: =IFERROR(IF(AND(I27,_xlfn.XLOOKUP(I27,listeJours,listeJoursVacancesZone)),1,0),"") | T27: =IF(I27="","",IF(NOT(_xlfn.XLOOKUP(WEEKDAY(I27,2),listeHebdoJours,listeHebdoDurees)),1,0)) | U27: =IF(I27="","",IF(WEEKDAY(I27,2)=6,1,0)) | V27: =IF(I27="","",IF(M27=0,1,0))
E28: Fête du travail | F28: =DATE(annee2,5,1) -> 46508 | G28: =AND(_xlfn.XLOOKUP(F28-1,listeJours,listeDuree)=0,_xlfn.XLOOKUP(F28+1,listeJours,listeDuree)=0) -> FALSE | O28: =IF(I28="","",IF(M28<0,1,0)) | P28: =IF(I28="","",IF(OR(I28<DATE(annee1,9,1),I28>DATE(annee2,8,31)),1,0)) | Q28: =IF(I28="","",IF(WEEKDAY(I28,2)=7,1,0)) | R28: =IFERROR(IF(AND(I28,_xlfn.XLOOKUP(I28,listeJours,listeJoursFeries)),1,0),"") | S28: =IFERROR(IF(AND(I28,_xlfn.XLOOKUP(I28,listeJours,listeJoursVacancesZone)),1,0),"") | T28: =IF(I28="","",IF(NOT(_xlfn.XLOOKUP(WEEKDAY(I28,2),listeHebdoJours,listeHebdoDurees)),1,0)) | U28: =IF(I28="","",IF(WEEKDAY(I28,2)=6,1,0)) | V28: =IF(I28="","",IF(M28=0,1,0))
E29: Jeudi de l'ascencion | F29: =paques+39 -> 46513 | G29: =AND(_xlfn.XLOOKUP(F29-1,listeJours,listeDuree)=0,_xlfn.XLOOKUP(F29+1,listeJours,listeDuree)=0) -> FALSE | O29: =IF(I29="","",IF(M29<0,1,0)) | P29: =IF(I29="","",IF(OR(I29<DATE(annee1,9,1),I29>DATE(annee2,8,31)),1,0)) | Q29: =IF(I29="","",IF(WEEKDAY(I29,2)=7,1,0)) | R29: =IFERROR(IF(AND(I29,_xlfn.XLOOKUP(I29,listeJours,listeJoursFeries)),1,0),"") | S29: =IFERROR(IF(AND(I29,_xlfn.XLOOKUP(I29,listeJours,listeJoursVacancesZone)),1,0),"") | T29: =IF(I29="","",IF(NOT(_xlfn.XLOOKUP(WEEKDAY(I29,2),listeHebdoJours,listeHebdoDurees)),1,0)) | U29: =IF(I29="","",IF(WEEKDAY(I29,2)=6,1,0)) | V29: =IF(I29="","",IF(M29=0,1,0))
E30: Pont de l'ascension | F30: =paques+40 -> 46514 | G30: =TRUE() -> TRUE | O30: =IF(I30="","",IF(M30<0,1,0)) | P30: =IF(I30="","",IF(OR(I30<DATE(annee1,9,1),I30>DATE(annee2,8,31)),1,0)) | Q30: =IF(I30="","",IF(WEEKDAY(I30,2)=7,1,0)) | R30: =IFERROR(IF(AND(I30,_xlfn.XLOOKUP(I30,listeJours,listeJoursFeries)),1,0),"") | S30: =IFERROR(IF(AND(I30,_xlfn.XLOOKUP(I30,listeJours,listeJoursVacancesZone)),1,0),"") | T30: =IF(I30="","",IF(NOT(_xlfn.XLOOKUP(WEEKDAY(I30,2),listeHebdoJours,listeHebdoDurees)),1,0)) | U30: =IF(I30="","",IF(WEEKDAY(I30,2)=6,1,0)) | V30: =IF(I30="","",IF(M30=0,1,0))
E31: 53090 | F31: =DATE(annee2,5,8) -> 46515 | G31: =AND(_xlfn.XLOOKUP(F31-1,listeJours,listeDuree)=0,_xlfn.XLOOKUP(F31+1,listeJours,listeDuree)=0) -> TRUE | O31: =IF(I31="","",IF(M31<0,1,0)) | P31: =IF(I31="","",IF(OR(I31<DATE(annee1,9,1),I31>DATE(annee2,8,31)),1,0)) | Q31: =IF(I31="","",IF(WEEKDAY(I31,2)=7,1,0)) | R31: =IFERROR(IF(AND(I31,_xlfn.XLOOKUP(I31,listeJours,listeJoursFeries)),1,0),"") | S31: =IFERROR(IF(AND(I31,_xlfn.XLOOKUP(I31,listeJours,listeJoursVacancesZone)),1,0),"") | T31: =IF(I31="","",IF(NOT(_xlfn.XLOOKUP(WEEKDAY(I31,2),listeHebdoJours,listeHebdoDurees)),1,0)) | U31: =IF(I31="","",IF(WEEKDAY(I31,2)=6,1,0)) | V31: =IF(I31="","",IF(M31=0,1,0))
E32: Lundi de Pentecôte | F32: =paques+50 -> 46524 | G32: =AND(_xlfn.XLOOKUP(F32-1,listeJours,listeDuree)=0,_xlfn.XLOOKUP(F32+1,listeJours,listeDuree)=0) -> FALSE | O32: =IF(I32="","",IF(M32<0,1,0)) | P32: =IF(I32="","",IF(OR(I32<DATE(annee1,9,1),I32>DATE(annee2,8,31)),1,0)) | Q32: =IF(I32="","",IF(WEEKDAY(I32,2)=7,1,0)) | R32: =IFERROR(IF(AND(I32,_xlfn.XLOOKUP(I32,listeJours,listeJoursFeries)),1,0),"") | S32: =IFERROR(IF(AND(I32,_xlfn.XLOOKUP(I32,listeJours,listeJoursVacancesZone)),1,0),"") | T32: =IF(I32="","",IF(NOT(_xlfn.XLOOKUP(WEEKDAY(I32,2),listeHebdoJours,listeHebdoDurees)),1,0)) | U32: =IF(I32="","",IF(WEEKDAY(I32,2)=6,1,0)) | V32: =IF(I32="","",IF(M32=0,1,0))
E33: 46217 | F33: =DATE(annee2,7,14) -> 46582 | G33: =AND(_xlfn.XLOOKUP(F33-1,listeJours,listeDuree)=0,_xlfn.XLOOKUP(F33+1,listeJours,listeDuree)=0) -> TRUE | O33: =IF(I33="","",IF(M33<0,1,0)) | P33: =IF(I33="","",IF(OR(I33<DATE(annee1,9,1),I33>DATE(annee2,8,31)),1,0)) | Q33: =IF(I33="","",IF(WEEKDAY(I33,2)=7,1,0)) | R33: =IFERROR(IF(AND(I33,_xlfn.XLOOKUP(I33,listeJours,listeJoursFeries)),1,0),"") | S33: =IFERROR(IF(AND(I33,_xlfn.XLOOKUP(I33,listeJours,listeJoursVacancesZone)),1,0),"") | T33: =IF(I33="","",IF(NOT(_xlfn.XLOOKUP(WEEKDAY(I33,2),listeHebdoJours,listeHebdoDurees)),1,0)) | U33: =IF(I33="","",IF(WEEKDAY(I33,2)=6,1,0)) | V33: =IF(I33="","",IF(M33=0,1,0))
E34: 46249 | F34: =DATE(annee2,8,15) -> 46614 | G34: =AND(_xlfn.XLOOKUP(F34-1,listeJours,listeDuree)=0,_xlfn.XLOOKUP(F34+1,listeJours,listeDuree)=0) -> TRUE | O34: =IF(I34="","",IF(M34<0,1,0)) | P34: =IF(I34="","",IF(OR(I34<DATE(annee1,9,1),I34>DATE(annee2,8,31)),1,0)) | Q34: =IF(I34="","",IF(WEEKDAY(I34,2)=7,1,0)) | R34: =IFERROR(IF(AND(I34,_xlfn.XLOOKUP(I34,listeJours,listeJoursFeries)),1,0),"") | S34: =IFERROR(IF(AND(I34,_xlfn.XLOOKUP(I34,listeJours,listeJoursVacancesZone)),1,0),"") | T34: =IF(I34="","",IF(NOT(_xlfn.XLOOKUP(WEEKDAY(I34,2),listeHebdoJours,listeHebdoDurees)),1,0)) | U34: =IF(I34="","",IF(WEEKDAY(I34,2)=6,1,0)) | V34: =IF(I34="","",IF(M34=0,1,0))
O35: =IF(I35="","",IF(M35<0,1,0)) | P35: =IF(I35="","",IF(OR(I35<DATE(annee1,9,1),I35>DATE(annee2,8,31)),1,0)) | Q35: =IF(I35="","",IF(WEEKDAY(I35,2)=7,1,0)) | R35: =IFERROR(IF(AND(I35,_xlfn.XLOOKUP(I35,listeJours,listeJoursFeries)),1,0),"") | S35: =IFERROR(IF(AND(I35,_xlfn.XLOOKUP(I35,listeJours,listeJoursVacancesZone)),1,0),"") | T35: =IF(I35="","",IF(NOT(_xlfn.XLOOKUP(WEEKDAY(I35,2),listeHebdoJours,listeHebdoDurees)),1,0)) | U35: =IF(I35="","",IF(WEEKDAY(I35,2)=6,1,0)) | V35: =IF(I35="","",IF(M35=0,1,0))
O36: =IF(I36="","",IF(M36<0,1,0)) | P36: =IF(I36="","",IF(OR(I36<DATE(annee1,9,1),I36>DATE(annee2,8,31)),1,0)) | Q36: =IF(I36="","",IF(WEEKDAY(I36,2)=7,1,0)) | R36: =IFERROR(IF(AND(I36,_xlfn.XLOOKUP(I36,listeJours,listeJoursFeries)),1,0),"") | S36: =IFERROR(IF(AND(I36,_xlfn.XLOOKUP(I36,listeJours,listeJoursVacancesZone)),1,0),"") | T36: =IF(I36="","",IF(NOT(_xlfn.XLOOKUP(WEEKDAY(I36,2),listeHebdoJours,listeHebdoDurees)),1,0)) | U36: =IF(I36="","",IF(WEEKDAY(I36,2)=6,1,0)) | V36: =IF(I36="","",IF(M36=0,1,0))
O37: =IF(I37="","",IF(M37<0,1,0)) | P37: =IF(I37="","",IF(OR(I37<DATE(annee1,9,1),I37>DATE(annee2,8,31)),1,0)) | Q37: =IF(I37="","",IF(WEEKDAY(I37,2)=7,1,0)) | R37: =IFERROR(IF(AND(I37,_xlfn.XLOOKUP(I37,listeJours,listeJoursFeries)),1,0),"") | S37: =IFERROR(IF(AND(I37,_xlfn.XLOOKUP(I37,listeJours,listeJoursVacancesZone)),1,0),"") | T37: =IF(I37="","",IF(NOT(_xlfn.XLOOKUP(WEEKDAY(I37,2),listeHebdoJours,listeHebdoDurees)),1,0)) | U37: =IF(I37="","",IF(WEEKDAY(I37,2)=6,1,0)) | V37: =IF(I37="","",IF(M37=0,1,0))
O38: =IF(I38="","",IF(M38<0,1,0)) | P38: =IF(I38="","",IF(OR(I38<DATE(annee1,9,1),I38>DATE(annee2,8,31)),1,0)) | Q38: =IF(I38="","",IF(WEEKDAY(I38,2)=7,1,0)) | R38: =IFERROR(IF(AND(I38,_xlfn.XLOOKUP(I38,listeJours,listeJoursFeries)),1,0),"") | S38: =IFERROR(IF(AND(I38,_xlfn.XLOOKUP(I38,listeJours,listeJoursVacancesZone)),1,0),"") | T38: =IF(I38="","",IF(NOT(_xlfn.XLOOKUP(WEEKDAY(I38,2),listeHebdoJours,listeHebdoDurees)),1,0)) | U38: =IF(I38="","",IF(WEEKDAY(I38,2)=6,1,0)) | V38: =IF(I38="","",IF(M38=0,1,0))
O39: =IF(I39="","",IF(M39<0,1,0)) | P39: =IF(I39="","",IF(OR(I39<DATE(annee1,9,1),I39>DATE(annee2,8,31)),1,0)) | Q39: =IF(I39="","",IF(WEEKDAY(I39,2)=7,1,0)) | R39: =IFERROR(IF(AND(I39,_xlfn.XLOOKUP(I39,listeJours,listeJoursFeries)),1,0),"") | S39: =IFERROR(IF(AND(I39,_xlfn.XLOOKUP(I39,listeJours,listeJoursVacancesZone)),1,0),"") | T39: =IF(I39="","",IF(NOT(_xlfn.XLOOKUP(WEEKDAY(I39,2),listeHebdoJours,listeHebdoDurees)),1,0)) | U39: =IF(I39="","",IF(WEEKDAY(I39,2)=6,1,0)) | V39: =IF(I39="","",IF(M39=0,1,0))
O40: =IF(I40="","",IF(M40<0,1,0)) | P40: =IF(I40="","",IF(OR(I40<DATE(annee1,9,1),I40>DATE(annee2,8,31)),1,0)) | Q40: =IF(I40="","",IF(WEEKDAY(I40,2)=7,1,0)) | R40: =IFERROR(IF(AND(I40,_xlfn.XLOOKUP(I40,listeJours,listeJoursFeries)),1,0),"") | S40: =IFERROR(IF(AND(I40,_xlfn.XLOOKUP(I40,listeJours,listeJoursVacancesZone)),1,0),"") | T40: =IF(I40="","",IF(NOT(_xlfn.XLOOKUP(WEEKDAY(I40,2),listeHebdoJours,listeHebdoDurees)),1,0)) | U40: =IF(I40="","",IF(WEEKDAY(I40,2)=6,1,0)) | V40: =IF(I40="","",IF(M40=0,1,0))
O41: =IF(I41="","",IF(M41<0,1,0)) | P41: =IF(I41="","",IF(OR(I41<DATE(annee1,9,1),I41>DATE(annee2,8,31)),1,0)) | Q41: =IF(I41="","",IF(WEEKDAY(I41,2)=7,1,0)) | R41: =IFERROR(IF(AND(I41,_xlfn.XLOOKUP(I41,listeJours,listeJoursFeries)),1,0),"") | S41: =IFERROR(IF(AND(I41,_xlfn.XLOOKUP(I41,listeJours,listeJoursVacancesZone)),1,0),"") | T41: =IF(I41="","",IF(NOT(_xlfn.XLOOKUP(WEEKDAY(I41,2),listeHebdoJours,listeHebdoDurees)),1,0)) | U41: =IF(I41="","",IF(WEEKDAY(I41,2)=6,1,0)) | V41: =IF(I41="","",IF(M41=0,1,0))
O42: =IF(I42="","",IF(M42<0,1,0)) | P42: =IF(I42="","",IF(OR(I42<DATE(annee1,9,1),I42>DATE(annee2,8,31)),1,0)) | Q42: =IF(I42="","",IF(WEEKDAY(I42,2)=7,1,0)) | R42: =IFERROR(IF(AND(I42,_xlfn.XLOOKUP(I42,listeJours,listeJoursFeries)),1,0),"") | S42: =IFERROR(IF(AND(I42,_xlfn.XLOOKUP(I42,listeJours,listeJoursVacancesZone)),1,0),"") | T42: =IF(I42="","",IF(NOT(_xlfn.XLOOKUP(WEEKDAY(I42,2),listeHebdoJours,listeHebdoDurees)),1,0)) | U42: =IF(I42="","",IF(WEEKDAY(I42,2)=6,1,0)) | V42: =IF(I42="","",IF(M42=0,1,0))
O43: =IF(I43="","",IF(M43<0,1,0)) | P43: =IF(I43="","",IF(OR(I43<DATE(annee1,9,1),I43>DATE(annee2,8,31)),1,0)) | Q43: =IF(I43="","",IF(WEEKDAY(I43,2)=7,1,0)) | R43: =IFERROR(IF(AND(I43,_xlfn.XLOOKUP(I43,listeJours,listeJoursFeries)),1,0),"") | S43: =IFERROR(IF(AND(I43,_xlfn.XLOOKUP(I43,listeJours,listeJoursVacancesZone)),1,0),"") | T43: =IF(I43="","",IF(NOT(_xlfn.XLOOKUP(WEEKDAY(I43,2),listeHebdoJours,listeHebdoDurees)),1,0)) | U43: =IF(I43="","",IF(WEEKDAY(I43,2)=6,1,0)) | V43: =IF(I43="","",IF(M43=0,1,0))
M44: =IF(I44="","",(L44-K44)-J44+IF((L44-K44)-J44>=TIME(6,0,0),TIME(0,20,0),TIME(0,0,0))) | O44: =IF(I44="","",IF(M44<0,1,0)) | P44: =IF(I44="","",IF(OR(I44<DATE(annee1,9,1),I44>DATE(annee2,8,31)),1,0)) | Q44: =IF(I44="","",IF(WEEKDAY(I44,2)=7,1,0)) | R44: =IFERROR(IF(AND(I44,_xlfn.XLOOKUP(I44,listeJours,listeJoursFeries)),1,0),"") | S44: =IFERROR(IF(AND(I44,_xlfn.XLOOKUP(I44,listeJours,listeJoursVacancesZone)),1,0),"") | T44: =IF(I44="","",IF(NOT(_xlfn.XLOOKUP(WEEKDAY(I44,2),listeHebdoJours,listeHebdoDurees)),1,0)) | U44: =IF(I44="","",IF(WEEKDAY(I44,2)=6,1,0)) | V44: =IF(I44="","",IF(M44=0,1,0))
M45: =IF(I45="","",(L45-K45)-J45+IF((L45-K45)-J45>=TIME(6,0,0),TIME(0,20,0),TIME(0,0,0))) | O45: =IF(I45="","",IF(M45<0,1,0)) | P45: =IF(I45="","",IF(OR(I45<DATE(annee1,9,1),I45>DATE(annee2,8,31)),1,0)) | Q45: =IF(I45="","",IF(WEEKDAY(I45,2)=7,1,0)) | R45: =IFERROR(IF(AND(I45,_xlfn.XLOOKUP(I45,listeJours,listeJoursFeries)),1,0),"") | S45: =IFERROR(IF(AND(I45,_xlfn.XLOOKUP(I45,listeJours,listeJoursVacancesZone)),1,0),"") | T45: =IF(I45="","",IF(NOT(_xlfn.XLOOKUP(WEEKDAY(I45,2),listeHebdoJours,listeHebdoDurees)),1,0)) | U45: =IF(I45="","",IF(WEEKDAY(I45,2)=6,1,0)) | V45: =IF(I45="","",IF(M45=0,1,0))
M46: =IF(I46="","",(L46-K46)-J46+IF((L46-K46)-J46>=TIME(6,0,0),TIME(0,20,0),TIME(0,0,0))) | O46: =IF(I46="","",IF(M46<0,1,0)) | P46: =IF(I46="","",IF(OR(I46<DATE(annee1,9,1),I46>DATE(annee2,8,31)),1,0)) | Q46: =IF(I46="","",IF(WEEKDAY(I46,2)=7,1,0)) | R46: =IFERROR(IF(AND(I46,_xlfn.XLOOKUP(I46,listeJours,listeJoursFeries)),1,0),"") | S46: =IFERROR(IF(AND(I46,_xlfn.XLOOKUP(I46,listeJours,listeJoursVacancesZone)),1,0),"") | T46: =IF(I46="","",IF(NOT(_xlfn.XLOOKUP(WEEKDAY(I46,2),listeHebdoJours,listeHebdoDurees)),1,0)) | U46: =IF(I46="","",IF(WEEKDAY(I46,2)=6,1,0)) | V46: =IF(I46="","",IF(M46=0,1,0))
M47: =IF(I47="","",(L47-K47)-J47+IF((L47-K47)-J47>=TIME(6,0,0),TIME(0,20,0),TIME(0,0,0))) | O47: =IF(I47="","",IF(M47<0,1,0)) | P47: =IF(I47="","",IF(OR(I47<DATE(annee1,9,1),I47>DATE(annee2,8,31)),1,0)) | Q47: =IF(I47="","",IF(WEEKDAY(I47,2)=7,1,0)) | R47: =IFERROR(IF(AND(I47,_xlfn.XLOOKUP(I47,listeJours,listeJoursFeries)),1,0),"") | S47: =IFERROR(IF(AND(I47,_xlfn.XLOOKUP(I47,listeJours,listeJoursVacancesZone)),1,0),"") | T47: =IF(I47="","",IF(NOT(_xlfn.XLOOKUP(WEEKDAY(I47,2),listeHebdoJours,listeHebdoDurees)),1,0)) | U47: =IF(I47="","",IF(WEEKDAY(I47,2)=6,1,0)) | V47: =IF(I47="","",IF(M47=0,1,0))
M48: =IF(I48="","",(L48-K48)-J48+IF((L48-K48)-J48>=TIME(6,0,0),TIME(0,20,0),TIME(0,0,0))) | O48: =IF(I48="","",IF(M48<0,1,0)) | P48: =IF(I48="","",IF(OR(I48<DATE(annee1,9,1),I48>DATE(annee2,8,31)),1,0)) | Q48: =IF(I48="","",IF(WEEKDAY(I48,2)=7,1,0)) | R48: =IFERROR(IF(AND(I48,_xlfn.XLOOKUP(I48,listeJours,listeJoursFeries)),1,0),"") | S48: =IFERROR(IF(AND(I48,_xlfn.XLOOKUP(I48,listeJours,listeJoursVacancesZone)),1,0),"") | T48: =IF(I48="","",IF(NOT(_xlfn.XLOOKUP(WEEKDAY(I48,2),listeHebdoJours,listeHebdoDurees)),1,0)) | U48: =IF(I48="","",IF(WEEKDAY(I48,2)=6,1,0)) | V48: =IF(I48="","",IF(M48=0,1,0))
M49: =IF(I49="","",(L49-K49)-J49+IF((L49-K49)-J49>=TIME(6,0,0),TIME(0,20,0),TIME(0,0,0))) | O49: =IF(I49="","",IF(M49<0,1,0)) | P49: =IF(I49="","",IF(OR(I49<DATE(annee1,9,1),I49>DATE(annee2,8,31)),1,0)) | Q49: =IF(I49="","",IF(WEEKDAY(I49,2)=7,1,0)) | R49: =IFERROR(IF(AND(I49,_xlfn.XLOOKUP(I49,listeJours,listeJoursFeries)),1,0),"") | S49: =IFERROR(IF(AND(I49,_xlfn.XLOOKUP(I49,listeJours,listeJoursVacancesZone)),1,0),"") | T49: =IF(I49="","",IF(NOT(_xlfn.XLOOKUP(WEEKDAY(I49,2),listeHebdoJours,listeHebdoDurees)),1,0)) | U49: =IF(I49="","",IF(WEEKDAY(I49,2)=6,1,0)) | V49: =IF(I49="","",IF(M49=0,1,0))
M50: =IF(I50="","",(L50-K50)-J50+IF((L50-K50)-J50>=TIME(6,0,0),TIME(0,20,0),TIME(0,0,0))) | O50: =IF(I50="","",IF(M50<0,1,0)) | P50: =IF(I50="","",IF(OR(I50<DATE(annee1,9,1),I50>DATE(annee2,8,31)),1,0)) | Q50: =IF(I50="","",IF(WEEKDAY(I50,2)=7,1,0)) | R50: =IFERROR(IF(AND(I50,_xlfn.XLOOKUP(I50,listeJours,listeJoursFeries)),1,0),"") | S50: =IFERROR(IF(AND(I50,_xlfn.XLOOKUP(I50,listeJours,listeJoursVacancesZone)),1,0),"") | T50: =IF(I50="","",IF(NOT(_xlfn.XLOOKUP(WEEKDAY(I50,2),listeHebdoJours,listeHebdoDurees)),1,0)) | U50: =IF(I50="","",IF(WEEKDAY(I50,2)=6,1,0)) | V50: =IF(I50="","",IF(M50=0,1,0))
M51: =IF(I51="","",(L51-K51)-J51+IF((L51-K51)-J51>=TIME(6,0,0),TIME(0,20,0),TIME(0,0,0))) | O51: =IF(I51="","",IF(M51<0,1,0)) | P51: =IF(I51="","",IF(OR(I51<DATE(annee1,9,1),I51>DATE(annee2,8,31)),1,0)) | Q51: =IF(I51="","",IF(WEEKDAY(I51,2)=7,1,0)) | R51: =IFERROR(IF(AND(I51,_xlfn.XLOOKUP(I51,listeJours,listeJoursFeries)),1,0),"") | S51: =IFERROR(IF(AND(I51,_xlfn.XLOOKUP(I51,listeJours,listeJoursVacancesZone)),1,0),"") | T51: =IF(I51="","",IF(NOT(_xlfn.XLOOKUP(WEEKDAY(I51,2),listeHebdoJours,listeHebdoDurees)),1,0)) | U51: =IF(I51="","",IF(WEEKDAY(I51,2)=6,1,0)) | V51: =IF(I51="","",IF(M51=0,1,0))
M52: =IF(I52="","",(L52-K52)-J52+IF((L52-K52)-J52>=TIME(6,0,0),TIME(0,20,0),TIME(0,0,0))) | O52: =IF(I52="","",IF(M52<0,1,0)) | P52: =IF(I52="","",IF(OR(I52<DATE(annee1,9,1),I52>DATE(annee2,8,31)),1,0)) | Q52: =IF(I52="","",IF(WEEKDAY(I52,2)=7,1,0)) | R52: =IFERROR(IF(AND(I52,_xlfn.XLOOKUP(I52,listeJours,listeJoursFeries)),1,0),"") | S52: =IFERROR(IF(AND(I52,_xlfn.XLOOKUP(I52,listeJours,listeJoursVacancesZone)),1,0),"") | T52: =IF(I52="","",IF(NOT(_xlfn.XLOOKUP(WEEKDAY(I52,2),listeHebdoJours,listeHebdoDurees)),1,0)) | U52: =IF(I52="","",IF(WEEKDAY(I52,2)=6,1,0)) | V52: =IF(I52="","",IF(M52=0,1,0))
M53: =IF(I53="","",(L53-K53)-J53+IF((L53-K53)-J53>=TIME(6,0,0),TIME(0,20,0),TIME(0,0,0))) | O53: =IF(I53="","",IF(M53<0,1,0)) | P53: =IF(I53="","",IF(OR(I53<DATE(annee1,9,1),I53>DATE(annee2,8,31)),1,0)) | Q53: =IF(I53="","",IF(WEEKDAY(I53,2)=7,1,0)) | R53: =IFERROR(IF(AND(I53,_xlfn.XLOOKUP(I53,listeJours,listeJoursFeries)),1,0),"") | S53: =IFERROR(IF(AND(I53,_xlfn.XLOOKUP(I53,listeJours,listeJoursVacancesZone)),1,0),"") | T53: =IF(I53="","",IF(NOT(_xlfn.XLOOKUP(WEEKDAY(I53,2),listeHebdoJours,listeHebdoDurees)),1,0)) | U53: =IF(I53="","",IF(WEEKDAY(I53,2)=6,1,0)) | V53: =IF(I53="","",IF(M53=0,1,0))
M54: =IF(I54="","",(L54-K54)-J54+IF((L54-K54)-J54>=TIME(6,0,0),TIME(0,20,0),TIME(0,0,0))) | O54: =IF(I54="","",IF(M54<0,1,0)) | P54: =IF(I54="","",IF(OR(I54<DATE(annee1,9,1),I54>DATE(annee2,8,31)),1,0)) | Q54: =IF(I54="","",IF(WEEKDAY(I54,2)=7,1,0)) | R54: =IFERROR(IF(AND(I54,_xlfn.XLOOKUP(I54,listeJours,listeJoursFeries)),1,0),"") | S54: =IFERROR(IF(AND(I54,_xlfn.XLOOKUP(I54,listeJours,listeJoursVacancesZone)),1,0),"") | T54: =IF(I54="","",IF(NOT(_xlfn.XLOOKUP(WEEKDAY(I54,2),listeHebdoJours,listeHebdoDurees)),1,0)) | U54: =IF(I54="","",IF(WEEKDAY(I54,2)=6,1,0)) | V54: =IF(I54="","",IF(M54=0,1,0))
M55: =IF(I55="","",(L55-K55)-J55+IF((L55-K55)-J55>=TIME(6,0,0),TIME(0,20,0),TIME(0,0,0))) | O55: =IF(I55="","",IF(M55<0,1,0)) | P55: =IF(I55="","",IF(OR(I55<DATE(annee1,9,1),I55>DATE(annee2,8,31)),1,0)) | Q55: =IF(I55="","",IF(WEEKDAY(I55,2)=7,1,0)) | R55: =IFERROR(IF(AND(I55,_xlfn.XLOOKUP(I55,listeJours,listeJoursFeries)),1,0),"") | S55: =IFERROR(IF(AND(I55,_xlfn.XLOOKUP(I55,listeJours,listeJoursVacancesZone)),1,0),"") | T55: =IF(I55="","",IF(NOT(_xlfn.XLOOKUP(WEEKDAY(I55,2),listeHebdoJours,listeHebdoDurees)),1,0)) | U55: =IF(I55="","",IF(WEEKDAY(I55,2)=6,1,0)) | V55: =IF(I55="","",IF(M55=0,1,0))
... M122: =IF(I122="","",(L122-K122)-J122+IF((L122-K122)-J122>=TIME(6,0,0),TIME(0,20,0),TIME(0,0,0))) | O122: =IF(I122="","",IF(M122<0,1,0)) | P122: =IF(I122="","",IF(OR(I122<DATE(annee1,9,1),I122>DATE(annee2,8,31)),1,0)) | Q122: =IF(I122="","",IF(WEEKDAY(I122,2)=7,1,0)) | R122: =IFERROR(IF(AND(I122,_xlfn.XLOOKUP(I122,listeJours,listeJoursFeries)),1,0),"") | S122: =IFERROR(IF(AND(I122,_xlfn.XLOOKUP(I122,listeJours,listeJoursVacancesZone)),1,0),"") | T122: =IF(I122="","",IF(NOT(_xlfn.XLOOKUP(WEEKDAY(I122,2),listeHebdoJours,listeHebdoDurees)),1,0)) | U122: =IF(I122="","",IF(WEEKDAY(I122,2)=6,1,0)) | V122: =IF(I122="","",IF(M122=0,1,0))

Sheet Calendrier
B2: #VALUE! | C2: ="Année scolaire "&annee1&" - "&annee2&" Zone "&zone -> Année scolaire 2026 - 2027 Zone A
B4: =DATE(annee1,9,1) -> 46266 | H4: =EDATE(B4,1) -> 46296 | N4: =EDATE(H4,1) -> 46327 | T4: =EDATE(N4,1) -> 46357 | Z4: =EDATE(T4,1) -> 46388 | AF4: =EDATE(Z4,1) -> 46419 | AL4: =EDATE(AF4,1) -> 46447 | AR4: =EDATE(AL4,1) -> 46478 | AX4: =EDATE(AR4,1) -> 46508 | BD4: =EDATE(AX4,1) -> 46539 | BJ4: =EDATE(BD4,1) -> 46569 | BP4: =EDATE(BJ4,1) -> 46600
C5: repas | D5: debut | E5: fin | F5: duree | I5: repas | J5: debut | K5: fin | L5: duree | O5: repas | P5: debut | Q5: fin | R5: duree | U5: repas | V5: debut | W5: fin | X5: duree | AA5: repas | AB5: debut | AC5: fin | AD5: duree | AG5: repas | AH5: debut | AI5: fin | AJ5: duree | AM5: repas | AN5: debut | AO5: fin | AP5: duree | AS5: repas | AT5: debut | AU5: fin | AV5: duree | AY5: repas | AZ5: debut | BA5: fin | BB5: duree | BE5: repas | BF5: debut | BG5: fin | BH5: duree | BK5: repas | BL5: debut | BM5: fin | BN5: duree | BQ5: repas | BR5: debut | BS5: fin | BT5: duree
B6: =B4 -> 46266 | C6: =_xlfn.XLOOKUP(B6,listeJours,listeJoursRepas) -> 0.03125 | D6: =_xlfn.XLOOKUP(B6,listeJours,listeJoursDebut) -> 0.33333333 | E6: =_xlfn.XLOOKUP(B6,listeJours,listeJoursFin) -> 0.75 | F6: =(E6-D6)-C6+IF((E6-D6)-C6>=TIME(6,0,0),TIME(0,20,0),TIME(0,0,0)) -> 0.39930556 | H6: =H4 -> 46296 | I6: =_xlfn.XLOOKUP(H6,listeJours,listeJoursRepas) -> 0.03125 | J6: =_xlfn.XLOOKUP(H6,listeJours,listeJoursDebut) -> 0.33333333 | K6: =_xlfn.XLOOKUP(H6,listeJours,listeJoursFin) -> 0.70833333 | L6: =(K6-J6)-I6+IF((K6-J6)-I6>=TIME(6,0,0),TIME(0,20,0),TIME(0,0,0)) -> 0.35763889 | N6: =N4 -> 46327 | O6: =_xlfn.XLOOKUP(N6,listeJours,listeJoursRepas) -> 0 | P6: =_xlfn.XLOOKUP(N6,listeJours,listeJoursDebut) -> 0 | Q6: =_xlfn.XLOOKUP(N6,listeJours,listeJoursFin) -> 0 | R6: =(Q6-P6)-O6+IF((Q6-P6)-O6>=TIME(6,0,0),TIME(0,20,0),TIME(0,0,0)) -> 0 | T6: =T4 -> 46357 | U6: =_xlfn.XLOOKUP(T6,listeJours,listeJoursRepas) -> 0.03125 | V6: =_xlfn.XLOOKUP(T6,listeJours,listeJoursDebut) -> 0.33333333 | W6: =_xlfn.XLOOKUP(T6,listeJours,listeJoursFin) -> 0.75 | X6: =(W6-V6)-U6+IF((W6-V6)-U6>=TIME(6,0,0),TIME(0,20,0),TIME(0,0,0)) -> 0.39930556 | Z6: =Z4 -> 46388 | AA6: =_xlfn.XLOOKUP(Z6,listeJours,listeJoursRepas) -> 0 | AB6: =_xlfn.XLOOKUP(Z6,listeJours,listeJoursDebut) -> 0 | AC6: =_xlfn.XLOOKUP(Z6,listeJours,listeJoursFin) -> 0 | AD6: =(AC6-AB6)-AA6+IF((AC6-AB6)-AA6>=TIME(6,0,0),TIME(0,20,0),TIME(0,0,0)) -> 0 | AF6: =AF4 -> 46419 | AG6: =_xlfn.XLOOKUP(AF6,listeJours,listeJoursRepas) -> 0.03125 | AH6: =_xlfn.XLOOKUP(AF6,listeJours,listeJoursDebut) -> 0.33333333 | AI6: =_xlfn.XLOOKUP(AF6,listeJours,listeJoursFin) -> 0.70833333 | AJ6: =(AI6-AH6)-AG6+IF((AI6-AH6)-AG6>=TIME(6,0,0),TIME(0,20,0),TIME(0,0,0)) -> 0.35763889 | AL6: =AL4 -> 46447 | AM6: =_xlfn.XLOOKUP(AL6,listeJours,listeJoursRepas) -> 0.03125 | AN6: =_xlfn.XLOOKUP(AL6,listeJours,listeJoursDebut) -> 0.33333333 | AO6: =_xlfn.XLOOKUP(AL6,listeJours,listeJoursFin) -> 0.70833333 | AP6: =(AO6-AN6)-AM6+IF((AO6-AN6)-AM6>=TIME(6,0,0),TIME(0,20,0),TIME(0,0,0)) -> 0.35763889 | AR6: =AR4 -> 46478 | AS6: =_xlfn.XLOOKUP(AR6,listeJours,listeJoursRepas) -> 0.03125 | AT6: =_xlfn.XLOOKUP(AR6,listeJours,listeJoursDebut) -> 0.33333333 | AU6: =_xlfn.XLOOKUP(AR6,listeJours,listeJoursFin) -> 0.70833333 | AV6: =(AU6-AT6)-AS6+IF((AU6-AT6)-AS6>=TIME(6,0,0),TIME(0,20,0),TIME(0,0,0)) -> 0.35763889 | AX6: =AX4 -> 46508 | AY6: =_xlfn.XLOOKUP(AX6,listeJours,listeJoursRepas) -> 0 | AZ6: =_xlfn.XLOOKUP(AX6,listeJours,listeJoursDebut) -> 0 | BA6: =_xlfn.XLOOKUP(AX6,listeJours,listeJoursFin) -> 0 | BB6: =(BA6-AZ6)-AY6+IF((BA6-AZ6)-AY6>=TIME(6,0,0),TIME(0,20,0),TIME(0,0,0)) -> 0 | BD6: =BD4 -> 46539 | BE6: =_xlfn.XLOOKUP(BD6,listeJours,listeJoursRepas) -> 0.03125 | BF6: =_xlfn.XLOOKUP(BD6,listeJours,listeJoursDebut) -> 0.33333333 | BG6: =_xlfn.XLOOKUP(BD6,listeJours,listeJoursFin) -> 0.75 | BH6: =(BG6-BF6)-BE6+IF((BG6-BF6)-BE6>=TIME(6,0,0),TIME(0,20,0),TIME(0,0,0)) -> 0.39930556 | BJ6: =BJ4 -> 46569 | BK6: =_xlfn.XLOOKUP(BJ6,listeJours,listeJoursRepas) -> 0.03125 | BL6: =_xlfn.XLOOKUP(BJ6,listeJours,listeJoursDebut) -> 0.33333333 | BM6: =_xlfn.XLOOKUP(BJ6,listeJours,listeJoursFin) -> 0.70833333 | BN6: =(BM6-BL6)-BK6+IF((BM6-BL6)-BK6>=TIME(6,0,0),TIME(0,20,0),TIME(0,0,0)) -> 0.35763889 | BP6: =BP4 -> 46600 | BQ6: =_xlfn.XLOOKUP(BP6,listeJours,listeJoursRepas) -> 0 | BR6: =_xlfn.XLOOKUP(BP6,listeJours,listeJoursDebut) -> 0 | BS6: =_xlfn.XLOOKUP(BP6,listeJours,listeJoursFin) -> 0 | BT6: =(BS6-BR6)-BQ6+IF((BS6-BR6)-BQ6>=TIME(6,0,0),TIME(0,20,0),TIME(0,0,0)) -> 0
B7: =B6+1 -> 46267 | C7: =_xlfn.XLOOKUP(B7,listeJours,listeJoursRepas) -> 0 | D7: =_xlfn.XLOOKUP(B7,listeJours,listeJoursDebut) -> 0.33333333 | E7: =_xlfn.XLOOKUP(B7,listeJours,listeJoursFin) -> 0.54166667 | F7: =(E7-D7)-C7+IF((E7-D7)-C7>=TIME(6,0,0),TIME(0,20,0),TIME(0,0,0)) -> 0.20833333 | H7: =H6+1 -> 46297 | I7: =_xlfn.XLOOKUP(H7,listeJours,listeJoursRepas) -> 0 | J7: =_xlfn.XLOOKUP(H7,listeJours,listeJoursDebut) -> 0.33333333 | K7: =_xlfn.XLOOKUP(H7,listeJours,listeJoursFin) -> 0.70833333 | L7: =(K7-J7)-I7+IF((K7-J7)-I7>=TIME(6,0,0),TIME(0,20,0),TIME(0,0,0)) -> 0.38888889 | N7: =N6+1 -> 46328 | O7: =_xlfn.XLOOKUP(N7,listeJours,listeJoursRepas) -> 0.03125 | P7: =_xlfn.XLOOKUP(N7,listeJours,listeJoursDebut) -> 0.33333333 | Q7: =_xlfn.XLOOKUP(N7,listeJours,listeJoursFin) -> 0.70833333 | R7: =(Q7-P7)-O7+IF((Q7-P7)-O7>=TIME(6,0,0),TIME(0,20,0),TIME(0,0,0)) -> 0.35763889 | T7: =T6+1 -> 46358 | U7: =_xlfn.XLOOKUP(T7,listeJours,listeJoursRepas) -> 0 | V7: =_xlfn.XLOOKUP(T7,listeJours,listeJoursDebut) -> 0.33333333 | W7: =_xlfn.XLOOKUP(T7,listeJours,listeJoursFin) -> 0.54166667 | X7: =(W7-V7)-U7+IF((W7-V7)-U7>=TIME(6,0,0),TIME(0,20,0),TIME(0,0,0)) -> 0.20833333 | Z7: =Z6+1 -> 46389 | AA7: =_xlfn.XLOOKUP(Z7,listeJours,listeJoursRepas) -> 0 | AB7: =_xlfn.XLOOKUP(Z7,listeJours,listeJoursDebut) -> 0 | AC7: =_xlfn.XLOOKUP(Z7,listeJours,listeJoursFin) -> 0 | AD7: =(AC7-AB7)-AA7+IF((AC7-AB7)-AA7>=TIME(6,0,0),TIME(0,20,0),TIME(0,0,0)) -> 0 | AF7: =AF6+1 -> 46420 | AG7: =_xlfn.XLOOKUP(AF7,listeJours,listeJoursRepas) -> 0.03125 | AH7: =_xlfn.XLOOKUP(AF7,listeJours,listeJoursDebut) -> 0.33333333 | AI7: =_xlfn.XLOOKUP(AF7,listeJours,listeJoursFin) -> 0.75 | AJ7: =(AI7-AH7)-AG7+IF((AI7-AH7)-AG7>=TIME(6,0,0),TIME(0,20,0),TIME(0,0,0)) -> 0.39930556 | AL7: =AL6+1 -> 46448 | AM7: =_xlfn.XLOOKUP(AL7,listeJours,listeJoursRepas) -> 0.03125 | AN7: =_xlfn.XLOOKUP(AL7,listeJours,listeJoursDebut) -> 0.33333333 | AO7: =_xlfn.XLOOKUP(AL7,listeJours,listeJoursFin) -> 0.75 | AP7: =(AO7-AN7)-AM7+IF((AO7-AN7)-AM7>=TIME(6,0,0),TIME(0,20,0),TIME(0,0,0)) -> 0.39930556 | AR7: =AR6+1 -> 46479 | AS7: =_xlfn.XLOOKUP(AR7,listeJours,listeJoursRepas) -> 0 | AT7: =_xlfn.XLOOKUP(AR7,listeJours,listeJoursDebut) -> 0.33333333 | AU7: =_xlfn.XLOOKUP(AR7,listeJours,listeJoursFin) -> 0.70833333 | AV7: =(AU7-AT7)-AS7+IF((AU7-AT7)-AS7>=TIME(6,0,0),TIME(0,20,0),TIME(0,0,0)) -> 0.38888889 | AX7: =AX6+1 -> 46509 | AY7: =_xlfn.XLOOKUP(AX7,listeJours,listeJoursRepas) -> 0 | AZ7: =_xlfn.XLOOKUP(AX7,listeJours,listeJoursDebut) -> 0 | BA7: =_xlfn.XLOOKUP(AX7,listeJours,listeJoursFin) -> 0 | BB7: =(BA7-AZ7)-AY7+IF((BA7-AZ7)-AY7>=TIME(6,0,0),TIME(0,20,0),TIME(0,0,0)) -> 0 | BD7: =BD6+1 -> 46540 | BE7: =_xlfn.XLOOKUP(BD7,listeJours,listeJoursRepas) -> 0 | BF7: =_xlfn.XLOOKUP(BD7,listeJours,listeJoursDebut) -> 0.33333333 | BG7: =_xlfn.XLOOKUP(BD7,listeJours,listeJoursFin) -> 0.54166667 | BH7: =(BG7-BF7)-BE7+IF((BG7-BF7)-BE7>=TIME(6,0,0),TIME(0,20,0),TIME(0,0,0)) -> 0.20833333 | BJ7: =BJ6+1 -> 46570 | BK7: =_xlfn.XLOOKUP(BJ7,listeJours,listeJoursRepas) -> 0 | BL7: =_xlfn.XLOOKUP(BJ7,listeJours,listeJoursDebut) -> 0.33333333 | BM7: =_xlfn.XLOOKUP(BJ7,listeJours,listeJoursFin) -> 0.70833333 | BN7: =(BM7-BL7)-BK7+IF((BM7-BL7)-BK7>=TIME(6,0,0),TIME(0,20,0),TIME(0,0,0)) -> 0.38888889 | BP7: =BP6+1 -> 46601 | BQ7: =_xlfn.XLOOKUP(BP7,listeJours,listeJoursRepas) -> 0 | BR7: =_xlfn.XLOOKUP(BP7,listeJours,listeJoursDebut) -> 0 | BS7: =_xlfn.XLOOKUP(BP7,listeJours,listeJoursFin) -> 0 | BT7: =(BS7-BR7)-BQ7+IF((BS7-BR7)-BQ7>=TIME(6,0,0),TIME(0,20,0),TIME(0,0,0)) -> 0
B8: =B7+1 -> 46268 | C8: =_xlfn.XLOOKUP(B8,listeJours,listeJoursRepas) -> 0.03125 | D8: =_xlfn.XLOOKUP(B8,listeJours,listeJoursDebut) -> 0.33333333 | E8: =_xlfn.XLOOKUP(B8,listeJours,listeJoursFin) -> 0.70833333 | F8: =(E8-D8)-C8+IF((E8-D8)-C8>=TIME(6,0,0),TIME(0,20,0),TIME(0,0,0)) -> 0.35763889 | H8: =H7+1 -> 46298 | I8: =_xlfn.XLOOKUP(H8,listeJours,listeJoursRepas) -> 0 | J8: =_xlfn.XLOOKUP(H8,listeJours,listeJoursDebut) -> 0 | K8: =_xlfn.XLOOKUP(H8,listeJours,listeJoursFin) -> 0 | L8: =(K8-J8)-I8+IF((K8-J8)-I8>=TIME(6,0,0),TIME(0,20,0),TIME(0,0,0)) -> 0 | N8: =N7+1 -> 46329 | O8: =_xlfn.XLOOKUP(N8,listeJours,listeJoursRepas) -> 0.03125 | P8: =_xlfn.XLOOKUP(N8,listeJours,listeJoursDebut) -> 0.33333333 | Q8: =_xlfn.XLOOKUP(N8,listeJours,listeJoursFin) -> 0.75 | R8: =(Q8-P8)-O8+IF((Q8-P8)-O8>=TIME(6,0,0),TIME(0,20,0),TIME(0,0,0)) -> 0.39930556 | T8: =T7+1 -> 46359 | U8: =_xlfn.XLOOKUP(T8,listeJours,listeJoursRepas) -> 0.03125 | V8: =_xlfn.XLOOKUP(T8,listeJours,listeJoursDebut) -> 0.33333333 | W8: =_xlfn.XLOOKUP(T8,listeJours,listeJoursFin) -> 0.70833333 | X8: =(W8-V8)-U8+IF((W8-V8)-U8>=TIME(6,0,0),TIME(0,20,0),TIME(0,0,0)) -> 0.35763889 | Z8: =Z7+1 -> 46390 | AA8: =_xlfn.XLOOKUP(Z8,listeJours,listeJoursRepas) -> 0 | AB8: =_xlfn.XLOOKUP(Z8,listeJours,listeJoursDebut) -> 0 | AC8: =_xlfn.XLOOKUP(Z8,listeJours,listeJoursFin) -> 0 | AD8: =(AC8-AB8)-AA8+IF((AC8-AB8)-AA8>=TIME(6,0,0),TIME(0,20,0),TIME(0,0,0)) -> 0 | AF8: =AF7+1 -> 46421 | AG8: =_xlfn.XLOOKUP(AF8,listeJours,listeJoursRepas) -> 0 | AH8: =_xlfn.XLOOKUP(AF8,listeJours,listeJoursDebut) -> 0.33333333 | AI8: =_xlfn.XLOOKUP(AF8,listeJours,listeJoursFin) -> 0.54166667 | AJ8: =(AI8-AH8)-AG8+IF((AI8-AH8)-AG8>=TIME(6,0,0),TIME(0,20,0),TIME(0,0,0)) -> 0.20833333 | AL8: =AL7+1 -> 46449 | AM8: =_xlfn.XLOOKUP(AL8,listeJours,listeJoursRepas) -> 0 | AN8: =_xlfn.XLOOKUP(AL8,listeJours,listeJoursDebut) -> 0.33333333 | AO8: =_xlfn.XLOOKUP(AL8,listeJours,listeJoursFin) -> 0.54166667 | AP8: =(AO8-AN8)-AM8+IF((AO8-AN8)-AM8>=TIME(6,0,0),TIME(0,20,0),TIME(0,0,0)) -> 0.20833333 | AR8: =AR7+1 -> 46480 | AS8: =_xlfn.XLOOKUP(AR8,listeJours,listeJoursRepas) -> 0 | AT8: =_xlfn.XLOOKUP(AR8,listeJours,listeJoursDebut) -> 0 | AU8: =_xlfn.XLOOKUP(AR8,listeJours,listeJoursFin) -> 0 | AV8: =(AU8-AT8)-AS8+IF((AU8-AT8)-AS8>=TIME(6,0,0),TIME(0,20,0),TIME(0,0,0)) -> 0 | AX8: =AX7+1 -> 46510 | AY8: =_xlfn.XLOOKUP(AX8,listeJours,listeJoursRepas) -> 0.03125 | AZ8: =_xlfn.XLOOKUP(AX8,listeJours,listeJoursDebut) -> 0.33333333 | BA8: =_xlfn.XLOOKUP(AX8,listeJours,listeJoursFin) -> 0.70833333 | BB8: =(BA8-AZ8)-AY8+IF((BA8-AZ8)-AY8>=TIME(6,0,0),TIME(0,20,0),TIME(0,0,0)) -> 0.35763889 | BD8: =BD7+1 -> 46541 | BE8: =_xlfn.XLOOKUP(BD8,listeJours,listeJoursRepas) -> 0.03125 | BF8: =_xlfn.XLOOKUP(BD8,listeJours,listeJoursDebut) -> 0.33333333 | BG8: =_xlfn.XLOOKUP(BD8,listeJours,listeJoursFin) -> 0.70833333 | BH8: =(BG8-BF8)-BE8+IF((BG8-BF8)-BE8>=TIME(6,0,0),TIME(0,20,0),TIME(0,0,0)) -> 0.35763889 | BJ8: =BJ7+1 -> 46571 | BK8: =_xlfn.XLOOKUP(BJ8,listeJours,listeJoursRepas) -> 0 | BL8: =_xlfn.XLOOKUP(BJ8,listeJours,listeJoursDebut) -> 0 | BM8: =_xlfn.XLOOKUP(BJ8,listeJours,listeJoursFin) -> 0 | BN8: =(BM8-BL8)-BK8+IF((BM8-BL8)-BK8>=TIME(6,0,0),TIME(0,20,0),TIME(0,0,0)) -> 0 | BP8: =BP7+1 -> 46602 | BQ8: =_xlfn.XLOOKUP(BP8,listeJours,listeJoursRepas) -> 0 | BR8: =_xlfn.XLOOKUP(BP8,listeJours,listeJoursDebut) -> 0 | BS8: =_xlfn.XLOOKUP(BP8,listeJours,listeJoursFin) -> 0 | BT8: =(BS8-BR8)-BQ8+IF((BS8-BR8)-BQ8>=TIME(6,0,0),TIME(0,20,0),TIME(0,0,0)) -> 0
B9: =B8+1 -> 46269 | C9: =_xlfn.XLOOKUP(B9,listeJours,listeJoursRepas) -> 0 | D9: =_xlfn.XLOOKUP(B9,listeJours,listeJoursDebut) -> 0.33333333 | E9: =_xlfn.XLOOKUP(B9,listeJours,listeJoursFin) -> 0.70833333 | F9: =(E9-D9)-C9+IF((E9-D9)-C9>=TIME(6,0,0),TIME(0,20,0),TIME(0,0,0)) -> 0.38888889 | H9: =H8+1 -> 46299 | I9: =_xlfn.XLOOKUP(H9,listeJours,listeJoursRepas) -> 0 | J9: =_xlfn.XLOOKUP(H9,listeJours,listeJoursDebut) -> 0 | K9: =_xlfn.XLOOKUP(H9,listeJours,listeJoursFin) -> 0 | L9: =(K9-J9)-I9+IF((K9-J9)-I9>=TIME(6,0,0),TIME(0,20,0),TIME(0,0,0)) -> 0 | N9: =N8+1 -> 46330 | O9: =_xlfn.XLOOKUP(N9,listeJours,listeJoursRepas) -> 0 | P9: =_xlfn.XLOOKUP(N9,listeJours,listeJoursDebut) -> 0.33333333 | Q9: =_xlfn.XLOOKUP(N9,listeJours,listeJoursFin) -> 0.54166667 | R9: =(Q9-P9)-O9+IF((Q9-P9)-O9>=TIME(6,0,0),TIME(0,20,0),TIME(0,0,0)) -> 0.20833333 | T9: =T8+1 -> 46360 | U9: =_xlfn.XLOOKUP(T9,listeJours,listeJoursRepas) -> 0 | V9: =_xlfn.XLOOKUP(T9,listeJours,listeJoursDebut) -> 0.33333333 | W9: =_xlfn.XLOOKUP(T9,listeJours,listeJoursFin) -> 0.70833333 | X9: =(W9-V9)-U9+IF((W9-V9)-U9>=TIME(6,0,0),TIME(0,20,0),TIME(0,0,0)) -> 0.38888889 | Z9: =Z8+1 -> 46391 | AA9: =_xlfn.XLOOKUP(Z9,listeJours,listeJoursRepas) -> 0.03125 | AB9: =_xlfn.XLOOKUP(Z9,listeJours,listeJoursDebut) -> 0.33333333 | AC9: =_xlfn.XLOOKUP(Z9,listeJours,listeJoursFin) -> 0.70833333 | AD9: =(AC9-AB9)-AA9+IF((AC9-AB9)-AA9>=TIME(6,0,0),TIME(0,20,0),TIME(0,0,0)) -> 0.35763889 | AF9: =AF8+1 -> 46422 | AG9: =_xlfn.XLOOKUP(AF9,listeJours,listeJoursRepas) -> 0.03125 | AH9: =_xlfn.XLOOKUP(AF9,listeJours,listeJoursDebut) -> 0.33333333 | AI9: =_xlfn.XLOOKUP(AF9,listeJours,listeJoursFin) -> 0.70833333 | AJ9: =(AI9-AH9)-AG9+IF((AI9-AH9)-AG9>=TIME(6,0,0),TIME(0,20,0),TIME(0,0,0)) -> 0.35763889 | AL9: =AL8+1 -> 46450 | AM9: =_xlfn.XLOOKUP(AL9,listeJours,listeJoursRepas) -> 0.03125 | AN9: =_xlfn.XLOOKUP(AL9,listeJours,listeJoursDebut) -> 0.33333333 | AO9: =_xlfn.XLOOKUP(AL9,listeJours,listeJoursFin) -> 0.70833333 | AP9: =(AO9-AN9)-AM9+IF((AO9-AN9)-AM9>=TIME(6,0,0),TIME(0,20,0),TIME(0,0,0)) -> 0.35763889 | AR9: =AR8+1 -> 46481 | AS9: =_xlfn.XLOOKUP(AR9,listeJours,listeJoursRepas) -> 0 | AT9: =_xlfn.XLOOKUP(AR9,listeJours,listeJoursDebut) -> 0 | AU9: =_xlfn.XLOOKUP(AR9,listeJours,listeJoursFin) -> 0 | AV9: =(AU9-AT9)-AS9+IF((AU9-AT9)-AS9>=TIME(6,0,0),TIME(0,20,0),TIME(0,0,0)) -> 0 | AX9: =AX8+1 -> 46511 | AY9: =_xlfn.XLOOKUP(AX9,listeJours,listeJoursRepas) -> 0.03125 | AZ9: =_xlfn.XLOOKUP(AX9,listeJours,listeJoursDebut) -> 0.33333333 | BA9: =_xlfn.XLOOKUP(AX9,listeJours,listeJoursFin) -> 0.75 | BB9: =(BA9-AZ9)-AY9+IF((BA9-AZ9)-AY9>=TIME(6,0,0),TIME(0,20,0),TIME(0,0,0)) -> 0.39930556 | BD9: =BD8+1 -> 46542 | BE9: =_xlfn.XLOOKUP(BD9,listeJours,listeJoursRepas) -> 0 | BF9: =_xlfn.XLOOKUP(BD9,listeJours,listeJoursDebut) -> 0.33333333 | BG9: =_xlfn.XLOOKUP(BD9,listeJours,listeJoursFin) -> 0.70833333 | BH9: =(BG9-BF9)-BE9+IF((BG9-BF9)-BE9>=TIME(6,0,0),TIME(0,20,0),TIME(0,0,0)) -> 0.38888889 | BJ9: =BJ8+1 -> 46572 | BK9: =_xlfn.XLOOKUP(BJ9,listeJours,listeJoursRepas) -> 0 | BL9: =_xlfn.XLOOKUP(BJ9,listeJours,listeJoursDebut) -> 0 | BM9: =_xlfn.XLOOKUP(BJ9,listeJours,listeJoursFin) -> 0 | BN9: =(BM9-BL9)-BK9+IF((BM9-BL9)-BK9>=TIME(6,0,0),TIME(0,20,0),TIME(0,0,0)) -> 0 | BP9: =BP8+1 -> 46603 | BQ9: =_xlfn.XLOOKUP(BP9,listeJours,listeJoursRepas) -> 0 | BR9: =_xlfn.XLOOKUP(BP9,listeJours,listeJoursDebut) -> 0 | BS9: =_xlfn.XLOOKUP(BP9,listeJours,listeJoursFin) -> 0 | BT9: =(BS9-BR9)-BQ9+IF((BS9-BR9)-BQ9>=TIME(6,0,0),TIME(0,20,0),TIME(0,0,0)) -> 0
B10: =B9+1 -> 46270 | C10: =_xlfn.XLOOKUP(B10,listeJours,listeJoursRepas) -> 0 | D10: =_xlfn.XLOOKUP(B10,listeJours,listeJoursDebut) -> 0 | E10: =_xlfn.XLOOKUP(B10,listeJours,listeJoursFin) -> 0 | F10: =(E10-D10)-C10+IF((E10-D10)-C10>=TIME(6,0,0),TIME(0,20,0),TIME(0,0,0)) -> 0 | H10: =H9+1 -> 46300 | I10: =_xlfn.XLOOKUP(H10,listeJours,listeJoursRepas) -> 0.03125 | J10: =_xlfn.XLOOKUP(H10,listeJours,listeJoursDebut) -> 0.33333333 | K10: =_xlfn.XLOOKUP(H10,listeJours,listeJoursFin) -> 0.70833333 | L10: =(K10-J10)-I10+IF((K10-J10)-I10>=TIME(6,0,0),TIME(0,20,0),TIME(0,0,0)) -> 0.35763889 | N10: =N9+1 -> 46331 | O10: =_xlfn.XLOOKUP(N10,listeJours,listeJoursRepas) -> 0.03125 | P10: =_xlfn.XLOOKUP(N10,listeJours,listeJoursDebut) -> 0.33333333 | Q10: =_xlfn.XLOOKUP(N10,listeJours,listeJoursFin) -> 0.70833333 | R10: =(Q10-P10)-O10+IF((Q10-P10)-O10>=TIME(6,0,0),TIME(0,20,0),TIME(0,0,0)) -> 0.35763889 | T10: =T9+1 -> 46361 | U10: =_xlfn.XLOOKUP(T10,listeJours,listeJoursRepas) -> 0 | V10: =_xlfn.XLOOKUP(T10,listeJours,listeJoursDebut) -> 0 | W10: =_xlfn.XLOOKUP(T10,listeJours,listeJoursFin) -> 0 | X10: =(W10-V10)-U10+IF((W10-V10)-U10>=TIME(6,0,0),TIME(0,20,0),TIME(0,0,0)) -> 0 | Z10: =Z9+1 -> 46392 | AA10: =_xlfn.XLOOKUP(Z10,listeJours,listeJoursRepas) -> 0.03125 | AB10: =_xlfn.XLOOKUP(Z10,listeJours,listeJoursDebut) -> 0.33333333 | AC10: =_xlfn.XLOOKUP(Z10,listeJours,listeJoursFin) -> 0.75 | AD10: =(AC10-AB10)-AA10+IF((AC10-AB10)-AA10>=TIME(6,0,0),TIME(0,20,0),TIME(0,0,0)) -> 0.39930556 | AF10: =AF9+1 -> 46423 | AG10: =_xlfn.XLOOKUP(AF10,listeJours,listeJoursRepas) -> 0 | AH10: =_xlfn.XLOOKUP(AF10,listeJours,listeJoursDebut) -> 0.33333333 | AI10: =_xlfn.XLOOKUP(AF10,listeJours,listeJoursFin) -> 0.70833333 | AJ10: =(AI10-AH10)-AG10+IF((AI10-AH10)-AG10>=TIME(6,0,0),TIME(0,20,0),TIME(0,0,0)) -> 0.38888889 | AL10: =AL9+1 -> 46451 | AM10: =_xlfn.XLOOKUP(AL10,listeJours,listeJoursRepas) -> 0 | AN10: =_xlfn.XLOOKUP(AL10,listeJours,listeJoursDebut) -> 0.33333333 | AO10: =_xlfn.XLOOKUP(AL10,listeJours,listeJoursFin) -> 0.70833333 | AP10: =(AO10-AN10)-AM10+IF((AO10-AN10)-AM10>=TIME(6,0,0),TIME(0,20,0),TIME(0,0,0)) -> 0.38888889 | AR10: =AR9+1 -> 46482 | AS10: =_xlfn.XLOOKUP(AR10,listeJours,listeJoursRepas) -> 0.03125 | AT10: =_xlfn.XLOOKUP(AR10,listeJours,listeJoursDebut) -> 0.33333333 | AU10: =_xlfn.XLOOKUP(AR10,listeJours,listeJoursFin) -> 0.70833333 | AV10: =(AU10-AT10)-AS10+IF((AU10-AT10)-AS10>=TIME(6,0,0),TIME(0,20,0),TIME(0,0,0)) -> 0.35763889 | AX10: =AX9+1 -> 46512 | AY10: =_xlfn.XLOOKUP(AX10,listeJours,listeJoursRepas) -> 0 | AZ10: =_xlfn.XLOOKUP(AX10,listeJours,listeJoursDebut) -> 0.33333333 | BA10: =_xlfn.XLOOKUP(AX10,listeJours,listeJoursFin) -> 0.54166667 | BB10: =(BA10-AZ10)-AY10+IF((BA10-AZ10)-AY10>=TIME(6,0,0),TIME(0,20,0),TIME(0,0,0)) -> 0.20833333 | BD10: =BD9+1 -> 46543 | BE10: =_xlfn.XLOOKUP(BD10,listeJours,listeJoursRepas) -> 0 | BF10: =_xlfn.XLOOKUP(BD10,listeJours,listeJoursDebut) -> 0 | BG10: =_xlfn.XLOOKUP(BD10,listeJours,listeJoursFin) -> 0 | BH10: =(BG10-BF10)-BE10+IF((BG10-BF10)-BE10>=TIME(6,0,0),TIME(0,20,0),TIME(0,0,0)) -> 0 | BJ10: =BJ9+1 -> 46573 | BK10: =_xlfn.XLOOKUP(BJ10,listeJours,listeJoursRepas) -> 0 | BL10: =_xlfn.XLOOKUP(BJ10,listeJours,listeJoursDebut) -> 0 | BM10: =_xlfn.XLOOKUP(BJ10,listeJours,listeJoursFin) -> 0 | BN10: =(BM10-BL10)-BK10+IF((BM10-BL10)-BK10>=TIME(6,0,0),TIME(0,20,0),TIME(0,0,0)) -> 0 | BP10: =BP9+1 -> 46604 | BQ10: =_xlfn.XLOOKUP(BP10,listeJours,listeJoursRepas) -> 0 | BR10: =_xlfn.XLOOKUP(BP10,listeJours,listeJoursDebut) -> 0 | BS10: =_xlfn.XLOOKUP(BP10,listeJours,listeJoursFin) -> 0 | BT10: =(BS10-BR10)-BQ10+IF((BS10-BR10)-BQ10>=TIME(6,0,0),TIME(0,20,0),TIME(0,0,0)) -> 0
B11: =B10+1 -> 46271 | C11: =_xlfn.XLOOKUP(B11,listeJours,listeJoursRepas) -> 0 | D11: =_xlfn.XLOOKUP(B11,listeJours,listeJoursDebut) -> 0 | E11: =_xlfn.XLOOKUP(B11,listeJours,listeJoursFin) -> 0 | F11: =(E11-D11)-C11+IF((E11-D11)-C11>=TIME(6,0,0),TIME(0,20,0),TIME(0,0,0)) -> 0 | H11: =H10+1 -> 46301 | I11: =_xlfn.XLOOKUP(H11,listeJours,listeJoursRepas) -> 0.03125 | J11: =_xlfn.XLOOKUP(H11,listeJours,listeJoursDebut) -> 0.33333333 | K11: =_xlfn.XLOOKUP(H11,listeJours,listeJoursFin) -> 0.75 | L11: =(K11-J11)-I11+IF((K11-J11)-I11>=TIME(6,0,0),TIME(0,20,0),TIME(0,0,0)) -> 0.39930556 | N11: =N10+1 -> 46332 | O11: =_xlfn.XLOOKUP(N11,listeJours,listeJoursRepas) -> 0 | P11: =_xlfn.XLOOKUP(N11,listeJours,listeJoursDebut) -> 0.33333333 | Q11: =_xlfn.XLOOKUP(N11,listeJours,listeJoursFin) -> 0.70833333 | R11: =(Q11-P11)-O11+IF((Q11-P11)-O11>=TIME(6,0,0),TIME(0,20,0),TIME(0,0,0)) -> 0.38888889 | T11: =T10+1 -> 46362 | U11: =_xlfn.XLOOKUP(T11,listeJours,listeJoursRepas) -> 0 | V11: =_xlfn.XLOOKUP(T11,listeJours,listeJoursDebut) -> 0 | W11: =_xlfn.XLOOKUP(T11,listeJours,listeJoursFin) -> 0 | X11: =(W11-V11)-U11+IF((W11-V11)-U11>=TIME(6,0,0),TIME(0,20,0),TIME(0,0,0)) -> 0 | Z11: =Z10+1 -> 46393 | AA11: =_xlfn.XLOOKUP(Z11,listeJours,listeJoursRepas) -> 0 | AB11: =_xlfn.XLOOKUP(Z11,listeJours,listeJoursDebut) -> 0.33333333 | AC11: =_xlfn.XLOOKUP(Z11,listeJours,listeJoursFin) -> 0.54166667 | AD11: =(AC11-AB11)-AA11+IF((AC11-AB11)-AA11>=TIME(6,0,0),TIME(0,20,0),TIME(0,0,0)) -> 0.20833333 | AF11: =AF10+1 -> 46424 | AG11: =_xlfn.XLOOKUP(AF11,listeJours,listeJoursRepas) -> 0 | AH11: =_xlfn.XLOOKUP(AF11,listeJours,listeJoursDebut) -> 0 | AI11: =_xlfn.XLOOKUP(AF11,listeJours,listeJoursFin) -> 0 | AJ11: =(AI11-AH11)-AG11+IF((AI11-AH11)-AG11>=TIME(6,0,0),TIME(0,20,0),TIME(0,0,0)) -> 0 | AL11: =AL10+1 -> 46452 | AM11: =_xlfn.XLOOKUP(AL11,listeJours,listeJoursRepas) -> 0 | AN11: =_xlfn.XLOOKUP(AL11,listeJours,listeJoursDebut) -> 0 | AO11: =_xlfn.XLOOKUP(AL11,listeJours,listeJoursFin) -> 0 | AP11: =(AO11-AN11)-AM11+IF((AO11-AN11)-AM11>=TIME(6,0,0),TIME(0,20,0),TIME(0,0,0)) -> 0 | AR11: =AR10+1 -> 46483 | AS11: =_xlfn.XLOOKUP(AR11,listeJours,listeJoursRepas) -> 0.03125 | AT11: =_xlfn.XLOOKUP(AR11,listeJours,listeJoursDebut) -> 0.33333333 | AU11: =_xlfn.XLOOKUP(AR11,listeJours,listeJoursFin) -> 0.75 | AV11: =(AU11-AT11)-AS11+IF((AU11-AT11)-AS11>=TIME(6,0,0),TIME(0,20,0),TIME(0,0,0)) -> 0.39930556 | AX11: =AX10+1 -> 46513 | AY11: =_xlfn.XLOOKUP(AX11,listeJours,listeJoursRepas) -> 0.03125 | AZ11: =_xlfn.XLOOKUP(AX11,listeJours,listeJoursDebut) -> 0.33333333 | BA11: =_xlfn.XLOOKUP(AX11,listeJours,listeJoursFin) -> 0.70833333 | BB11: =(BA11-AZ11)-AY11+IF((BA11-AZ11)-AY11>=TIME(6,0,0),TIME(0,20,0),TIME(0,0,0)) -> 0.35763889 | BD11: =BD10+1 -> 46544 | BE11: =_xlfn.XLOOKUP(BD11,listeJours,listeJoursRepas) -> 0 | BF11: =_xlfn.XLOOKUP(BD11,listeJours,listeJoursDebut) -> 0 | BG11: =_xlfn.XLOOKUP(BD11,listeJours,listeJoursFin) -> 0 | BH11: =(BG11-BF11)-BE11+IF((BG11-BF11)-BE11>=TIME(6,0,0),TIME(0,20,0),TIME(0,0,0)) -> 0 | BJ11: =BJ10+1 -> 46574 | BK11: =_xlfn.XLOOKUP(BJ11,listeJours,listeJoursRepas) -> 0 | BL11: =_xlfn.XLOOKUP(BJ11,listeJours,listeJoursDebut) -> 0 | BM11: =_xlfn.XLOOKUP(BJ11,listeJours,listeJoursFin) -> 0 | BN11: =(BM11-BL11)-BK11+IF((BM11-BL11)-BK11>=TIME(6,0,0),TIME(0,20,0),TIME(0,0,0)) -> 0 | BP11: =BP10+1 -> 46605 | BQ11: =_xlfn.XLOOKUP(BP11,listeJours,listeJoursRepas) -> 0 | BR11: =_xlfn.XLOOKUP(BP11,listeJours,listeJoursDebut) -> 0 | BS11: =_xlfn.XLOOKUP(BP11,listeJours,listeJoursFin) -> 0 | BT11: =(BS11-BR11)-BQ11+IF((BS11-BR11)-BQ11>=TIME(6,0,0),TIME(0,20,0),TIME(0,0,0)) -> 0
B12: =B11+1 -> 46272 | C12: =_xlfn.XLOOKUP(B12,listeJours,listeJoursRepas) -> 0.03125 | D12: =_xlfn.XLOOKUP(B12,listeJours,listeJoursDebut) -> 0.33333333 | E12: =_xlfn.XLOOKUP(B12,listeJours,listeJoursFin) -> 0.70833333 | F12: =(E12-D12)-C12+IF((E12-D12)-C12>=TIME(6,0,0),TIME(0,20,0),TIME(0,0,0)) -> 0.35763889 | H12: =H11+1 -> 46302 | I12: =_xlfn.XLOOKUP(H12,listeJours,listeJoursRepas) -> 0 | J12: =_xlfn.XLOOKUP(H12,listeJours,listeJoursDebut) -> 0.33333333 | K12: =_xlfn.XLOOKUP(H12,listeJours,listeJoursFin) -> 0.54166667 | L12: =(K12-J12)-I12+IF((K12-J12)-I12>=TIME(6,0,0),TIME(0,20,0),TIME(0,0,0)) -> 0.20833333 | N12: =N11+1 -> 46333 | O12: =_xlfn.XLOOKUP(N12,listeJours,listeJoursRepas) -> 0 | P12: =_xlfn.XLOOKUP(N12,listeJours,listeJoursDebut) -> 0 | Q12: =_xlfn.XLOOKUP(N12,listeJours,listeJoursFin) -> 0 | R12: =(Q12-P12)-O12+IF((Q12-P12)-O12>=TIME(6,0,0),TIME(0,20,0),TIME(0,0,0)) -> 0 | T12: =T11+1 -> 46363 | U12: =_xlfn.XLOOKUP(T12,listeJours,listeJoursRepas) -> 0.03125 | V12: =_xlfn.XLOOKUP(T12,listeJours,listeJoursDebut) -> 0.33333333 | W12: =_xlfn.XLOOKUP(T12,listeJours,listeJoursFin) -> 0.70833333 | X12: =(W12-V12)-U12+IF((W12-V12)-U12>=TIME(6,0,0),TIME(0,20,0),TIME(0,0,0)) -> 0.35763889 | Z12: =Z11+1 -> 46394 | AA12: =_xlfn.XLOOKUP(Z12,listeJours,listeJoursRepas) -> 0.03125 | AB12: =_xlfn.XLOOKUP(Z12,listeJours,listeJoursDebut) -> 0.33333333 | AC12: =_xlfn.XLOOKUP(Z12,listeJours,listeJoursFin) -> 0.70833333 | AD12: =(AC12-AB12)-AA12+IF((AC12-AB12)-AA12>=TIME(6,0,0),TIME(0,20,0),TIME(0,0,0)) -> 0.35763889 | AF12: =AF11+1 -> 46425 | AG12: =_xlfn.XLOOKUP(AF12,listeJours,listeJoursRepas) -> 0 | AH12: =_xlfn.XLOOKUP(AF12,listeJours,listeJoursDebut) -> 0 | AI12: =_xlfn.XLOOKUP(AF12,listeJours,listeJoursFin) -> 0 | AJ12: =(AI12-AH12)-AG12+IF((AI12-AH12)-AG12>=TIME(6,0,0),TIME(0,20,0),TIME(0,0,0)) -> 0 | AL12: =AL11+1 -> 46453 | AM12: =_xlfn.XLOOKUP(AL12,listeJours,listeJoursRepas) -> 0 | AN12: =_xlfn.XLOOKUP(AL12,listeJours,listeJoursDebut) -> 0 | AO12: =_xlfn.XLOOKUP(AL12,listeJours,listeJoursFin) -> 0 | AP12: =(AO12-AN12)-AM12+IF((AO12-AN12)-AM12>=TIME(6,0,0),TIME(0,20,0),TIME(0,0,0)) -> 0 | AR12: =AR11+1 -> 46484 | AS12: =_xlfn.XLOOKUP(AR12,listeJours,listeJoursRepas) -> 0 | AT12: =_xlfn.XLOOKUP(AR12,listeJours,listeJoursDebut) -> 0.33333333 | AU12: =_xlfn.XLOOKUP(AR12,listeJours,listeJoursFin) -> 0.54166667 | AV12: =(AU12-AT12)-AS12+IF((AU12-AT12)-AS12>=TIME(6,0,0),TIME(0,20,0),TIME(0,0,0)) -> 0.20833333 | AX12: =AX11+1 -> 46514 | AY12: =_xlfn.XLOOKUP(AX12,listeJours,listeJoursRepas) -> 0 | AZ12: =_xlfn.XLOOKUP(AX12,listeJours,listeJoursDebut) -> 0 | BA12: =_xlfn.XLOOKUP(AX12,listeJours,listeJoursFin) -> 0 | BB12: =(BA12-AZ12)-AY12+IF((BA12-AZ12)-AY12>=TIME(6,0,0),TIME(0,20,0),TIME(0,0,0)) -> 0 | BD12: =BD11+1 -> 46545 | BE12: =_xlfn.XLOOKUP(BD12,listeJours,listeJoursRepas) -> 0.03125 | BF12: =_xlfn.XLOOKUP(BD12,listeJours,listeJoursDebut) -> 0.33333333 | BG12: =_xlfn.XLOOKUP(BD12,listeJours,listeJoursFin) -> 0.70833333 | BH12: =(BG12-BF12)-BE12+IF((BG12-BF12)-BE12>=TIME(6,0,0),TIME(0,20,0),TIME(0,0,0)) -> 0.35763889 | BJ12: =BJ11+1 -> 46575 | BK12: =_xlfn.XLOOKUP(BJ12,listeJours,listeJoursRepas) -> 0 | BL12: =_xlfn.XLOOKUP(BJ12,listeJours,listeJoursDebut) -> 0 | BM12: =_xlfn.XLOOKUP(BJ12,listeJours,listeJoursFin) -> 0 | BN12: =(BM12-BL12)-BK12+IF((BM12-BL12)-BK12>=TIME(6,0,0),TIME(0,20,0),TIME(0,0,0)) -> 0 | BP12: =BP11+1 -> 46606 | BQ12: =_xlfn.XLOOKUP(BP12,listeJours,listeJoursRepas) -> 0 | BR12: =_xlfn.XLOOKUP(BP12,listeJours,listeJoursDebut) -> 0 | BS12: =_xlfn.XLOOKUP(BP12,listeJours,listeJoursFin) -> 0 | BT12: =(BS12-BR12)-BQ12+IF((BS12-BR12)-BQ12>=TIME(6,0,0),TIME(0,20,0),TIME(0,0,0)) -> 0
B13: =B12+1 -> 46273 | C13: =_xlfn.XLOOKUP(B13,listeJours,listeJoursRepas) -> 0.03125 | D13: =_xlfn.XLOOKUP(B13,listeJours,listeJoursDebut) -> 0.33333333 | E13: =_xlfn.XLOOKUP(B13,listeJours,listeJoursFin) -> 0.75 | F13: =(E13-D13)-C13+IF((E13-D13)-C13>=TIME(6,0,0),TIME(0,20,0),TIME(0,0,0)) -> 0.39930556 | H13: =H12+1 -> 46303 | I13: =_xlfn.XLOOKUP(H13,listeJours,listeJoursRepas) -> 0.03125 | J13: =_xlfn.XLOOKUP(H13,listeJours,listeJoursDebut) -> 0.33333333 | K13: =_xlfn.XLOOKUP(H13,listeJours,listeJoursFin) -> 0.70833333 | L13: =(K13-J13)-I13+IF((K13-J13)-I13>=TIME(6,0,0),TIME(0,20,0),TIME(0,0,0)) -> 0.35763889 | N13: =N12+1 -> 46334 | O13: =_xlfn.XLOOKUP(N13,listeJours,listeJoursRepas) -> 0 | P13: =_xlfn.XLOOKUP(N13,listeJours,listeJoursDebut) -> 0 | Q13: =_xlfn.XLOOKUP(N13,listeJours,listeJoursFin) -> 0 | R13: =(Q13-P13)-O13+IF((Q13-P13)-O13>=TIME(6,0,0),TIME(0,20,0),TIME(0,0,0)) -> 0 | T13: =T12+1 -> 46364 | U13: =_xlfn.XLOOKUP(T13,listeJours,listeJoursRepas) -> 0.03125 | V13: =_xlfn.XLOOKUP(T13,listeJours,listeJoursDebut) -> 0.33333333 | W13: =_xlfn.XLOOKUP(T13,listeJours,listeJoursFin) -> 0.75 | X13: =(W13-V13)-U13+IF((W13-V13)-U13>=TIME(6,0,0),TIME(0,20,0),TIME(0,0,0)) -> 0.39930556 | Z13: =Z12+1 -> 46395 | AA13: =_xlfn.XLOOKUP(Z13,listeJours,listeJoursRepas) -> 0 | AB13: =_xlfn.XLOOKUP(Z13,listeJours,listeJoursDebut) -> 0.33333333 | AC13: =_xlfn.XLOOKUP(Z13,listeJours,listeJoursFin) -> 0.70833333 | AD13: =(AC13-AB13)-AA13+IF((AC13-AB13)-AA13>=TIME(6,0,0),TIME(0,20,0),TIME(0,0,0)) -> 0.38888889 | AF13: =AF12+1 -> 46426 | AG13: =_xlfn.XLOOKUP(AF13,listeJours,listeJoursRepas) -> 0.03125 | AH13: =_xlfn.XLOOKUP(AF13,listeJours,listeJoursDebut) -> 0.33333333 | AI13: =_xlfn.XLOOKUP(AF13,listeJours,listeJoursFin) -> 0.70833333 | AJ13: =(AI13-AH13)-AG13+IF((AI13-AH13)-AG13>=TIME(6,0,0),TIME(0,20,0),TIME(0,0,0)) -> 0.35763889 | AL13: =AL12+1 -> 46454 | AM13: =_xlfn.XLOOKUP(AL13,listeJours,listeJoursRepas) -> 0.03125 | AN13: =_xlfn.XLOOKUP(AL13,listeJours,listeJoursDebut) -> 0.33333333 | AO13: =_xlfn.XLOOKUP(AL13,listeJours,listeJoursFin) -> 0.70833333 | AP13: =(AO13-AN13)-AM13+IF((AO13-AN13)-AM13>=TIME(6,0,0),TIME(0,20,0),TIME(0,0,0)) -> 0.35763889 | AR13: =AR12+1 -> 46485 | AS13: =_xlfn.XLOOKUP(AR13,listeJours,listeJoursRepas) -> 0.03125 | AT13: =_xlfn.XLOOKUP(AR13,listeJours,listeJoursDebut) -> 0.33333333 | AU13: =_xlfn.XLOOKUP(AR13,listeJours,listeJoursFin) -> 0.70833333 | AV13: =(AU13-AT13)-AS13+IF((AU13-AT13)-AS13>=TIME(6,0,0),TIME(0,20,0),TIME(0,0,0)) -> 0.35763889 | AX13: =AX12+1 -> 46515 | AY13: =_xlfn.XLOOKUP(AX13,listeJours,listeJoursRepas) -> 0 | AZ13: =_xlfn.XLOOKUP(AX13,listeJours,listeJoursDebut) -> 0 | BA13: =_xlfn.XLOOKUP(AX13,listeJours,listeJoursFin) -> 0 | BB13: =(BA13-AZ13)-AY13+IF((BA13-AZ13)-AY13>=TIME(6,0,0),TIME(0,20,0),TIME(0,0,0)) -> 0 | BD13: =BD12+1 -> 46546 | BE13: =_xlfn.XLOOKUP(BD13,listeJours,listeJoursRepas) -> 0.03125 | BF13: =_xlfn.XLOOKUP(BD13,listeJours,listeJoursDebut) -> 0.33333333 | BG13: =_xlfn.XLOOKUP(BD13,listeJours,listeJoursFin) -> 0.75 | BH13: =(BG13-BF13)-BE13+IF((BG13-BF13)-BE13>=TIME(6,0,0),TIME(0,20,0),TIME(0,0,0)) -> 0.39930556 | BJ13: =BJ12+1 -> 46576 | BK13: =_xlfn.XLOOKUP(BJ13,listeJours,listeJoursRepas) -> 0 | BL13: =_xlfn.XLOOKUP(BJ13,listeJours,listeJoursDebut) -> 0 | BM13: =_xlfn.XLOOKUP(BJ13,listeJours,listeJoursFin) -> 0 | BN13: =(BM13-BL13)-BK13+IF((BM13-BL13)-BK13>=TIME(6,0,0),TIME(0,20,0),TIME(0,0,0)) -> 0 | BP13: =BP12+1 -> 46607 | BQ13: =_xlfn.XLOOKUP(BP13,listeJours,listeJoursRepas) -> 0 | BR13: =_xlfn.XLOOKUP(BP13,listeJours,listeJoursDebut) -> 0 | BS13: =_xlfn.XLOOKUP(BP13,listeJours,listeJoursFin) -> 0 | BT13: =(BS13-BR13)-BQ13+IF((BS13-BR13)-BQ13>=TIME(6,0,0),TIME(0,20,0),TIME(0,0,0)) -> 0
B14: =B13+1 -> 46274 | C14: =_xlfn.XLOOKUP(B14,listeJours,listeJoursRepas) -> 0 | D14: =_xlfn.XLOOKUP(B14,listeJours,listeJoursDebut) -> 0.33333333 | E14: =_xlfn.XLOOKUP(B14,listeJours,listeJoursFin) -> 0.54166667 | F14: =(E14-D14)-C14+IF((E14-D14)-C14>=TIME(6,0,0),TIME(0,20,0),TIME(0,0,0)) -> 0.20833333 | H14: =H13+1 -> 46304 | I14: =_xlfn.XLOOKUP(H14,listeJours,listeJoursRepas) -> 0 | J14: =_xlfn.XLOOKUP(H14,listeJours,listeJoursDebut) -> 0.33333333 | K14: =_xlfn.XLOOKUP(H14,listeJours,listeJoursFin) -> 0.70833333 | L14: =(K14-J14)-I14+IF((K14-J14)-I14>=TIME(6,0,0),TIME(0,20,0),TIME(0,0,0)) -> 0.38888889 | N14: =N13+1 -> 46335 | O14: =_xlfn.XLOOKUP(N14,listeJours,listeJoursRepas) -> 0.03125 | P14: =_xlfn.XLOOKUP(N14,listeJours,listeJoursDebut) -> 0.33333333 | Q14: =_xlfn.XLOOKUP(N14,listeJours,listeJoursFin) -> 0.70833333 | R14: =(Q14-P14)-O14+IF((Q14-P14)-O14>=TIME(6,0,0),TIME(0,20,0),TIME(0,0,0)) -> 0.35763889 | T14: =T13+1 -> 46365 | U14: =_xlfn.XLOOKUP(T14,listeJours,listeJoursRepas) -> 0 | V14: =_xlfn.XLOOKUP(T14,listeJours,listeJoursDebut) -> 0.33333333 | W14: =_xlfn.XLOOKUP(T14,listeJours,listeJoursFin) -> 0.54166667 | X14: =(W14-V14)-U14+IF((W14-V14)-U14>=TIME(6,0,0),TIME(0,20,0),TIME(0,0,0)) -> 0.20833333 | Z14: =Z13+1 -> 46396 | AA14: =_xlfn.XLOOKUP(Z14,listeJours,listeJoursRepas) -> 0 | AB14: =_xlfn.XLOOKUP(Z14,listeJours,listeJoursDebut) -> 0 | AC14: =_xlfn.XLOOKUP(Z14,listeJours,listeJoursFin) -> 0 | AD14: =(AC14-AB14)-AA14+IF((AC14-AB14)-AA14>=TIME(6,0,0),TIME(0,20,0),TIME(0,0,0)) -> 0 | AF14: =AF13+1 -> 46427 | AG14: =_xlfn.XLOOKUP(AF14,listeJours,listeJoursRepas) -> 0.03125 | AH14: =_xlfn.XLOOKUP(AF14,listeJours,listeJoursDebut) -> 0.33333333 | AI14: =_xlfn.XLOOKUP(AF14,listeJours,listeJoursFin) -> 0.75 | AJ14: =(AI14-AH14)-AG14+IF((AI14-AH14)-AG14>=TIME(6,0,0),TIME(0,20,0),TIME(0,0,0)) -> 0.39930556 | AL14: =AL13+1 -> 46455 | AM14: =_xlfn.XLOOKUP(AL14,listeJours,listeJoursRepas) -> 0.03125 | AN14: =_xlfn.XLOOKUP(AL14,listeJours,listeJoursDebut) -> 0.33333333 | AO14: =_xlfn.XLOOKUP(AL14,listeJours,listeJoursFin) -> 0.75 | AP14: =(AO14-AN14)-AM14+IF((AO14-AN14)-AM14>=TIME(6,0,0),TIME(0,20,0),TIME(0,0,0)) -> 0.39930556 | AR14: =AR13+1 -> 46486 | AS14: =_xlfn.XLOOKUP(AR14,listeJours,listeJoursRepas) -> 0 | AT14: =_xlfn.XLOOKUP(AR14,listeJours,listeJoursDebut) -> 0.33333333 | AU14: =_xlfn.XLOOKUP(AR14,listeJours,listeJoursFin) -> 0.70833333 | AV14: =(AU14-AT14)-AS14+IF((AU14-AT14)-AS14>=TIME(6,0,0),TIME(0,20,0),TIME(0,0,0)) -> 0.38888889 | AX14: =AX13+1 -> 46516 | AY14: =_xlfn.XLOOKUP(AX14,listeJours,listeJoursRepas) -> 0 | AZ14: =_xlfn.XLOOKUP(AX14,listeJours,listeJoursDebut) -> 0 | BA14: =_xlfn.XLOOKUP(AX14,listeJours,listeJoursFin) -> 0 | BB14: =(BA14-AZ14)-AY14+IF((BA14-AZ14)-AY14>=TIME(6,0,0),TIME(0,20,0),TIME(0,0,0)) -> 0 | BD14: =BD13+1 -> 46547 | BE14: =_xlfn.XLOOKUP(BD14,listeJours,listeJoursRepas) -> 0 | BF14: =_xlfn.XLOOKUP(BD14,listeJours,listeJoursDebut) -> 0.33333333 | BG14: =_xlfn.XLOOKUP(BD14,listeJours,listeJoursFin) -> 0.54166667 | BH14: =(BG14-BF14)-BE14+IF((BG14-BF14)-BE14>=TIME(6,0,0),TIME(0,20,0),TIME(0,0,0)) -> 0.20833333 | BJ14: =BJ13+1 -> 46577 | BK14: =_xlfn.XLOOKUP(BJ14,listeJours,listeJoursRepas) -> 0 | BL14: =_xlfn.XLOOKUP(BJ14,listeJours,listeJoursDebut) -> 0 | BM14: =_xlfn.XLOOKUP(BJ14,listeJours,listeJoursFin) -> 0 | BN14: =(BM14-BL14)-BK14+IF((BM14-BL14)-BK14>=TIME(6,0,0),TIME(0,20,0),TIME(0,0,0)) -> 0 | BP14: =BP13+1 -> 46608 | BQ14: =_xlfn.XLOOKUP(BP14,listeJours,listeJoursRepas) -> 0 | BR14: =_xlfn.XLOOKUP(BP14,listeJours,listeJoursDebut) -> 0 | BS14: =_xlfn.XLOOKUP(BP14,listeJours,listeJoursFin) -> 0 | BT14: =(BS14-BR14)-BQ14+IF((BS14-BR14)-BQ14>=TIME(6,0,0),TIME(0,20,0),TIME(0,0,0)) -> 0
B15: =B14+1 -> 46275 | C15: =_xlfn.XLOOKUP(B15,listeJours,listeJoursRepas) -> 0.03125 | D15: =_xlfn.XLOOKUP(B15,listeJours,listeJoursDebut) -> 0.33333333 | E15: =_xlfn.XLOOKUP(B15,listeJours,listeJoursFin) -> 0.70833333 | F15: =(E15-D15)-C15+IF((E15-D15)-C15>=TIME(6,0,0),TIME(0,20,0),TIME(0,0,0)) -> 0.35763889 | H15: =H14+1 -> 46305 | I15: =_xlfn.XLOOKUP(H15,listeJours,listeJoursRepas) -> 0 | J15: =_xlfn.XLOOKUP(H15,listeJours,listeJoursDebut) -> 0 | K15: =_xlfn.XLOOKUP(H15,listeJours,listeJoursFin) -> 0 | L15: =(K15-J15)-I15+IF((K15-J15)-I15>=TIME(6,0,0),TIME(0,20,0),TIME(0,0,0)) -> 0 | N15: =N14+1 -> 46336 | O15: =_xlfn.XLOOKUP(N15,listeJours,listeJoursRepas) -> 0.03125 | P15: =_xlfn.XLOOKUP(N15,listeJours,listeJoursDebut) -> 0.33333333 | Q15: =_xlfn.XLOOKUP(N15,listeJours,listeJoursFin) -> 0.75 | R15: =(Q15-P15)-O15+IF((Q15-P15)-O15>=TIME(6,0,0),TIME(0,20,0),TIME(0,0,0)) -> 0.39930556 | T15: =T14+1 -> 46366 | U15: =_xlfn.XLOOKUP(T15,listeJours,listeJoursRepas) -> 0.03125 | V15: =_xlfn.XLOOKUP(T15,listeJours,listeJoursDebut) -> 0.33333333 | W15: =_xlfn.XLOOKUP(T15,listeJours,listeJoursFin) -> 0.70833333 | X15: =(W15-V15)-U15+IF((W15-V15)-U15>=TIME(6,0,0),TIME(0,20,0),TIME(0,0,0)) -> 0.35763889 | Z15: =Z14+1 -> 46397 | AA15: =_xlfn.XLOOKUP(Z15,listeJours,listeJoursRepas) -> 0 | AB15: =_xlfn.XLOOKUP(Z15,listeJours,listeJoursDebut) -> 0 | AC15: =_xlfn.XLOOKUP(Z15,listeJours,listeJoursFin) -> 0 | AD15: =(AC15-AB15)-AA15+IF((AC15-AB15)-AA15>=TIME(6,0,0),TIME(0,20,0),TIME(0,0,0)) -> 0 | AF15: =AF14+1 -> 46428 | AG15: =_xlfn.XLOOKUP(AF15,listeJours,listeJoursRepas) -> 0 | AH15: =_xlfn.XLOOKUP(AF15,listeJours,listeJoursDebut) -> 0.33333333 | AI15: =_xlfn.XLOOKUP(AF15,listeJours,listeJoursFin) -> 0.54166667 | AJ15: =(AI15-AH15)-AG15+IF((AI15-AH15)-AG15>=TIME(6,0,0),TIME(0,20,0),TIME(0,0,0)) -> 0.20833333 | AL15: =AL14+1 -> 46456 | AM15: =_xlfn.XLOOKUP(AL15,listeJours,listeJoursRepas) -> 0 | AN15: =_xlfn.XLOOKUP(AL15,listeJours,listeJoursDebut) -> 0.33333333 | AO15: =_xlfn.XLOOKUP(AL15,listeJours,listeJoursFin) -> 0.54166667 | AP15: =(AO15-AN15)-AM15+IF((AO15-AN15)-AM15>=TIME(6,0,0),TIME(0,20,0),TIME(0,0,0)) -> 0.20833333 | AR15: =AR14+1 -> 46487 | AS15: =_xlfn.XLOOKUP(AR15,listeJours,listeJoursRepas) -> 0 | AT15: =_xlfn.XLOOKUP(AR15,listeJours,listeJoursDebut) -> 0 | AU15: =_xlfn.XLOOKUP(AR15,listeJours,listeJoursFin) -> 0 | AV15: =(AU15-AT15)-AS15+IF((AU15-AT15)-AS15>=TIME(6,0,0),TIME(0,20,0),TIME(0,0,0)) -> 0 | AX15: =AX14+1 -> 46517 | AY15: =_xlfn.XLOOKUP(AX15,listeJours,listeJoursRepas) -> 0.03125 | AZ15: =_xlfn.XLOOKUP(AX15,listeJours,listeJoursDebut) -> 0.33333333 | BA15: =_xlfn.XLOOKUP(AX15,listeJours,listeJoursFin) -> 0.70833333 | BB15: =(BA15-AZ15)-AY15+IF((BA15-AZ15)-AY15>=TIME(6,0,0),TIME(0,20,0),TIME(0,0,0)) -> 0.35763889 | BD15: =BD14+1 -> 46548 | BE15: =_xlfn.XLOOKUP(BD15,listeJours,listeJoursRepas) -> 0.03125 | BF15: =_xlfn.XLOOKUP(BD15,listeJours,listeJoursDebut) -> 0.33333333 | BG15: =_xlfn.XLOOKUP(BD15,listeJours,listeJoursFin) -> 0.70833333 | BH15: =(BG15-BF15)-BE15+IF((BG15-BF15)-BE15>=TIME(6,0,0),TIME(0,20,0),TIME(0,0,0)) -> 0.35763889 | BJ15: =BJ14+1 -> 46578 | BK15: =_xlfn.XLOOKUP(BJ15,listeJours,listeJoursRepas) -> 0 | BL15: =_xlfn.XLOOKUP(BJ15,listeJours,listeJoursDebut) -> 0 | BM15: =_xlfn.XLOOKUP(BJ15,listeJours,listeJoursFin) -> 0 | BN15: =(BM15-BL15)-BK15+IF((BM15-BL15)-BK15>=TIME(6,0,0),TIME(0,20,0),TIME(0,0,0)) -> 0 | BP15: =BP14+1 -> 46609 | BQ15: =_xlfn.XLOOKUP(BP15,listeJours,listeJoursRepas) -> 0 | BR15: =_xlfn.XLOOKUP(BP15,listeJours,listeJoursDebut) -> 0 | BS15: =_xlfn.XLOOKUP(BP15,listeJours,listeJoursFin) -> 0 | BT15: =(BS15-BR15)-BQ15+IF((BS15-BR15)-BQ15>=TIME(6,0,0),TIME(0,20,0),TIME(0,0,0)) -> 0
B16: =B15+1 -> 46276 | C16: =_xlfn.XLOOKUP(B16,listeJours,listeJoursRepas) -> 0 | D16: =_xlfn.XLOOKUP(B16,listeJours,listeJoursDebut) -> 0.33333333 | E16: =_xlfn.XLOOKUP(B16,listeJours,listeJoursFin) -> 0.70833333 | F16: =(E16-D16)-C16+IF((E16-D16)-C16>=TIME(6,0,0),TIME(0,20,0),TIME(0,0,0)) -> 0.38888889 | H16: =H15+1 -> 46306 | I16: =_xlfn.XLOOKUP(H16,listeJours,listeJoursRepas) -> 0 | J16: =_xlfn.XLOOKUP(H16,listeJours,listeJoursDebut) -> 0 | K16: =_xlfn.XLOOKUP(H16,listeJours,listeJoursFin) -> 0 | L16: =(K16-J16)-I16+IF((K16-J16)-I16>=TIME(6,0,0),TIME(0,20,0),TIME(0,0,0)) -> 0 | N16: =N15+1 -> 46337 | O16: =_xlfn.XLOOKUP(N16,listeJours,listeJoursRepas) -> 0 | P16: =_xlfn.XLOOKUP(N16,listeJours,listeJoursDebut) -> 0.33333333 | Q16: =_xlfn.XLOOKUP(N16,listeJours,listeJoursFin) -> 0.54166667 | R16: =(Q16-P16)-O16+IF((Q16-P16)-O16>=TIME(6,0,0),TIME(0,20,0),TIME(0,0,0)) -> 0.20833333 | T16: =T15+1 -> 46367 | U16: =_xlfn.XLOOKUP(T16,listeJours,listeJoursRepas) -> 0 | V16: =_xlfn.XLOOKUP(T16,listeJours,listeJoursDebut) -> 0.33333333 | W16: =_xlfn.XLOOKUP(T16,listeJours,listeJoursFin) -> 0.70833333 | X16: =(W16-V16)-U16+IF((W16-V16)-U16>=TIME(6,0,0),TIME(0,20,0),TIME(0,0,0)) -> 0.38888889 | Z16: =Z15+1 -> 46398 | AA16: =_xlfn.XLOOKUP(Z16,listeJours,listeJoursRepas) -> 0.03125 | AB16: =_xlfn.XLOOKUP(Z16,listeJours,listeJoursDebut) -> 0.33333333 | AC16: =_xlfn.XLOOKUP(Z16,listeJours,listeJoursFin) -> 0.70833333 | AD16: =(AC16-AB16)-AA16+IF((AC16-AB16)-AA16>=TIME(6,0,0),TIME(0,20,0),TIME(0,0,0)) -> 0.35763889 | AF16: =AF15+1 -> 46429 | AG16: =_xlfn.XLOOKUP(AF16,listeJours,listeJoursRepas) -> 0.03125 | AH16: =_xlfn.XLOOKUP(AF16,listeJours,listeJoursDebut) -> 0.33333333 | AI16: =_xlfn.XLOOKUP(AF16,listeJours,listeJoursFin) -> 0.70833333 | AJ16: =(AI16-AH16)-AG16+IF((AI16-AH16)-AG16>=TIME(6,0,0),TIME(0,20,0),TIME(0,0,0)) -> 0.35763889 | AL16: =AL15+1 -> 46457 | AM16: =_xlfn.XLOOKUP(AL16,listeJours,listeJoursRepas) -> 0.03125 | AN16: =_xlfn.XLOOKUP(AL16,listeJours,listeJoursDebut) -> 0.33333333 | AO16: =_xlfn.XLOOKUP(AL16,listeJours,listeJoursFin) -> 0.70833333 | AP16: =(AO16-AN16)-AM16+IF((AO16-AN16)-AM16>=TIME(6,0,0),TIME(0,20,0),TIME(0,0,0)) -> 0.35763889 | AR16: =AR15+1 -> 46488 | AS16: =_xlfn.XLOOKUP(AR16,listeJours,listeJoursRepas) -> 0 | AT16: =_xlfn.XLOOKUP(AR16,listeJours,listeJoursDebut) -> 0 | AU16: =_xlfn.XLOOKUP(AR16,listeJours,listeJoursFin) -> 0 | AV16: =(AU16-AT16)-AS16+IF((AU16-AT16)-AS16>=TIME(6,0,0),TIME(0,20,0),TIME(0,0,0)) -> 0 | AX16: =AX15+1 -> 46518 | AY16: =_xlfn.XLOOKUP(AX16,listeJours,listeJoursRepas) -> 0.03125 | AZ16: =_xlfn.XLOOKUP(AX16,listeJours,listeJoursDebut) -> 0.33333333 | BA16: =_xlfn.XLOOKUP(AX16,listeJours,listeJoursFin) -> 0.75 | BB16: =(BA16-AZ16)-AY16+IF((BA16-AZ16)-AY16>=TIME(6,0,0),TIME(0,20,0),TIME(0,0,0)) -> 0.39930556 | BD16: =BD15+1 -> 46549 | BE16: =_xlfn.XLOOKUP(BD16,listeJours,listeJoursRepas) -> 0 | BF16: =_xlfn.XLOOKUP(BD16,listeJours,listeJoursDebut) -> 0.33333333 | BG16: =_xlfn.XLOOKUP(BD16,listeJours,listeJoursFin) -> 0.70833333 | BH16: =(BG16-BF16)-BE16+IF((BG16-BF16)-BE16>=TIME(6,0,0),TIME(0,20,0),TIME(0,0,0)) -> 0.38888889 | BJ16: =BJ15+1 -> 46579 | BK16: =_xlfn.XLOOKUP(BJ16,listeJours,listeJoursRepas) -> 0 | BL16: =_xlfn.XLOOKUP(BJ16,listeJours,listeJoursDebut) -> 0 | BM16: =_xlfn.XLOOKUP(BJ16,listeJours,listeJoursFin) -> 0 | BN16: =(BM16-BL16)-BK16+IF((BM16-BL16)-BK16>=TIME(6,0,0),TIME(0,20,0),TIME(0,0,0)) -> 0 | BP16: =BP15+1 -> 46610 | BQ16: =_xlfn.XLOOKUP(BP16,listeJours,listeJoursRepas) -> 0 | BR16: =_xlfn.XLOOKUP(BP16,listeJours,listeJoursDebut) -> 0 | BS16: =_xlfn.XLOOKUP(BP16,listeJours,listeJoursFin) -> 0 | BT16: =(BS16-BR16)-BQ16+IF((BS16-BR16)-BQ16>=TIME(6,0,0),TIME(0,20,0),TIME(0,0,0)) -> 0
B17: =B16+1 -> 46277 | C17: =_xlfn.XLOOKUP(B17,listeJours,listeJoursRepas) -> 0 | D17: =_xlfn.XLOOKUP(B17,listeJours,listeJoursDebut) -> 0 | E17: =_xlfn.XLOOKUP(B17,listeJours,listeJoursFin) -> 0 | F17: =(E17-D17)-C17+IF((E17-D17)-C17>=TIME(6,0,0),TIME(0,20,0),TIME(0,0,0)) -> 0 | H17: =H16+1 -> 46307 | I17: =_xlfn.XLOOKUP(H17,listeJours,listeJoursRepas) -> 0.03125 | J17: =_xlfn.XLOOKUP(H17,listeJours,listeJoursDebut) -> 0.33333333 | K17: =_xlfn.XLOOKUP(H17,listeJours,listeJoursFin) -> 0.70833333 | L17: =(K17-J17)-I17+IF((K17-J17)-I17>=TIME(6,0,0),TIME(0,20,0),TIME(0,0,0)) -> 0.35763889 | N17: =N16+1 -> 46338 | O17: =_xlfn.XLOOKUP(N17,listeJours,listeJoursRepas) -> 0.03125 | P17: =_xlfn.XLOOKUP(N17,listeJours,listeJoursDebut) -> 0.33333333 | Q17: =_xlfn.XLOOKUP(N17,listeJours,listeJoursFin) -> 0.70833333 | R17: =(Q17-P17)-O17+IF((Q17-P17)-O17>=TIME(6,0,0),TIME(0,20,0),TIME(0,0,0)) -> 0.35763889 | T17: =T16+1 -> 46368 | U17: =_xlfn.XLOOKUP(T17,listeJours,listeJoursRepas) -> 0 | V17: =_xlfn.XLOOKUP(T17,listeJours,listeJoursDebut) -> 0 | W17: =_xlfn.XLOOKUP(T17,listeJours,listeJoursFin) -> 0 | X17: =(W17-V17)-U17+IF((W17-V17)-U17>=TIME(6,0,0),TIME(0,20,0),TIME(0,0,0)) -> 0 | Z17: =Z16+1 -> 46399 | AA17: =_xlfn.XLOOKUP(Z17,listeJours,listeJoursRepas) -> 0.03125 | AB17: =_xlfn.XLOOKUP(Z17,listeJours,listeJoursDebut) -> 0.33333333 | AC17: =_xlfn.XLOOKUP(Z17,listeJours,listeJoursFin) -> 0.75 | AD17: =(AC17-AB17)-AA17+IF((AC17-AB17)-AA17>=TIME(6,0,0),TIME(0,20,0),TIME(0,0,0)) -> 0.39930556 | AF17: =AF16+1 -> 46430 | AG17: =_xlfn.XLOOKUP(AF17,listeJours,listeJoursRepas) -> 0 | AH17: =_xlfn.XLOOKUP(AF17,listeJours,listeJoursDebut) -> 0.33333333 | AI17: =_xlfn.XLOOKUP(AF17,listeJours,listeJoursFin) -> 0.70833333 | AJ17: =(AI17-AH17)-AG17+IF((AI17-AH17)-AG17>=TIME(6,0,0),TIME(0,20,0),TIME(0,0,0)) -> 0.38888889 | AL17: =AL16+1 -> 46458 | AM17: =_xlfn.XLOOKUP(AL17,listeJours,listeJoursRepas) -> 0 | AN17: =_xlfn.XLOOKUP(AL17,listeJours,listeJoursDebut) -> 0.33333333 | AO17: =_xlfn.XLOOKUP(AL17,listeJours,listeJoursFin) -> 0.70833333 | AP17: =(AO17-AN17)-AM17+IF((AO17-AN17)-AM17>=TIME(6,0,0),TIME(0,20,0),TIME(0,0,0)) -> 0.38888889 | AR17: =AR16+1 -> 46489 | AS17: =_xlfn.XLOOKUP(AR17,listeJours,listeJoursRepas) -> 0 | AT17: =_xlfn.XLOOKUP(AR17,listeJours,listeJoursDebut) -> 0 | AU17: =_xlfn.XLOOKUP(AR17,listeJours,listeJoursFin) -> 0 | AV17: =(AU17-AT17)-AS17+IF((AU17-AT17)-AS17>=TIME(6,0,0),TIME(0,20,0),TIME(0,0,0)) -> 0 | AX17: =AX16+1 -> 46519 | AY17: =_xlfn.XLOOKUP(AX17,listeJours,listeJoursRepas) -> 0 | AZ17: =_xlfn.XLOOKUP(AX17,listeJours,listeJoursDebut) -> 0.33333333 | BA17: =_xlfn.XLOOKUP(AX17,listeJours,listeJoursFin) -> 0.54166667 | BB17: =(BA17-AZ17)-AY17+IF((BA17-AZ17)-AY17>=TIME(6,0,0),TIME(0,20,0),TIME(0,0,0)) -> 0.20833333 | BD17: =BD16+1 -> 46550 | BE17: =_xlfn.XLOOKUP(BD17,listeJours,listeJoursRepas) -> 0 | BF17: =_xlfn.XLOOKUP(BD17,listeJours,listeJoursDebut) -> 0 | BG17: =_xlfn.XLOOKUP(BD17,listeJours,listeJoursFin) -> 0 | BH17: =(BG17-BF17)-BE17+IF((BG17-BF17)-BE17>=TIME(6,0,0),TIME(0,20,0),TIME(0,0,0)) -> 0 | BJ17: =BJ16+1 -> 46580 | BK17: =_xlfn.XLOOKUP(BJ17,listeJours,listeJoursRepas) -> 0 | BL17: =_xlfn.XLOOKUP(BJ17,listeJours,listeJoursDebut) -> 0 | BM17: =_xlfn.XLOOKUP(BJ17,listeJours,listeJoursFin) -> 0 | BN17: =(BM17-BL17)-BK17+IF((BM17-BL17)-BK17>=TIME(6,0,0),TIME(0,20,0),TIME(0,0,0)) -> 0 | BP17: =BP16+1 -> 46611 | BQ17: =_xlfn.XLOOKUP(BP17,listeJours,listeJoursRepas) -> 0 | BR17: =_xlfn.XLOOKUP(BP17,listeJours,listeJoursDebut) -> 0 | BS17: =_xlfn.XLOOKUP(BP17,listeJours,listeJoursFin) -> 0 | BT17: =(BS17-BR17)-BQ17+IF((BS17-BR17)-BQ17>=TIME(6,0,0),TIME(0,20,0),TIME(0,0,0)) -> 0
B18: =B17+1 -> 46278 | C18: =_xlfn.XLOOKUP(B18,listeJours,listeJoursRepas) -> 0 | D18: =_xlfn.XLOOKUP(B18,listeJours,listeJoursDebut) -> 0 | E18: =_xlfn.XLOOKUP(B18,listeJours,listeJoursFin) -> 0 | F18: =(E18-D18)-C18+IF((E18-D18)-C18>=TIME(6,0,0),TIME(0,20,0),TIME(0,0,0)) -> 0 | H18: =H17+1 -> 46308 | I18: =_xlfn.XLOOKUP(H18,listeJours,listeJoursRepas) -> 0.03125 | J18: =_xlfn.XLOOKUP(H18,listeJours,listeJoursDebut) -> 0.33333333 | K18: =_xlfn.XLOOKUP(H18,listeJours,listeJoursFin) -> 0.75 | L18: =(K18-J18)-I18+IF((K18-J18)-I18>=TIME(6,0,0),TIME(0,20,0),TIME(0,0,0)) -> 0.39930556 | N18: =N17+1 -> 46339 | O18: =_xlfn.XLOOKUP(N18,listeJours,listeJoursRepas) -> 0 | P18: =_xlfn.XLOOKUP(N18,listeJours,listeJoursDebut) -> 0.33333333 | Q18: =_xlfn.XLOOKUP(N18,listeJours,listeJoursFin) -> 0.70833333 | R18: =(Q18-P18)-O18+IF((Q18-P18)-O18>=TIME(6,0,0),TIME(0,20,0),TIME(0,0,0)) -> 0.38888889 | T18: =T17+1 -> 46369 | U18: =_xlfn.XLOOKUP(T18,listeJours,listeJoursRepas) -> 0 | V18: =_xlfn.XLOOKUP(T18,listeJours,listeJoursDebut) -> 0 | W18: =_xlfn.XLOOKUP(T18,listeJours,listeJoursFin) -> 0 | X18: =(W18-V18)-U18+IF((W18-V18)-U18>=TIME(6,0,0),TIME(0,20,0),TIME(0,0,0)) -> 0 | Z18: =Z17+1 -> 46400 | AA18: =_xlfn.XLOOKUP(Z18,listeJours,listeJoursRepas) -> 0 | AB18: =_xlfn.XLOOKUP(Z18,listeJours,listeJoursDebut) -> 0.33333333 | AC18: =_xlfn.XLOOKUP(Z18,listeJours,listeJoursFin) -> 0.54166667 | AD18: =(AC18-AB18)-AA18+IF((AC18-AB18)-AA18>=TIME(6,0,0),TIME(0,20,0),TIME(0,0,0)) -> 0.20833333 | AF18: =AF17+1 -> 46431 | AG18: =_xlfn.XLOOKUP(AF18,listeJours,listeJoursRepas) -> 0 | AH18: =_xlfn.XLOOKUP(AF18,listeJours,listeJoursDebut) -> 0 | AI18: =_xlfn.XLOOKUP(AF18,listeJours,listeJoursFin) -> 0 | AJ18: =(AI18-AH18)-AG18+IF((AI18-AH18)-AG18>=TIME(6,0,0),TIME(0,20,0),TIME(0,0,0)) -> 0 | AL18: =AL17+1 -> 46459 | AM18: =_xlfn.XLOOKUP(AL18,listeJours,listeJoursRepas) -> 0 | AN18: =_xlfn.XLOOKUP(AL18,listeJours,listeJoursDebut) -> 0 | AO18: =_xlfn.XLOOKUP(AL18,listeJours,listeJoursFin) -> 0 | AP18: =(AO18-AN18)-AM18+IF((AO18-AN18)-AM18>=TIME(6,0,0),TIME(0,20,0),TIME(0,0,0)) -> 0 | AR18: =AR17+1 -> 46490 | AS18: =_xlfn.XLOOKUP(AR18,listeJours,listeJoursRepas) -> 0 | AT18: =_xlfn.XLOOKUP(AR18,listeJours,listeJoursDebut) -> 0 | AU18: =_xlfn.XLOOKUP(AR18,listeJours,listeJoursFin) -> 0 | AV18: =(AU18-AT18)-AS18+IF((AU18-AT18)-AS18>=TIME(6,0,0),TIME(0,20,0),TIME(0,0,0)) -> 0 | AX18: =AX17+1 -> 46520 | AY18: =_xlfn.XLOOKUP(AX18,listeJours,listeJoursRepas) -> 0.03125 | AZ18: =_xlfn.XLOOKUP(AX18,listeJours,listeJoursDebut) -> 0.33333333 | BA18: =_xlfn.XLOOKUP(AX18,listeJours,listeJoursFin) -> 0.70833333 | BB18: =(BA18-AZ18)-AY18+IF((BA18-AZ18)-AY18>=TIME(6,0,0),TIME(0,20,0),TIME(0,0,0)) -> 0.35763889 | BD18: =BD17+1 -> 46551 | BE18: =_xlfn.XLOOKUP(BD18,listeJours,listeJoursRepas) -> 0 | BF18: =_xlfn.XLOOKUP(BD18,listeJours,listeJoursDebut) -> 0 | BG18: =_xlfn.XLOOKUP(BD18,listeJours,listeJoursFin) -> 0 | BH18: =(BG18-BF18)-BE18+IF((BG18-BF18)-BE18>=TIME(6,0,0),TIME(0,20,0),TIME(0,0,0)) -> 0 | BJ18: =BJ17+1 -> 46581 | BK18: =_xlfn.XLOOKUP(BJ18,listeJours,listeJoursRepas) -> 0 | BL18: =_xlfn.XLOOKUP(BJ18,listeJours,listeJoursDebut) -> 0 | BM18: =_xlfn.XLOOKUP(BJ18,listeJours,listeJoursFin) -> 0 | BN18: =(BM18-BL18)-BK18+IF((BM18-BL18)-BK18>=TIME(6,0,0),TIME(0,20,0),TIME(0,0,0)) -> 0 | BP18: =BP17+1 -> 46612 | BQ18: =_xlfn.XLOOKUP(BP18,listeJours,listeJoursRepas) -> 0 | BR18: =_xlfn.XLOOKUP(BP18,listeJours,listeJoursDebut) -> 0 | BS18: =_xlfn.XLOOKUP(BP18,listeJours,listeJoursFin) -> 0 | BT18: =(BS18-BR18)-BQ18+IF((BS18-BR18)-BQ18>=TIME(6,0,0),TIME(0,20,0),TIME(0,0,0)) -> 0
... B33: =B32+1 -> 46293 | C33: =_xlfn.XLOOKUP(B33,listeJours,listeJoursRepas) -> 0.03125 | D33: =_xlfn.XLOOKUP(B33,listeJours,listeJoursDebut) -> 0.33333333 | E33: =_xlfn.XLOOKUP(B33,listeJours,listeJoursFin) -> 0.70833333 | F33: =(E33-D33)-C33+IF((E33-D33)-C33>=TIME(6,0,0),TIME(0,20,0),TIME(0,0,0)) -> 0.35763889 | H33: =H32+1 -> 46323 | I33: =_xlfn.XLOOKUP(H33,listeJours,listeJoursRepas) -> 0 | J33: =_xlfn.XLOOKUP(H33,listeJours,listeJoursDebut) -> 0 | K33: =_xlfn.XLOOKUP(H33,listeJours,listeJoursFin) -> 0 | L33: =(K33-J33)-I33+IF((K33-J33)-I33>=TIME(6,0,0),TIME(0,20,0),TIME(0,0,0)) -> 0 | N33: =N32+1 -> 46354 | O33: =_xlfn.XLOOKUP(N33,listeJours,listeJoursRepas) -> 0 | P33: =_xlfn.XLOOKUP(N33,listeJours,listeJoursDebut) -> 0 | Q33: =_xlfn.XLOOKUP(N33,listeJours,listeJoursFin) -> 0 | R33: =(Q33-P33)-O33+IF((Q33-P33)-O33>=TIME(6,0,0),TIME(0,20,0),TIME(0,0,0)) -> 0 | T33: =T32+1 -> 46384 | U33: =_xlfn.XLOOKUP(T33,listeJours,listeJoursRepas) -> 0 | V33: =_xlfn.XLOOKUP(T33,listeJours,listeJoursDebut) -> 0 | W33: =_xlfn.XLOOKUP(T33,listeJours,listeJoursFin) -> 0 | X33: =(W33-V33)-U33+IF((W33-V33)-U33>=TIME(6,0,0),TIME(0,20,0),TIME(0,0,0)) -> 0 | Z33: =Z32+1 -> 46415 | AA33: =_xlfn.XLOOKUP(Z33,listeJours,listeJoursRepas) -> 0.03125 | AB33: =_xlfn.XLOOKUP(Z33,listeJours,listeJoursDebut) -> 0.33333333 | AC33: =_xlfn.XLOOKUP(Z33,listeJours,listeJoursFin) -> 0.70833333 | AD33: =(AC33-AB33)-AA33+IF((AC33-AB33)-AA33>=TIME(6,0,0),TIME(0,20,0),TIME(0,0,0)) -> 0.35763889 | AF33: =AF32+1 -> 46446 | AG33: =_xlfn.XLOOKUP(AF33,listeJours,listeJoursRepas) -> 0 | AH33: =_xlfn.XLOOKUP(AF33,listeJours,listeJoursDebut) -> 0 | AI33: =_xlfn.XLOOKUP(AF33,listeJours,listeJoursFin) -> 0 | AJ33: =(AI33-AH33)-AG33+IF((AI33-AH33)-AG33>=TIME(6,0,0),TIME(0,20,0),TIME(0,0,0)) -> 0 | AL33: =AL32+1 -> 46474 | AM33: =_xlfn.XLOOKUP(AL33,listeJours,listeJoursRepas) -> 0 | AN33: =_xlfn.XLOOKUP(AL33,listeJours,listeJoursDebut) -> 0 | AO33: =_xlfn.XLOOKUP(AL33,listeJours,listeJoursFin) -> 0 | AP33: =(AO33-AN33)-AM33+IF((AO33-AN33)-AM33>=TIME(6,0,0),TIME(0,20,0),TIME(0,0,0)) -> 0 | AR33: =AR32+1 -> 46505 | AS33: =_xlfn.XLOOKUP(AR33,listeJours,listeJoursRepas) -> 0 | AT33: =_xlfn.XLOOKUP(AR33,listeJours,listeJoursDebut) -> 0.33333333 | AU33: =_xlfn.XLOOKUP(AR33,listeJours,listeJoursFin) -> 0.54166667 | AV33: =(AU33-AT33)-AS33+IF((AU33-AT33)-AS33>=TIME(6,0,0),TIME(0,20,0),TIME(0,0,0)) -> 0.20833333 | AX33: =AX32+1 -> 46535 | AY33: =_xlfn.XLOOKUP(AX33,listeJours,listeJoursRepas) -> 0 | AZ33: =_xlfn.XLOOKUP(AX33,listeJours,listeJoursDebut) -> 0.33333333 | BA33: =_xlfn.XLOOKUP(AX33,listeJours,listeJoursFin) -> 0.70833333 | BB33: =(BA33-AZ33)-AY33+IF((BA33-AZ33)-AY33>=TIME(6,0,0),TIME(0,20,0),TIME(0,0,0)) -> 0.38888889 | BD33: =BD32+1 -> 46566 | BE33: =_xlfn.XLOOKUP(BD33,listeJours,listeJoursRepas) -> 0.03125 | BF33: =_xlfn.XLOOKUP(BD33,listeJours,listeJoursDebut) -> 0.33333333 | BG33: =_xlfn.XLOOKUP(BD33,listeJours,listeJoursFin) -> 0.70833333 | BH33: =(BG33-BF33)-BE33+IF((BG33-BF33)-BE33>=TIME(6,0,0),TIME(0,20,0),TIME(0,0,0)) -> 0.35763889 | BJ33: =BJ32+1 -> 46596 | BK33: =_xlfn.XLOOKUP(BJ33,listeJours,listeJoursRepas) -> 0 | BL33: =_xlfn.XLOOKUP(BJ33,listeJours,listeJoursDebut) -> 0 | BM33: =_xlfn.XLOOKUP(BJ33,listeJours,listeJoursFin) -> 0 | BN33: =(BM33-BL33)-BK33+IF((BM33-BL33)-BK33>=TIME(6,0,0),TIME(0,20,0),TIME(0,0,0)) -> 0 | BP33: =BP32+1 -> 46627 | BQ33: =_xlfn.XLOOKUP(BP33,listeJours,listeJoursRepas) -> 0 | BR33: =_xlfn.XLOOKUP(BP33,listeJours,listeJoursDebut) -> 0 | BS33: =_xlfn.XLOOKUP(BP33,listeJours,listeJoursFin) -> 0 | BT33: =(BS33-BR33)-BQ33+IF((BS33-BR33)-BQ33>=TIME(6,0,0),TIME(0,20,0),TIME(0,0,0)) -> 0
B34: =B33+1 -> 46294 | C34: =_xlfn.XLOOKUP(B34,listeJours,listeJoursRepas) -> 0.03125 | D34: =_xlfn.XLOOKUP(B34,listeJours,listeJoursDebut) -> 0.33333333 | E34: =_xlfn.XLOOKUP(B34,listeJours,listeJoursFin) -> 0.75 | F34: =(E34-D34)-C34+IF((E34-D34)-C34>=TIME(6,0,0),TIME(0,20,0),TIME(0,0,0)) -> 0.39930556 | H34: =H33+1 -> 46324 | I34: =_xlfn.XLOOKUP(H34,listeJours,listeJoursRepas) -> 0 | J34: =_xlfn.XLOOKUP(H34,listeJours,listeJoursDebut) -> 0 | K34: =_xlfn.XLOOKUP(H34,listeJours,listeJoursFin) -> 0 | L34: =(K34-J34)-I34+IF((K34-J34)-I34>=TIME(6,0,0),TIME(0,20,0),TIME(0,0,0)) -> 0 | N34: =N33+1 -> 46355 | O34: =_xlfn.XLOOKUP(N34,listeJours,listeJoursRepas) -> 0 | P34: =_xlfn.XLOOKUP(N34,listeJours,listeJoursDebut) -> 0 | Q34: =_xlfn.XLOOKUP(N34,listeJours,listeJoursFin) -> 0 | R34: =(Q34-P34)-O34+IF((Q34-P34)-O34>=TIME(6,0,0),TIME(0,20,0),TIME(0,0,0)) -> 0 | T34: =T33+1 -> 46385 | U34: =_xlfn.XLOOKUP(T34,listeJours,listeJoursRepas) -> 0 | V34: =_xlfn.XLOOKUP(T34,listeJours,listeJoursDebut) -> 0 | W34: =_xlfn.XLOOKUP(T34,listeJours,listeJoursFin) -> 0 | X34: =(W34-V34)-U34+IF((W34-V34)-U34>=TIME(6,0,0),TIME(0,20,0),TIME(0,0,0)) -> 0 | Z34: =Z33+1 -> 46416 | AA34: =_xlfn.XLOOKUP(Z34,listeJours,listeJoursRepas) -> 0 | AB34: =_xlfn.XLOOKUP(Z34,listeJours,listeJoursDebut) -> 0.33333333 | AC34: =_xlfn.XLOOKUP(Z34,listeJours,listeJoursFin) -> 0.70833333 | AD34: =(AC34-AB34)-AA34+IF((AC34-AB34)-AA34>=TIME(6,0,0),TIME(0,20,0),TIME(0,0,0)) -> 0.38888889 | AF34: =IF(OR(MOD(annee2,400)=0,AND(MOD(annee2,4)=0,MOD(annee2,100)>0)),AF33+1,"") | AG34: =IF(AF34="","",_xlfn.XLOOKUP(AF33,listeJours,listeJoursRepas)) | AH34: =IF(AF34="","",_xlfn.XLOOKUP(AF33,listeJours,listeJoursDebut)) | AI34: =IF(AF34="","",_xlfn.XLOOKUP(AF33,listeJours,listeJoursFin)) | AJ34: =IF(AF34="","",(AI34-AH34)-AG34+IF((AI34-AH34)-AG34>=TIME(6,0,0),TIME(0,20,0),TIME(0,0,0))) | AL34: =AL33+1 -> 46475 | AM34: =_xlfn.XLOOKUP(AL34,listeJours,listeJoursRepas) -> 0.03125 | AN34: =_xlfn.XLOOKUP(AL34,listeJours,listeJoursDebut) -> 0.33333333 | AO34: =_xlfn.XLOOKUP(AL34,listeJours,listeJoursFin) -> 0.70833333 | AP34: =(AO34-AN34)-AM34+IF((AO34-AN34)-AM34>=TIME(6,0,0),TIME(0,20,0),TIME(0,0,0)) -> 0.35763889 | AR34: =AR33+1 -> 46506 | AS34: =_xlfn.XLOOKUP(AR34,listeJours,listeJoursRepas) -> 0.03125 | AT34: =_xlfn.XLOOKUP(AR34,listeJours,listeJoursDebut) -> 0.33333333 | AU34: =_xlfn.XLOOKUP(AR34,listeJours,listeJoursFin) -> 0.70833333 | AV34: =(AU34-AT34)-AS34+IF((AU34-AT34)-AS34>=TIME(6,0,0),TIME(0,20,0),TIME(0,0,0)) -> 0.35763889 | AX34: =AX33+1 -> 46536 | AY34: =_xlfn.XLOOKUP(AX34,listeJours,listeJoursRepas) -> 0 | AZ34: =_xlfn.XLOOKUP(AX34,listeJours,listeJoursDebut) -> 0 | BA34: =_xlfn.XLOOKUP(AX34,listeJours,listeJoursFin) -> 0 | BB34: =(BA34-AZ34)-AY34+IF((BA34-AZ34)-AY34>=TIME(6,0,0),TIME(0,20,0),TIME(0,0,0)) -> 0 | BD34: =BD33+1 -> 46567 | BE34: =_xlfn.XLOOKUP(BD34,listeJours,listeJoursRepas) -> 0.03125 | BF34: =_xlfn.XLOOKUP(BD34,listeJours,listeJoursDebut) -> 0.33333333 | BG34: =_xlfn.XLOOKUP(BD34,listeJours,listeJoursFin) -> 0.75 | BH34: =(BG34-BF34)-BE34+IF((BG34-BF34)-BE34>=TIME(6,0,0),TIME(0,20,0),TIME(0,0,0)) -> 0.39930556 | BJ34: =BJ33+1 -> 46597 | BK34: =_xlfn.XLOOKUP(BJ34,listeJours,listeJoursRepas) -> 0 | BL34: =_xlfn.XLOOKUP(BJ34,listeJours,listeJoursDebut) -> 0 | BM34: =_xlfn.XLOOKUP(BJ34,listeJours,listeJoursFin) -> 0 | BN34: =(BM34-BL34)-BK34+IF((BM34-BL34)-BK34>=TIME(6,0,0),TIME(0,20,0),TIME(0,0,0)) -> 0 | BP34: =BP33+1 -> 46628 | BQ34: =_xlfn.XLOOKUP(BP34,listeJours,listeJoursRepas) -> 0 | BR34: =_xlfn.XLOOKUP(BP34,listeJours,listeJoursDebut) -> 0 | BS34: =_xlfn.XLOOKUP(BP34,listeJours,listeJoursFin) -> 0 | BT34: =(BS34-BR34)-BQ34+IF((BS34-BR34)-BQ34>=TIME(6,0,0),TIME(0,20,0),TIME(0,0,0)) -> 0
B35: =B34+1 -> 46295 | C35: =_xlfn.XLOOKUP(B35,listeJours,listeJoursRepas) -> 0 | D35: =_xlfn.XLOOKUP(B35,listeJours,listeJoursDebut) -> 0.33333333 | E35: =_xlfn.XLOOKUP(B35,listeJours,listeJoursFin) -> 0.54166667 | F35: =(E35-D35)-C35+IF((E35-D35)-C35>=TIME(6,0,0),TIME(0,20,0),TIME(0,0,0)) -> 0.20833333 | H35: =H34+1 -> 46325 | I35: =_xlfn.XLOOKUP(H35,listeJours,listeJoursRepas) -> 0 | J35: =_xlfn.XLOOKUP(H35,listeJours,listeJoursDebut) -> 0 | K35: =_xlfn.XLOOKUP(H35,listeJours,listeJoursFin) -> 0 | L35: =(K35-J35)-I35+IF((K35-J35)-I35>=TIME(6,0,0),TIME(0,20,0),TIME(0,0,0)) -> 0 | N35: =N34+1 -> 46356 | O35: =_xlfn.XLOOKUP(N35,listeJours,listeJoursRepas) -> 0.03125 | P35: =_xlfn.XLOOKUP(N35,listeJours,listeJoursDebut) -> 0.33333333 | Q35: =_xlfn.XLOOKUP(N35,listeJours,listeJoursFin) -> 0.70833333 | R35: =(Q35-P35)-O35+IF((Q35-P35)-O35>=TIME(6,0,0),TIME(0,20,0),TIME(0,0,0)) -> 0.35763889 | T35: =T34+1 -> 46386 | U35: =_xlfn.XLOOKUP(T35,listeJours,listeJoursRepas) -> 0 | V35: =_xlfn.XLOOKUP(T35,listeJours,listeJoursDebut) -> 0 | W35: =_xlfn.XLOOKUP(T35,listeJours,listeJoursFin) -> 0 | X35: =(W35-V35)-U35+IF((W35-V35)-U35>=TIME(6,0,0),TIME(0,20,0),TIME(0,0,0)) -> 0 | Z35: =Z34+1 -> 46417 | AA35: =_xlfn.XLOOKUP(Z35,listeJours,listeJoursRepas) -> 0 | AB35: =_xlfn.XLOOKUP(Z35,listeJours,listeJoursDebut) -> 0 | AC35: =_xlfn.XLOOKUP(Z35,listeJours,listeJoursFin) -> 0 | AD35: =(AC35-AB35)-AA35+IF((AC35-AB35)-AA35>=TIME(6,0,0),TIME(0,20,0),TIME(0,0,0)) -> 0 | AL35: =AL34+1 -> 46476 | AM35: =_xlfn.XLOOKUP(AL35,listeJours,listeJoursRepas) -> 0.03125 | AN35: =_xlfn.XLOOKUP(AL35,listeJours,listeJoursDebut) -> 0.33333333 | AO35: =_xlfn.XLOOKUP(AL35,listeJours,listeJoursFin) -> 0.75 | AP35: =(AO35-AN35)-AM35+IF((AO35-AN35)-AM35>=TIME(6,0,0),TIME(0,20,0),TIME(0,0,0)) -> 0.39930556 | AR35: =AR34+1 -> 46507 | AS35: =_xlfn.XLOOKUP(AR35,listeJours,listeJoursRepas) -> 0 | AT35: =_xlfn.XLOOKUP(AR35,listeJours,listeJoursDebut) -> 0.33333333 | AU35: =_xlfn.XLOOKUP(AR35,listeJours,listeJoursFin) -> 0.70833333 | AV35: =(AU35-AT35)-AS35+IF((AU35-AT35)-AS35>=TIME(6,0,0),TIME(0,20,0),TIME(0,0,0)) -> 0.38888889 | AX35: =AX34+1 -> 46537 | AY35: =_xlfn.XLOOKUP(AX35,listeJours,listeJoursRepas) -> 0 | AZ35: =_xlfn.XLOOKUP(AX35,listeJours,listeJoursDebut) -> 0 | BA35: =_xlfn.XLOOKUP(AX35,listeJours,listeJoursFin) -> 0 | BB35: =(BA35-AZ35)-AY35+IF((BA35-AZ35)-AY35>=TIME(6,0,0),TIME(0,20,0),TIME(0,0,0)) -> 0 | BD35: =BD34+1 -> 46568 | BE35: =_xlfn.XLOOKUP(BD35,listeJours,listeJoursRepas) -> 0 | BF35: =_xlfn.XLOOKUP(BD35,listeJours,listeJoursDebut) -> 0.33333333 | BG35: =_xlfn.XLOOKUP(BD35,listeJours,listeJoursFin) -> 0.54166667 | BH35: =(BG35-BF35)-BE35+IF((BG35-BF35)-BE35>=TIME(6,0,0),TIME(0,20,0),TIME(0,0,0)) -> 0.20833333 | BJ35: =BJ34+1 -> 46598 | BK35: =_xlfn.XLOOKUP(BJ35,listeJours,listeJoursRepas) -> 0 | BL35: =_xlfn.XLOOKUP(BJ35,listeJours,listeJoursDebut) -> 0 | BM35: =_xlfn.XLOOKUP(BJ35,listeJours,listeJoursFin) -> 0 | BN35: =(BM35-BL35)-BK35+IF((BM35-BL35)-BK35>=TIME(6,0,0),TIME(0,20,0),TIME(0,0,0)) -> 0 | BP35: =BP34+1 -> 46629 | BQ35: =_xlfn.XLOOKUP(BP35,listeJours,listeJoursRepas) -> 0 | BR35: =_xlfn.XLOOKUP(BP35,listeJours,listeJoursDebut) -> 0 | BS35: =_xlfn.XLOOKUP(BP35,listeJours,listeJoursFin) -> 0 | BT35: =(BS35-BR35)-BQ35+IF((BS35-BR35)-BQ35>=TIME(6,0,0),TIME(0,20,0),TIME(0,0,0)) -> 0
H36: =H35+1 -> 46326 | I36: =_xlfn.XLOOKUP(H36,listeJours,listeJoursRepas) -> 0 | J36: =_xlfn.XLOOKUP(H36,listeJours,listeJoursDebut) -> 0 | K36: =_xlfn.XLOOKUP(H36,listeJours,listeJoursFin) -> 0 | L36: =(K36-J36)-I36+IF((K36-J36)-I36>=TIME(6,0,0),TIME(0,20,0),TIME(0,0,0)) -> 0 | T36: =T35+1 -> 46387 | U36: =_xlfn.XLOOKUP(T36,listeJours,listeJoursRepas) -> 0 | V36: =_xlfn.XLOOKUP(T36,listeJours,listeJoursDebut) -> 0 | W36: =_xlfn.XLOOKUP(T36,listeJours,listeJoursFin) -> 0 | X36: =(W36-V36)-U36+IF((W36-V36)-U36>=TIME(6,0,0),TIME(0,20,0),TIME(0,0,0)) -> 0 | Z36: =Z35+1 -> 46418 | AA36: =_xlfn.XLOOKUP(Z36,listeJours,listeJoursRepas) -> 0 | AB36: =_xlfn.XLOOKUP(Z36,listeJours,listeJoursDebut) -> 0 | AC36: =_xlfn.XLOOKUP(Z36,listeJours,listeJoursFin) -> 0 | AD36: =(AC36-AB36)-AA36+IF((AC36-AB36)-AA36>=TIME(6,0,0),TIME(0,20,0),TIME(0,0,0)) -> 0 | AL36: =AL35+1 -> 46477 | AM36: =_xlfn.XLOOKUP(AL36,listeJours,listeJoursRepas) -> 0 | AN36: =_xlfn.XLOOKUP(AL36,listeJours,listeJoursDebut) -> 0.33333333 | AO36: =_xlfn.XLOOKUP(AL36,listeJours,listeJoursFin) -> 0.54166667 | AP36: =(AO36-AN36)-AM36+IF((AO36-AN36)-AM36>=TIME(6,0,0),TIME(0,20,0),TIME(0,0,0)) -> 0.20833333 | AX36: =AX35+1 -> 46538 | AY36: =_xlfn.XLOOKUP(AX36,listeJours,listeJoursRepas) -> 0.03125 | AZ36: =_xlfn.XLOOKUP(AX36,listeJours,listeJoursDebut) -> 0.33333333 | BA36: =_xlfn.XLOOKUP(AX36,listeJours,listeJoursFin) -> 0.70833333 | BB36: =(BA36-AZ36)-AY36+IF((BA36-AZ36)-AY36>=TIME(6,0,0),TIME(0,20,0),TIME(0,0,0)) -> 0.35763889 | BJ36: =BJ35+1 -> 46599 | BK36: =_xlfn.XLOOKUP(BJ36,listeJours,listeJoursRepas) -> 0 | BL36: =_xlfn.XLOOKUP(BJ36,listeJours,listeJoursDebut) -> 0 | BM36: =_xlfn.XLOOKUP(BJ36,listeJours,listeJoursFin) -> 0 | BN36: =(BM36-BL36)-BK36+IF((BM36-BL36)-BK36>=TIME(6,0,0),TIME(0,20,0),TIME(0,0,0)) -> 0 | BP36: =BP35+1 -> 46630 | BQ36: =_xlfn.XLOOKUP(BP36,listeJours,listeJoursRepas) -> 0 | BR36: =_xlfn.XLOOKUP(BP36,listeJours,listeJoursDebut) -> 0 | BS36: =_xlfn.XLOOKUP(BP36,listeJours,listeJoursFin) -> 0 | BT36: =(BS36-BR36)-BQ36+IF((BS36-BR36)-BQ36>=TIME(6,0,0),TIME(0,20,0),TIME(0,0,0)) -> 0
E45: Base annuelle | F45: =base/24 -> 66.958333 | K45: Durée de travail | L45: =SUM(listeDuree) -> 60.913194 | N45: =IF(L45<F48,"⚠️ Il manque des heures de travail","🚩Dépassement d'heures !") -> ⚠️ Il manque des heures de travail
E46: 2 jours de franctionnement | F46: =fractionnement -> Oui | K46: dont sur temps scolaire | L46: =L45-L47 -> 60.913194
E47: Quotité de travail | F47: =quotite -> 1 | K47: donst sur temps vacances | L47: =SUMIFS(listeDuree,listeJoursVacancesZone,TRUE()) -> 0 | N47: Si la case psse au rouge , vous avez fait trop d'heures
E48: Temps de travail à effectuer | F48: =du/24 -> 66.375 | K48: Total effectué à ce jour | L48: =SUMIFS(listeDuree,listeJours,"<="&TODAY()) -> 8.2361111
K50: Nombre de jours travaillés | L50: =COUNTIFS(listeDuree,">0") -> 178
K51: dont sur temps scolaire | L51: =L50-L52 -> 178
K52: dont pendant vacances | L52: =COUNTIFS(listeDuree,">0",listeJoursVacancesZone,TRUE()) -> 0
K53: Nombre de samedis travaillés | L53: =COUNTIFS(listeDuree,">0",listeNumeroJour,6) -> 0

Sheet Paramétrage
A1: Jours | B1: Numero jour semaine | C1: Durées Repas | D1: Débuts | E1: Fins | F1: jours particuliers | G1: Jours particulier Repas | H1: Jours particuliers debut | I1: Jourd particuliers fin | J1: mois depuis debut (pour décalage) | K1: Durées | L1: Jour -1 et j+1 non travaillés | M1: Jours férié non travaillé | N1: Jours semaine habituellemnet travaillés | O1: jours fériés non travaillés | P1: jours fériés | Q1: weekend | R1: Jours vacances scoalaires travaillés | S1: ="Vacances scolaire zone "&zone -> Vacances scolaire zone A | T1: Vacances Toussaint | U1: Vaccances Noël | V1: ="Vacance hiver zone A" -> Vacance hiver zone A | W1: ="Vacance printemps zone A" -> Vacance printemps zone A | X1: ="Vacance hiver zone B" -> Vacance hiver zone B | Y1: ="Vacance printemps zone B" -> Vacance printemps zone B | Z1: ="Vacance hiver zone C" -> Vacance hiver zone C | AA1: ="Vacance printemps zone C" -> Vacance printemps zone C | AB1: Vacances été
A2: =DATE(annee1,9,1) -> 46266 | B2: =WEEKDAY(A2,2) -> 2 | C2: =IF(F2,G2,IF(S2,0,IF(M2,0,_xlfn.XLOOKUP(B2,listeHebdoJours,listeHebdoRepas)))) -> 0.03125 | D2: =IF(F2,H2,IF(S2,0,IF(M2,0,_xlfn.XLOOKUP(B2,listeHebdoJours,listeHebdoDebut)))) -> 0.33333333 | E2: =IF(F2,I2,IF(S2,0,IF(M2,0,_xlfn.XLOOKUP(B2,listeHebdoJours,listeHebdoFin)))) -> 0.75 | F2: =IFERROR(IF(VLOOKUP(A2,listeJoursParticliers,1,0),TRUE(),FALSE()),FALSE()) -> FALSE | G2: =IFERROR(VLOOKUP(A2,listeJoursParticliers,2,0),"") | H2: =IFERROR(VLOOKUP(A2,listeJoursParticliers,3,0),"") | I2: =IFERROR(VLOOKUP(A2,listeJoursParticliers,4,0),"") | J2: =DATEDIF(DATE(annee1,9,1),A2,"m") -> 0 | K2: =E2-D2 -> 0.41666667 | L2: =IFERROR(AND(P2,_xlfn.XLOOKUP(A2,joursFeries,joursFeriesAvantApresDureeZero)),"") | M2: =OR(L2,A2=paques+40) -> FALSE | N2: =_xlfn.XLOOKUP(WEEKDAY(A2,2),listeHebdoJours,listeHebdoDurees)>0 -> TRUE | O2: =OR(AND(P2,L2),AND(P2,Q2)) -> FALSE | P2: =COUNTIFS(joursFeries,A2)>0 -> FALSE | Q2: =OR(WEEKDAY(A2,2)=6,WEEKDAY(A2,2)=7) -> FALSE | R2: =AND(IFERROR(VLOOKUP(A2,joursVacancesTravailles,1,0)<>"",FALSE()),S2) -> FALSE | S2: =IF(zone="A",OR(T2,U2,V2,W2,AB2),IF(zone="B",OR(T2,U2,X2,Y2,AB2),OR(T2,U2,Z2,AA2,AB2))) -> FALSE | T2: =AND(A2>debutVacToussaint,A2<finVacToussaint) -> FALSE | U2: =AND(A2>debutVacNoel,A2<finVacNoel) -> FALSE | V2: =AND(A2>debutVacHiverA,A2<finVacHiverA) -> FALSE | W2: =AND(A2>debutVacPrintempsA,A2<finVacPrintempsA) -> FALSE | X2: =AND(A2>debutVacHiverB,A2<finVacHiverB) -> FALSE | Y2: =AND(A2>debutVacPrintempsB,A2<finVacPrintempsB) -> FALSE | Z2: =AND(A2>debutVacHiverC,A2<finVacHiverC) -> FALSE | AA2: =AND(A2>debutVacPrintempsB,A2<finVacPrintempsB) -> FALSE | AB2: =AND(A2>debutVacEte,A2<finVacEte) -> FALSE
A3: =A2+1 -> 46267 | B3: =WEEKDAY(A3,2) -> 3 | C3: =IF(F3,G3,IF(S3,0,IF(M3,0,_xlfn.XLOOKUP(B3,listeHebdoJours,listeHebdoRepas)))) -> 0 | D3: =IF(F3,H3,IF(S3,0,IF(M3,0,_xlfn.XLOOKUP(B3,listeHebdoJours,listeHebdoDebut)))) -> 0.33333333 | E3: =IF(F3,I3,IF(S3,0,IF(M3,0,_xlfn.XLOOKUP(B3,listeHebdoJours,listeHebdoFin)))) -> 0.54166667 | F3: =IFERROR(IF(VLOOKUP(A3,listeJoursParticliers,1,0),TRUE(),FALSE()),FALSE()) -> FALSE | G3: =IFERROR(VLOOKUP(A3,listeJoursParticliers,2,0),"") | H3: =IFERROR(VLOOKUP(A3,listeJoursParticliers,3,0),"") | I3: =IFERROR(VLOOKUP(A3,listeJoursParticliers,4,0),"") | J3: =DATEDIF(DATE(annee1,9,1),A3,"m") -> 0 | K3: =E3-D3 -> 0.20833333 | L3: =IFERROR(AND(P3,_xlfn.XLOOKUP(A3,joursFeries,joursFeriesAvantApresDureeZero)),"") | M3: =OR(L3,A3=paques+40) -> FALSE | N3: =_xlfn.XLOOKUP(WEEKDAY(A3,2),listeHebdoJours,listeHebdoDurees)>0 -> TRUE | O3: =OR(AND(P3,L3),AND(P3,Q3)) -> FALSE | P3: =COUNTIFS(joursFeries,A3)>0 -> FALSE | Q3: =OR(WEEKDAY(A3,2)=6,WEEKDAY(A3,2)=7) -> FALSE | R3: =AND(IFERROR(VLOOKUP(A3,joursVacancesTravailles,1,0)<>"",FALSE()),S3) -> FALSE | S3: =IF(zone="A",OR(T3,U3,V3,W3,AB3),IF(zone="B",OR(T3,U3,X3,Y3,AB3),OR(T3,U3,Z3,AA3,AB3))) -> FALSE | T3: =AND(A3>debutVacToussaint,A3<finVacToussaint) -> FALSE | U3: =AND(A3>debutVacNoel,A3<finVacNoel) -> FALSE | V3: =AND(A3>debutVacHiverA,A3<finVacHiverA) -> FALSE | W3: =AND(A3>debutVacPrintempsA,A3<finVacPrintempsA) -> FALSE | X3: =AND(A3>debutVacHiverB,A3<finVacHiverB) -> FALSE | Y3: =AND(A3>debutVacPrintempsB,A3<finVacPrintempsB) -> FALSE | Z3: =AND(A3>debutVacHiverC,A3<finVacHiverC) -> FALSE | AA3: =AND(A3>debutVacPrintempsB,A3<finVacPrintempsB) -> FALSE | AB3: =AND(A3>debutVacEte,A3<finVacEte) -> FALSE
A4: =A3+1 -> 46268 | B4: =WEEKDAY(A4,2) -> 4 | C4: =IF(F4,G4,IF(S4,0,IF(M4,0,_xlfn.XLOOKUP(B4,listeHebdoJours,listeHebdoRepas)))) -> 0.03125 | D4: =IF(F4,H4,IF(S4,0,IF(M4,0,_xlfn.XLOOKUP(B4,listeHebdoJours,listeHebdoDebut)))) -> 0.33333333 | E4: =IF(F4,I4,IF(S4,0,IF(M4,0,_xlfn.XLOOKUP(B4,listeHebdoJours,listeHebdoFin)))) -> 0.70833333 | F4: =IFERROR(IF(VLOOKUP(A4,listeJoursParticliers,1,0),TRUE(),FALSE()),FALSE()) -> FALSE | G4: =IFERROR(VLOOKUP(A4,listeJoursParticliers,2,0),"") | H4: =IFERROR(VLOOKUP(A4,listeJoursParticliers,3,0),"") | I4: =IFERROR(VLOOKUP(A4,listeJoursParticliers,4,0),"") | J4: =DATEDIF(DATE(annee1,9,1),A4,"m") -> 0 | K4: =E4-D4 -> 0.375 | L4: =IFERROR(AND(P4,_xlfn.XLOOKUP(A4,joursFeries,joursFeriesAvantApresDureeZero)),"") | M4: =OR(L4,A4=paques+40) -> FALSE | N4: =_xlfn.XLOOKUP(WEEKDAY(A4,2),listeHebdoJours,listeHebdoDurees)>0 -> TRUE | O4: =OR(AND(P4,L4),AND(P4,Q4)) -> FALSE | P4: =COUNTIFS(joursFeries,A4)>0 -> FALSE | Q4: =OR(WEEKDAY(A4,2)=6,WEEKDAY(A4,2)=7) -> FALSE | R4: =AND(IFERROR(VLOOKUP(A4,joursVacancesTravailles,1,0)<>"",FALSE()),S4) -> FALSE | S4: =IF(zone="A",OR(T4,U4,V4,W4,AB4),IF(zone="B",OR(T4,U4,X4,Y4,AB4),OR(T4,U4,Z4,AA4,AB4))) -> FALSE | T4: =AND(A4>debutVacToussaint,A4<finVacToussaint) -> FALSE | U4: =AND(A4>debutVacNoel,A4<finVacNoel) -> FALSE | V4: =AND(A4>debutVacHiverA,A4<finVacHiverA) -> FALSE | W4: =AND(A4>debutVacPrintempsA,A4<finVacPrintempsA) -> FALSE | X4: =AND(A4>debutVacHiverB,A4<finVacHiverB) -> FALSE | Y4: =AND(A4>debutVacPrintempsB,A4<finVacPrintempsB) -> FALSE | Z4: =AND(A4>debutVacHiverC,A4<finVacHiverC) -> FALSE | AA4: =AND(A4>debutVacPrintempsB,A4<finVacPrintempsB) -> FALSE | AB4: =AND(A4>debutVacEte,A4<finVacEte) -> FALSE
A5: =A4+1 -> 46269 | B5: =WEEKDAY(A5,2) -> 5 | C5: =IF(F5,G5,IF(S5,0,IF(M5,0,_xlfn.XLOOKUP(B5,listeHebdoJours,listeHebdoRepas)))) -> 0 | D5: =IF(F5,H5,IF(S5,0,IF(M5,0,_xlfn.XLOOKUP(B5,listeHebdoJours,listeHebdoDebut)))) -> 0.33333333 | E5: =IF(F5,I5,IF(S5,0,IF(M5,0,_xlfn.XLOOKUP(B5,listeHebdoJours,listeHebdoFin)))) -> 0.70833333 | F5: =IFERROR(IF(VLOOKUP(A5,listeJoursParticliers,1,0),TRUE(),FALSE()),FALSE()) -> FALSE | G5: =IFERROR(VLOOKUP(A5,listeJoursParticliers,2,0),"") | H5: =IFERROR(VLOOKUP(A5,listeJoursParticliers,3,0),"") | I5: =IFERROR(VLOOKUP(A5,listeJoursParticliers,4,0),"") | J5: =DATEDIF(DATE(annee1,9,1),A5,"m") -> 0 | K5: =OFFSET(Calendrier!$B$6,DAY(A5)-1,Paramétrage!J5*6+4) -> 0.38888889 | L5: =IFERROR(AND(P5,_xlfn.XLOOKUP(A5,joursFeries,joursFeriesAvantApresDureeZero)),"") | M5: =OR(L5,A5=paques+40) -> FALSE | N5: =_xlfn.XLOOKUP(WEEKDAY(A5,2),listeHebdoJours,listeHebdoDurees)>0 -> TRUE | O5: =OR(AND(P5,L5),AND(P5,Q5)) -> FALSE | P5: =COUNTIFS(joursFeries,A5)>0 -> FALSE | Q5: =OR(WEEKDAY(A5,2)=6,WEEKDAY(A5,2)=7) -> FALSE | R5: =AND(IFERROR(VLOOKUP(A5,joursVacancesTravailles,1,0)<>"",FALSE()),S5) -> FALSE | S5: =IF(zone="A",OR(T5,U5,V5,W5,AB5),IF(zone="B",OR(T5,U5,X5,Y5,AB5),OR(T5,U5,Z5,AA5,AB5))) -> FALSE | T5: =AND(A5>debutVacToussaint,A5<finVacToussaint) -> FALSE | U5: =AND(A5>debutVacNoel,A5<finVacNoel) -> FALSE | V5: =AND(A5>debutVacHiverA,A5<finVacHiverA) -> FALSE | W5: =AND(A5>debutVacPrintempsA,A5<finVacPrintempsA) -> FALSE | X5: =AND(A5>debutVacHiverB,A5<finVacHiverB) -> FALSE | Y5: =AND(A5>debutVacPrintempsB,A5<finVacPrintempsB) -> FALSE | Z5: =AND(A5>debutVacHiverC,A5<finVacHiverC) -> FALSE | AA5: =AND(A5>debutVacPrintempsB,A5<finVacPrintempsB) -> FALSE | AB5: =AND(A5>debutVacEte,A5<finVacEte) -> FALSE
A6: =A5+1 -> 46270 | B6: =WEEKDAY(A6,2) -> 6 | C6: =IF(F6,G6,IF(S6,0,IF(M6,0,_xlfn.XLOOKUP(B6,listeHebdoJours,listeHebdoRepas)))) -> 0 | D6: =IF(F6,H6,IF(S6,0,IF(M6,0,_xlfn.XLOOKUP(B6,listeHebdoJours,listeHebdoDebut)))) -> 0 | E6: =IF(F6,I6,IF(S6,0,IF(M6,0,_xlfn.XLOOKUP(B6,listeHebdoJours,listeHebdoFin)))) -> 0 | F6: =IFERROR(IF(VLOOKUP(A6,listeJoursParticliers,1,0),TRUE(),FALSE()),FALSE()) -> FALSE | G6: =IFERROR(VLOOKUP(A6,listeJoursParticliers,2,0),"") | H6: =IFERROR(VLOOKUP(A6,listeJoursParticliers,3,0),"") | I6: =IFERROR(VLOOKUP(A6,listeJoursParticliers,4,0),"") | J6: =DATEDIF(DATE(annee1,9,1),A6,"m") -> 0 | K6: =OFFSET(Calendrier!$B$6,DAY(A6)-1,Paramétrage!J6*6+4) -> 0 | L6: =IFERROR(AND(P6,_xlfn.XLOOKUP(A6,joursFeries,joursFeriesAvantApresDureeZero)),"") | M6: =OR(L6,A6=paques+40) -> FALSE | N6: =_xlfn.XLOOKUP(WEEKDAY(A6,2),listeHebdoJours,listeHebdoDurees)>0 -> FALSE | O6: =OR(AND(P6,L6),AND(P6,Q6)) -> FALSE | P6: =COUNTIFS(joursFeries,A6)>0 -> FALSE | Q6: =OR(WEEKDAY(A6,2)=6,WEEKDAY(A6,2)=7) -> TRUE | R6: =AND(IFERROR(VLOOKUP(A6,joursVacancesTravailles,1,0)<>"",FALSE()),S6) -> FALSE | S6: =IF(zone="A",OR(T6,U6,V6,W6,AB6),IF(zone="B",OR(T6,U6,X6,Y6,AB6),OR(T6,U6,Z6,AA6,AB6))) -> FALSE | T6: =AND(A6>debutVacToussaint,A6<finVacToussaint) -> FALSE | U6: =AND(A6>debutVacNoel,A6<finVacNoel) -> FALSE | V6: =AND(A6>debutVacHiverA,A6<finVacHiverA) -> FALSE | W6: =AND(A6>debutVacPrintempsA,A6<finVacPrintempsA) -> FALSE | X6: =AND(A6>debutVacHiverB,A6<finVacHiverB) -> FALSE | Y6: =AND(A6>debutVacPrintempsB,A6<finVacPrintempsB) -> FALSE | Z6: =AND(A6>debutVacHiverC,A6<finVacHiverC) -> FALSE | AA6: =AND(A6>debutVacPrintempsB,A6<finVacPrintempsB) -> FALSE | AB6: =AND(A6>debutVacEte,A6<finVacEte) -> FALSE
A7: =A6+1 -> 46271 | B7: =WEEKDAY(A7,2) -> 7 | C7: =IF(F7,G7,IF(S7,0,IF(M7,0,_xlfn.XLOOKUP(B7,listeHebdoJours,listeHebdoRepas)))) -> 0 | D7: =IF(F7,H7,IF(S7,0,IF(M7,0,_xlfn.XLOOKUP(B7,listeHebdoJours,listeHebdoDebut)))) -> 0 | E7: =IF(F7,I7,IF(S7,0,IF(M7,0,_xlfn.XLOOKUP(B7,listeHebdoJours,listeHebdoFin)))) -> 0 | F7: =IFERROR(IF(VLOOKUP(A7,listeJoursParticliers,1,0),TRUE(),FALSE()),FALSE()) -> FALSE | G7: =IFERROR(VLOOKUP(A7,listeJoursParticliers,2,0),"") | H7: =IFERROR(VLOOKUP(A7,listeJoursParticliers,3,0),"") | I7: =IFERROR(VLOOKUP(A7,listeJoursParticliers,4,0),"") | J7: =DATEDIF(DATE(annee1,9,1),A7,"m") -> 0 | K7: =OFFSET(Calendrier!$B$6,DAY(A7)-1,Paramétrage!J7*6+4) -> 0 | L7: =IFERROR(AND(P7,_xlfn.XLOOKUP(A7,joursFeries,joursFeriesAvantApresDureeZero)),"") | M7: =OR(L7,A7=paques+40) -> FALSE | N7: =_xlfn.XLOOKUP(WEEKDAY(A7,2),listeHebdoJours,listeHebdoDurees)>0 -> FALSE | O7: =OR(AND(P7,L7),AND(P7,Q7)) -> FALSE | P7: =COUNTIFS(joursFeries,A7)>0 -> FALSE | Q7: =OR(WEEKDAY(A7,2)=6,WEEKDAY(A7,2)=7) -> TRUE | R7: =AND(IFERROR(VLOOKUP(A7,joursVacancesTravailles,1,0)<>"",FALSE()),S7) -> FALSE | S7: =IF(zone="A",OR(T7,U7,V7,W7,AB7),IF(zone="B",OR(T7,U7,X7,Y7,AB7),OR(T7,U7,Z7,AA7,AB7))) -> FALSE | T7: =AND(A7>debutVacToussaint,A7<finVacToussaint) -> FALSE | U7: =AND(A7>debutVacNoel,A7<finVacNoel) -> FALSE | V7: =AND(A7>debutVacHiverA,A7<finVacHiverA) -> FALSE | W7: =AND(A7>debutVacPrintempsA,A7<finVacPrintempsA) -> FALSE | X7: =AND(A7>debutVacHiverB,A7<finVacHiverB) -> FALSE | Y7: =AND(A7>debutVacPrintempsB,A7<finVacPrintempsB) -> FALSE | Z7: =AND(A7>debutVacHiverC,A7<finVacHiverC) -> FALSE | AA7: =AND(A7>debutVacPrintempsB,A7<finVacPrintempsB) -> FALSE | AB7: =AND(A7>debutVacEte,A7<finVacEte) -> FALSE
A8: =A7+1 -> 46272 | B8: =WEEKDAY(A8,2) -> 1 | C8: =IF(F8,G8,IF(S8,0,IF(M8,0,_xlfn.XLOOKUP(B8,listeHebdoJours,listeHebdoRepas)))) -> 0.03125 | D8: =IF(F8,H8,IF(S8,0,IF(M8,0,_xlfn.XLOOKUP(B8,listeHebdoJours,listeHebdoDebut)))) -> 0.33333333 | E8: =IF(F8,I8,IF(S8,0,IF(M8,0,_xlfn.XLOOKUP(B8,listeHebdoJours,listeHebdoFin)))) -> 0.70833333 | F8: =IFERROR(IF(VLOOKUP(A8,listeJoursParticliers,1,0),TRUE(),FALSE()),FALSE()) -> FALSE | G8: =IFERROR(VLOOKUP(A8,listeJoursParticliers,2,0),"") | H8: =IFERROR(VLOOKUP(A8,listeJoursParticliers,3,0),"") | I8: =IFERROR(VLOOKUP(A8,listeJoursParticliers,4,0),"") | J8: =DATEDIF(DATE(annee1,9,1),A8,"m") -> 0 | K8: =OFFSET(Calendrier!$B$6,DAY(A8)-1,Paramétrage!J8*6+4) -> 0.35763889 | L8: =IFERROR(AND(P8,_xlfn.XLOOKUP(A8,joursFeries,joursFeriesAvantApresDureeZero)),"") | M8: =OR(L8,A8=paques+40) -> FALSE | N8: =_xlfn.XLOOKUP(WEEKDAY(A8,2),listeHebdoJours,listeHebdoDurees)>0 -> TRUE | O8: =OR(AND(P8,L8),AND(P8,Q8)) -> FALSE | P8: =COUNTIFS(joursFeries,A8)>0 -> FALSE | Q8: =OR(WEEKDAY(A8,2)=6,WEEKDAY(A8,2)=7) -> FALSE | R8: =AND(IFERROR(VLOOKUP(A8,joursVacancesTravailles,1,0)<>"",FALSE()),S8) -> FALSE | S8: =IF(zone="A",OR(T8,U8,V8,W8,AB8),IF(zone="B",OR(T8,U8,X8,Y8,AB8),OR(T8,U8,Z8,AA8,AB8))) -> FALSE | T8: =AND(A8>debutVacToussaint,A8<finVacToussaint) -> FALSE | U8: =AND(A8>debutVacNoel,A8<finVacNoel) -> FALSE | V8: =AND(A8>debutVacHiverA,A8<finVacHiverA) -> FALSE | W8: =AND(A8>debutVacPrintempsA,A8<finVacPrintempsA) -> FALSE | X8: =AND(A8>debutVacHiverB,A8<finVacHiverB) -> FALSE | Y8: =AND(A8>debutVacPrintempsB,A8<finVacPrintempsB) -> FALSE | Z8: =AND(A8>debutVacHiverC,A8<finVacHiverC) -> FALSE | AA8: =AND(A8>debutVacPrintempsB,A8<finVacPrintempsB) -> FALSE | AB8: =AND(A8>debutVacEte,A8<finVacEte) -> FALSE
A9: =A8+1 -> 46273 | B9: =WEEKDAY(A9,2) -> 2 | C9: =IF(F9,G9,IF(S9,0,IF(M9,0,_xlfn.XLOOKUP(B9,listeHebdoJours,listeHebdoRepas)))) -> 0.03125 | D9: =IF(F9,H9,IF(S9,0,IF(M9,0,_xlfn.XLOOKUP(B9,listeHebdoJours,listeHebdoDebut)))) -> 0.33333333 | E9: =IF(F9,I9,IF(S9,0,IF(M9,0,_xlfn.XLOOKUP(B9,listeHebdoJours,listeHebdoFin)))) -> 0.75 | F9: =IFERROR(IF(VLOOKUP(A9,listeJoursParticliers,1,0),TRUE(),FALSE()),FALSE()) -> FALSE | G9: =IFERROR(VLOOKUP(A9,listeJoursParticliers,2,0),"") | H9: =IFERROR(VLOOKUP(A9,listeJoursParticliers,3,0),"") | I9: =IFERROR(VLOOKUP(A9,listeJoursParticliers,4,0),"") | J9: =DATEDIF(DATE(annee1,9,1),A9,"m") -> 0 | K9: =OFFSET(Calendrier!$B$6,DAY(A9)-1,Paramétrage!J9*6+4) -> 0.39930556 | L9: =IFERROR(AND(P9,_xlfn.XLOOKUP(A9,joursFeries,joursFeriesAvantApresDureeZero)),"") | M9: =OR(L9,A9=paques+40) -> FALSE | N9: =_xlfn.XLOOKUP(WEEKDAY(A9,2),listeHebdoJours,listeHebdoDurees)>0 -> TRUE | O9: =OR(AND(P9,L9),AND(P9,Q9)) -> FALSE | P9: =COUNTIFS(joursFeries,A9)>0 -> FALSE | Q9: =OR(WEEKDAY(A9,2)=6,WEEKDAY(A9,2)=7) -> FALSE | R9: =AND(IFERROR(VLOOKUP(A9,joursVacancesTravailles,1,0)<>"",FALSE()),S9) -> FALSE | S9: =IF(zone="A",OR(T9,U9,V9,W9,AB9),IF(zone="B",OR(T9,U9,X9,Y9,AB9),OR(T9,U9,Z9,AA9,AB9))) -> FALSE | T9: =AND(A9>debutVacToussaint,A9<finVacToussaint) -> FALSE | U9: =AND(A9>debutVacNoel,A9<finVacNoel) -> FALSE | V9: =AND(A9>debutVacHiverA,A9<finVacHiverA) -> FALSE | W9: =AND(A9>debutVacPrintempsA,A9<finVacPrintempsA) -> FALSE | X9: =AND(A9>debutVacHiverB,A9<finVacHiverB) -> FALSE | Y9: =AND(A9>debutVacPrintempsB,A9<finVacPrintempsB) -> FALSE | Z9: =AND(A9>debutVacHiverC,A9<finVacHiverC) -> FALSE | AA9: =AND(A9>debutVacPrintempsB,A9<finVacPrintempsB) -> FALSE | AB9: =AND(A9>debutVacEte,A9<finVacEte) -> FALSE
A10: =A9+1 -> 46274 | B10: =WEEKDAY(A10,2) -> 3 | C10: =IF(F10,G10,IF(S10,0,IF(M10,0,_xlfn.XLOOKUP(B10,listeHebdoJours,listeHebdoRepas)))) -> 0 | D10: =IF(F10,H10,IF(S10,0,IF(M10,0,_xlfn.XLOOKUP(B10,listeHebdoJours,listeHebdoDebut)))) -> 0.33333333 | E10: =IF(F10,I10,IF(S10,0,IF(M10,0,_xlfn.XLOOKUP(B10,listeHebdoJours,listeHebdoFin)))) -> 0.54166667 | F10: =IFERROR(IF(VLOOKUP(A10,listeJoursParticliers,1,0),TRUE(),FALSE()),FALSE()) -> FALSE | G10: =IFERROR(VLOOKUP(A10,listeJoursParticliers,2,0),"") | H10: =IFERROR(VLOOKUP(A10,listeJoursParticliers,3,0),"") | I10: =IFERROR(VLOOKUP(A10,listeJoursParticliers,4,0),"") | J10: =DATEDIF(DATE(annee1,9,1),A10,"m") -> 0 | K10: =OFFSET(Calendrier!$B$6,DAY(A10)-1,Paramétrage!J10*6+4) -> 0.20833333 | L10: =IFERROR(AND(P10,_xlfn.XLOOKUP(A10,joursFeries,joursFeriesAvantApresDureeZero)),"") | M10: =OR(L10,A10=paques+40) -> FALSE | N10: =_xlfn.XLOOKUP(WEEKDAY(A10,2),listeHebdoJours,listeHebdoDurees)>0 -> TRUE | O10: =OR(AND(P10,L10),AND(P10,Q10)) -> FALSE | P10: =COUNTIFS(joursFeries,A10)>0 -> FALSE | Q10: =OR(WEEKDAY(A10,2)=6,WEEKDAY(A10,2)=7) -> FALSE | R10: =AND(IFERROR(VLOOKUP(A10,joursVacancesTravailles,1,0)<>"",FALSE()),S10) -> FALSE | S10: =IF(zone="A",OR(T10,U10,V10,W10,AB10),IF(zone="B",OR(T10,U10,X10,Y10,AB10),OR(T10,U10,Z10,AA10,AB10))) -> FALSE | T10: =AND(A10>debutVacToussaint,A10<finVacToussaint) -> FALSE | U10: =AND(A10>debutVacNoel,A10<finVacNoel) -> FALSE | V10: =AND(A10>debutVacHiverA,A10<finVacHiverA) -> FALSE | W10: =AND(A10>debutVacPrintempsA,A10<finVacPrintempsA) -> FALSE | X10: =AND(A10>debutVacHiverB,A10<finVacHiverB) -> FALSE | Y10: =AND(A10>debutVacPrintempsB,A10<finVacPrintempsB) -> FALSE | Z10: =AND(A10>debutVacHiverC,A10<finVacHiverC) -> FALSE | AA10: =AND(A10>debutVacPrintempsB,A10<finVacPrintempsB) -> FALSE | AB10: =AND(A10>debutVacEte,A10<finVacEte) -> FALSE
A11: =A10+1 -> 46275 | B11: =WEEKDAY(A11,2) -> 4 | C11: =IF(F11,G11,IF(S11,0,IF(M11,0,_xlfn.XLOOKUP(B11,listeHebdoJours,listeHebdoRepas)))) -> 0.03125 | D11: =IF(F11,H11,IF(S11,0,IF(M11,0,_xlfn.XLOOKUP(B11,listeHebdoJours,listeHebdoDebut)))) -> 0.33333333 | E11: =IF(F11,I11,IF(S11,0,IF(M11,0,_xlfn.XLOOKUP(B11,listeHebdoJours,listeHebdoFin)))) -> 0.70833333 | F11: =IFERROR(IF(VLOOKUP(A11,listeJoursParticliers,1,0),TRUE(),FALSE()),FALSE()) -> FALSE | G11: =IFERROR(VLOOKUP(A11,listeJoursParticliers,2,0),"") | H11: =IFERROR(VLOOKUP(A11,listeJoursParticliers,3,0),"") | I11: =IFERROR(VLOOKUP(A11,listeJoursParticliers,4,0),"") | J11: =DATEDIF(DATE(annee1,9,1),A11,"m") -> 0 | K11: =OFFSET(Calendrier!$B$6,DAY(A11)-1,Paramétrage!J11*6+4) -> 0.35763889 | L11: =IFERROR(AND(P11,_xlfn.XLOOKUP(A11,joursFeries,joursFeriesAvantApresDureeZero)),"") | M11: =OR(L11,A11=paques+40) -> FALSE | N11: =_xlfn.XLOOKUP(WEEKDAY(A11,2),listeHebdoJours,listeHebdoDurees)>0 -> TRUE | O11: =OR(AND(P11,L11),AND(P11,Q11)) -> FALSE | P11: =COUNTIFS(joursFeries,A11)>0 -> FALSE | Q11: =OR(WEEKDAY(A11,2)=6,WEEKDAY(A11,2)=7) -> FALSE | R11: =AND(IFERROR(VLOOKUP(A11,joursVacancesTravailles,1,0)<>"",FALSE()),S11) -> FALSE | S11: =IF(zone="A",OR(T11,U11,V11,W11,AB11),IF(zone="B",OR(T11,U11,X11,Y11,AB11),OR(T11,U11,Z11,AA11,AB11))) -> FALSE | T11: =AND(A11>debutVacToussaint,A11<finVacToussaint) -> FALSE | U11: =AND(A11>debutVacNoel,A11<finVacNoel) -> FALSE | V11: =AND(A11>debutVacHiverA,A11<finVacHiverA) -> FALSE | W11: =AND(A11>debutVacPrintempsA,A11<finVacPrintempsA) -> FALSE | X11: =AND(A11>debutVacHiverB,A11<finVacHiverB) -> FALSE | Y11: =AND(A11>debutVacPrintempsB,A11<finVacPrintempsB) -> FALSE | Z11: =AND(A11>debutVacHiverC,A11<finVacHiverC) -> FALSE | AA11: =AND(A11>debutVacPrintempsB,A11<finVacPrintempsB) -> FALSE | AB11: =AND(A11>debutVacEte,A11<finVacEte) -> FALSE
A12: =A11+1 -> 46276 | B12: =WEEKDAY(A12,2) -> 5 | C12: =IF(F12,G12,IF(S12,0,IF(M12,0,_xlfn.XLOOKUP(B12,listeHebdoJours,listeHebdoRepas)))) -> 0 | D12: =IF(F12,H12,IF(S12,0,IF(M12,0,_xlfn.XLOOKUP(B12,listeHebdoJours,listeHebdoDebut)))) -> 0.33333333 | E12: =IF(F12,I12,IF(S12,0,IF(M12,0,_xlfn.XLOOKUP(B12,listeHebdoJours,listeHebdoFin)))) -> 0.70833333 | F12: =IFERROR(IF(VLOOKUP(A12,listeJoursParticliers,1,0),TRUE(),FALSE()),FALSE()) -> FALSE | G12: =IFERROR(VLOOKUP(A12,listeJoursParticliers,2,0),"") | H12: =IFERROR(VLOOKUP(A12,listeJoursParticliers,3,0),"") | I12: =IFERROR(VLOOKUP(A12,listeJoursParticliers,4,0),"") | J12: =DATEDIF(DATE(annee1,9,1),A12,"m") -> 0 | K12: =OFFSET(Calendrier!$B$6,DAY(A12)-1,Paramétrage!J12*6+4) -> 0.38888889 | L12: =IFERROR(AND(P12,_xlfn.XLOOKUP(A12,joursFeries,joursFeriesAvantApresDureeZero)),"") | M12: =OR(L12,A12=paques+40) -> FALSE | N12: =_xlfn.XLOOKUP(WEEKDAY(A12,2),listeHebdoJours,listeHebdoDurees)>0 -> TRUE | O12: =OR(AND(P12,L12),AND(P12,Q12)) -> FALSE | P12: =COUNTIFS(joursFeries,A12)>0 -> FALSE | Q12: =OR(WEEKDAY(A12,2)=6,WEEKDAY(A12,2)=7) -> FALSE | R12: =AND(IFERROR(VLOOKUP(A12,joursVacancesTravailles,1,0)<>"",FALSE()),S12) -> FALSE | S12: =IF(zone="A",OR(T12,U12,V12,W12,AB12),IF(zone="B",OR(T12,U12,X12,Y12,AB12),OR(T12,U12,Z12,AA12,AB12))) -> FALSE | T12: =AND(A12>debutVacToussaint,A12<finVacToussaint) -> FALSE | U12: =AND(A12>debutVacNoel,A12<finVacNoel) -> FALSE | V12: =AND(A12>debutVacHiverA,A12<finVacHiverA) -> FALSE | W12: =AND(A12>debutVacPrintempsA,A12<finVacPrintempsA) -> FALSE | X12: =AND(A12>debutVacHiverB,A12<finVacHiverB) -> FALSE | Y12: =AND(A12>debutVacPrintempsB,A12<finVacPrintempsB) -> FALSE | Z12: =AND(A12>debutVacHiverC,A12<finVacHiverC) -> FALSE | AA12: =AND(A12>debutVacPrintempsB,A12<finVacPrintempsB) -> FALSE | AB12: =AND(A12>debutVacEte,A12<finVacEte) -> FALSE
A13: =A12+1 -> 46277 | B13: =WEEKDAY(A13,2) -> 6 | C13: =IF(F13,G13,IF(S13,0,IF(M13,0,_xlfn.XLOOKUP(B13,listeHebdoJours,listeHebdoRepas)))) -> 0 | D13: =IF(F13,H13,IF(S13,0,IF(M13,0,_xlfn.XLOOKUP(B13,listeHebdoJours,listeHebdoDebut)))) -> 0 | E13: =IF(F13,I13,IF(S13,0,IF(M13,0,_xlfn.XLOOKUP(B13,listeHebdoJours,listeHebdoFin)))) -> 0 | F13: =IFERROR(IF(VLOOKUP(A13,listeJoursParticliers,1,0),TRUE(),FALSE()),FALSE()) -> FALSE | G13: =IFERROR(VLOOKUP(A13,listeJoursParticliers,2,0),"") | H13: =IFERROR(VLOOKUP(A13,listeJoursParticliers,3,0),"") | I13: =IFERROR(VLOOKUP(A13,listeJoursParticliers,4,0),"") | J13: =DATEDIF(DATE(annee1,9,1),A13,"m") -> 0 | K13: =OFFSET(Calendrier!$B$6,DAY(A13)-1,Paramétrage!J13*6+4) -> 0 | L13: =IFERROR(AND(P13,_xlfn.XLOOKUP(A13,joursFeries,joursFeriesAvantApresDureeZero)),"") | M13: =OR(L13,A13=paques+40) -> FALSE | N13: =_xlfn.XLOOKUP(WEEKDAY(A13,2),listeHebdoJours,listeHebdoDurees)>0 -> FALSE | O13: =OR(AND(P13,L13),AND(P13,Q13)) -> FALSE | P13: =COUNTIFS(joursFeries,A13)>0 -> FALSE | Q13: =OR(WEEKDAY(A13,2)=6,WEEKDAY(A13,2)=7) -> TRUE | R13: =AND(IFERROR(VLOOKUP(A13,joursVacancesTravailles,1,0)<>"",FALSE()),S13) -> FALSE | S13: =IF(zone="A",OR(T13,U13,V13,W13,AB13),IF(zone="B",OR(T13,U13,X13,Y13,AB13),OR(T13,U13,Z13,AA13,AB13))) -> FALSE | T13: =AND(A13>debutVacToussaint,A13<finVacToussaint) -> FALSE | U13: =AND(A13>debutVacNoel,A13<finVacNoel) -> FALSE | V13: =AND(A13>debutVacHiverA,A13<finVacHiverA) -> FALSE | W13: =AND(A13>debutVacPrintempsA,A13<finVacPrintempsA) -> FALSE | X13: =AND(A13>debutVacHiverB,A13<finVacHiverB) -> FALSE | Y13: =AND(A13>debutVacPrintempsB,A13<finVacPrintempsB) -> FALSE | Z13: =AND(A13>debutVacHiverC,A13<finVacHiverC) -> FALSE | AA13: =AND(A13>debutVacPrintempsB,A13<finVacPrintempsB) -> FALSE | AB13: =AND(A13>debutVacEte,A13<finVacEte) -> FALSE
A14: =A13+1 -> 46278 | B14: =WEEKDAY(A14,2) -> 7 | C14: =IF(F14,G14,IF(S14,0,IF(M14,0,_xlfn.XLOOKUP(B14,listeHebdoJours,listeHebdoRepas)))) -> 0 | D14: =IF(F14,H14,IF(S14,0,IF(M14,0,_xlfn.XLOOKUP(B14,listeHebdoJours,listeHebdoDebut)))) -> 0 | E14: =IF(F14,I14,IF(S14,0,IF(M14,0,_xlfn.XLOOKUP(B14,listeHebdoJours,listeHebdoFin)))) -> 0 | F14: =IFERROR(IF(VLOOKUP(A14,listeJoursParticliers,1,0),TRUE(),FALSE()),FALSE()) -> FALSE | G14: =IFERROR(VLOOKUP(A14,listeJoursParticliers,2,0),"") | H14: =IFERROR(VLOOKUP(A14,listeJoursParticliers,3,0),"") | I14: =IFERROR(VLOOKUP(A14,listeJoursParticliers,4,0),"") | J14: =DATEDIF(DATE(annee1,9,1),A14,"m") -> 0 | K14: =OFFSET(Calendrier!$B$6,DAY(A14)-1,Paramétrage!J14*6+4) -> 0 | L14: =IFERROR(AND(P14,_xlfn.XLOOKUP(A14,joursFeries,joursFeriesAvantApresDureeZero)),"") | M14: =OR(L14,A14=paques+40) -> FALSE | N14: =_xlfn.XLOOKUP(WEEKDAY(A14,2),listeHebdoJours,listeHebdoDurees)>0 -> FALSE | O14: =OR(AND(P14,L14),AND(P14,Q14)) -> FALSE | P14: =COUNTIFS(joursFeries,A14)>0 -> FALSE | Q14: =OR(WEEKDAY(A14,2)=6,WEEKDAY(A14,2)=7) -> TRUE | R14: =AND(IFERROR(VLOOKUP(A14,joursVacancesTravailles,1,0)<>"",FALSE()),S14) -> FALSE | S14: =IF(zone="A",OR(T14,U14,V14,W14,AB14),IF(zone="B",OR(T14,U14,X14,Y14,AB14),OR(T14,U14,Z14,AA14,AB14))) -> FALSE | T14: =AND(A14>debutVacToussaint,A14<finVacToussaint) -> FALSE | U14: =AND(A14>debutVacNoel,A14<finVacNoel) -> FALSE | V14: =AND(A14>debutVacHiverA,A14<finVacHiverA) -> FALSE | W14: =AND(A14>debutVacPrintempsA,A14<finVacPrintempsA) -> FALSE | X14: =AND(A14>debutVacHiverB,A14<finVacHiverB) -> FALSE | Y14: =AND(A14>debutVacPrintempsB,A14<finVacPrintempsB) -> FALSE | Z14: =AND(A14>debutVacHiverC,A14<finVacHiverC) -> FALSE | AA14: =AND(A14>debutVacPrintempsB,A14<finVacPrintempsB) -> FALSE | AB14: =AND(A14>debutVacEte,A14<finVacEte) -> FALSE
A15: =A14+1 -> 46279 | B15: =WEEKDAY(A15,2) -> 1 | C15: =IF(F15,G15,IF(S15,0,IF(M15,0,_xlfn.XLOOKUP(B15,listeHebdoJours,listeHebdoRepas)))) -> 0.03125 | D15: =IF(F15,H15,IF(S15,0,IF(M15,0,_xlfn.XLOOKUP(B15,listeHebdoJours,listeHebdoDebut)))) -> 0.33333333 | E15: =IF(F15,I15,IF(S15,0,IF(M15,0,_xlfn.XLOOKUP(B15,listeHebdoJours,listeHebdoFin)))) -> 0.70833333 | F15: =IFERROR(IF(VLOOKUP(A15,listeJoursParticliers,1,0),TRUE(),FALSE()),FALSE()) -> FALSE | G15: =IFERROR(VLOOKUP(A15,listeJoursParticliers,2,0),"") | H15: =IFERROR(VLOOKUP(A15,listeJoursParticliers,3,0),"") | I15: =IFERROR(VLOOKUP(A15,listeJoursParticliers,4,0),"") | J15: =DATEDIF(DATE(annee1,9,1),A15,"m") -> 0 | K15: =OFFSET(Calendrier!$B$6,DAY(A15)-1,Paramétrage!J15*6+4) -> 0.35763889 | L15: =IFERROR(AND(P15,_xlfn.XLOOKUP(A15,joursFeries,joursFeriesAvantApresDureeZero)),"") | M15: =OR(L15,A15=paques+40) -> FALSE | N15: =_xlfn.XLOOKUP(WEEKDAY(A15,2),listeHebdoJours,listeHebdoDurees)>0 -> TRUE | O15: =OR(AND(P15,L15),AND(P15,Q15)) -> FALSE | P15: =COUNTIFS(joursFeries,A15)>0 -> FALSE | Q15: =OR(WEEKDAY(A15,2)=6,WEEKDAY(A15,2)=7) -> FALSE | R15: =AND(IFERROR(VLOOKUP(A15,joursVacancesTravailles,1,0)<>"",FALSE()),S15) -> FALSE | S15: =IF(zone="A",OR(T15,U15,V15,W15,AB15),IF(zone="B",OR(T15,U15,X15,Y15,AB15),OR(T15,U15,Z15,AA15,AB15))) -> FALSE | T15: =AND(A15>debutVacToussaint,A15<finVacToussaint) -> FALSE | U15: =AND(A15>debutVacNoel,A15<finVacNoel) -> FALSE | V15: =AND(A15>debutVacHiverA,A15<finVacHiverA) -> FALSE | W15: =AND(A15>debutVacPrintempsA,A15<finVacPrintempsA) -> FALSE | X15: =AND(A15>debutVacHiverB,A15<finVacHiverB) -> FALSE | Y15: =AND(A15>debutVacPrintempsB,A15<finVacPrintempsB) -> FALSE | Z15: =AND(A15>debutVacHiverC,A15<finVacHiverC) -> FALSE | AA15: =AND(A15>debutVacPrintempsB,A15<finVacPrintempsB) -> FALSE | AB15: =AND(A15>debutVacEte,A15<finVacEte) -> FALSE
A16: =A15+1 -> 46280 | B16: =WEEKDAY(A16,2) -> 2 | C16: =IF(F16,G16,IF(S16,0,IF(M16,0,_xlfn.XLOOKUP(B16,listeHebdoJours,listeHebdoRepas)))) -> 0.03125 | D16: =IF(F16,H16,IF(S16,0,IF(M16,0,_xlfn.XLOOKUP(B16,listeHebdoJours,listeHebdoDebut)))) -> 0.33333333 | E16: =IF(F16,I16,IF(S16,0,IF(M16,0,_xlfn.XLOOKUP(B16,listeHebdoJours,listeHebdoFin)))) -> 0.75 | F16: =IFERROR(IF(VLOOKUP(A16,listeJoursParticliers,1,0),TRUE(),FALSE()),FALSE()) -> FALSE | G16: =IFERROR(VLOOKUP(A16,listeJoursParticliers,2,0),"") | H16: =IFERROR(VLOOKUP(A16,listeJoursParticliers,3,0),"") | I16: =IFERROR(VLOOKUP(A16,listeJoursParticliers,4,0),"") | J16: =DATEDIF(DATE(annee1,9,1),A16,"m") -> 0 | K16: =OFFSET(Calendrier!$B$6,DAY(A16)-1,Paramétrage!J16*6+4) -> 0.39930556 | L16: =IFERROR(AND(P16,_xlfn.XLOOKUP(A16,joursFeries,joursFeriesAvantApresDureeZero)),"") | M16: =OR(L16,A16=paques+40) -> FALSE | N16: =_xlfn.XLOOKUP(WEEKDAY(A16,2),listeHebdoJours,listeHebdoDurees)>0 -> TRUE | O16: =OR(AND(P16,L16),AND(P16,Q16)) -> FALSE | P16: =COUNTIFS(joursFeries,A16)>0 -> FALSE | Q16: =OR(WEEKDAY(A16,2)=6,WEEKDAY(A16,2)=7) -> FALSE | R16: =AND(IFERROR(VLOOKUP(A16,joursVacancesTravailles,1,0)<>"",FALSE()),S16) -> FALSE | S16: =IF(zone="A",OR(T16,U16,V16,W16,AB16),IF(zone="B",OR(T16,U16,X16,Y16,AB16),OR(T16,U16,Z16,AA16,AB16))) -> FALSE | T16: =AND(A16>debutVacToussaint,A16<finVacToussaint) -> FALSE | U16: =AND(A16>debutVacNoel,A16<finVacNoel) -> FALSE | V16: =AND(A16>debutVacHiverA,A16<finVacHiverA) -> FALSE | W16: =AND(A16>debutVacPrintempsA,A16<finVacPrintempsA) -> FALSE | X16: =AND(A16>debutVacHiverB,A16<finVacHiverB) -> FALSE | Y16: =AND(A16>debutVacPrintempsB,A16<finVacPrintempsB) -> FALSE | Z16: =AND(A16>debutVacHiverC,A16<finVacHiverC) -> FALSE | AA16: =AND(A16>debutVacPrintempsB,A16<finVacPrintempsB) -> FALSE | AB16: =AND(A16>debutVacEte,A16<finVacEte) -> FALSE
... A367: =A366+1 -> 46631 | B367: =WEEKDAY(A367,2) -> 3 | C367: =IF(F367,G367,IF(S367,0,IF(M367,0,_xlfn.XLOOKUP(B367,listeHebdoJours,listeHebdoRepas)))) -> 0 | D367: =IF(F367,H367,IF(S367,0,IF(M367,0,_xlfn.XLOOKUP(B367,listeHebdoJours,listeHebdoDebut)))) -> 0.33333333 | E367: =IF(F367,I367,IF(S367,0,IF(M367,0,_xlfn.XLOOKUP(B367,listeHebdoJours,listeHebdoFin)))) -> 0.54166667 | F367: =IFERROR(IF(VLOOKUP(A367,listeJoursParticliers,1,0),TRUE(),FALSE()),FALSE()) -> FALSE | G367: =IFERROR(VLOOKUP(A367,listeJoursParticliers,2,0),"") | H367: =IFERROR(VLOOKUP(A367,listeJoursParticliers,3,0),"") | I367: =IFERROR(VLOOKUP(A367,listeJoursParticliers,4,0),"") | J367: =DATEDIF(DATE(annee1,9,1),A367,"m") -> 12 | K367: =OFFSET(Calendrier!$B$6,DAY(A367)-1,Paramétrage!J367*6+4) -> 0 | L367: =IFERROR(AND(P367,_xlfn.XLOOKUP(A367,joursFeries,joursFeriesAvantApresDureeZero)),"") | M367: =OR(L367,A367=paques+40) -> FALSE | N367: =_xlfn.XLOOKUP(WEEKDAY(A367,2),listeHebdoJours,listeHebdoDurees)>0 -> TRUE | O367: =OR(AND(P367,L367),AND(P367,Q367)) -> FALSE | P367: =COUNTIFS(joursFeries,A367)>0 -> FALSE | Q367: =OR(WEEKDAY(A367,2)=6,WEEKDAY(A367,2)=7) -> FALSE | R367: =AND(IFERROR(VLOOKUP(A367,joursVacancesTravailles,1,0)<>"",FALSE()),S367) -> FALSE | S367: =IF(zone="A",OR(T367,U367,V367,W367,AB367),IF(zone="B",OR(T367,U367,X367,Y367,AB367),OR(T367,U367,Z367,AA367,AB367))) -> FALSE | T367: =AND(A367>debutVacToussaint,A367<finVacToussaint) -> FALSE | U367: =AND(A367>debutVacNoel,A367<finVacNoel) -> FALSE | V367: =AND(A367>debutVacHiverA,A367<finVacHiverA) -> FALSE | W367: =AND(A367>debutVacPrintempsA,A367<finVacPrintempsA) -> FALSE | X367: =AND(A367>debutVacHiverB,A367<finVacHiverB) -> FALSE | Y367: =AND(A367>debutVacPrintempsB,A367<finVacPrintempsB) -> FALSE | Z367: =AND(A367>debutVacHiverC,A367<finVacHiverC) -> FALSE | AA367: =AND(A367>debutVacPrintempsB,A367<finVacPrintempsB) -> FALSE | AB367: =AND(A367>debutVacEte,A367<finVacEte) -> FALSE
